BEGIN:VCALENDAR
VERSION:2.0
PRODID:-//worksmartpa - ECPv6.15.20//NONSGML v1.0//EN
CALSCALE:GREGORIAN
METHOD:PUBLISH
X-ORIGINAL-URL:https://www.worksmartpa.com
X-WR-CALDESC:Events for worksmartpa
REFRESH-INTERVAL;VALUE=DURATION:PT1H
X-Robots-Tag:noindex
X-PUBLISHED-TTL:PT1H
BEGIN:VTIMEZONE
TZID:UTC
BEGIN:STANDARD
TZOFFSETFROM:+0000
TZOFFSETTO:+0000
TZNAME:UTC
DTSTART:20200101T000000
END:STANDARD
END:VTIMEZONE
BEGIN:VEVENT
DTSTART;TZID=UTC:20221124T090000
DTEND;TZID=UTC:20221124T163000
DTSTAMP:20260420T123815
CREATED:20220811T142730Z
LAST-MODIFIED:20220811T142730Z
UID:10005177-1669280400-1669307400@www.worksmartpa.com
SUMMARY:Fintech North Manchester Conference
DESCRIPTION:
URL:https://www.worksmartpa.com/event/fintech-north-manchester-conference-2/
LOCATION:University of Manchester\, Whitworth Building\, Oxford Rd\,\, Manchester\, M13 9PL
CATEGORIES:Events
END:VEVENT
BEGIN:VEVENT
DTSTART;TZID=UTC:20211130T100000
DTEND;TZID=UTC:20211130T170000
DTSTAMP:20260420T123815
CREATED:20211007T004311Z
LAST-MODIFIED:20211007T004311Z
UID:10003177-1638266400-1638291600@www.worksmartpa.com
SUMMARY:FinTech North Manchester Conference
DESCRIPTION:The FinTech North Manchester conference is hosted in partnership with Refinitiv\, an LSEG company and one of the world’s largest providers of financial markets data and infrastructure.
URL:https://www.worksmartpa.com/event/fintech-north-manchester-conference/
LOCATION:University of Manchester\, Whitworth Building\, Oxford Rd\,\, Manchester\, M13 9PL
CATEGORIES:Events
END:VEVENT
END:VCALENDAR