BEGIN:VCALENDAR
VERSION:2.0
PRODID:-//worksmartpa - ECPv6.15.20//NONSGML v1.0//EN
CALSCALE:GREGORIAN
METHOD:PUBLISH
X-ORIGINAL-URL:https://www.worksmartpa.com
X-WR-CALDESC:Events for worksmartpa
REFRESH-INTERVAL;VALUE=DURATION:PT1H
X-Robots-Tag:noindex
X-PUBLISHED-TTL:PT1H
BEGIN:VTIMEZONE
TZID:UTC
BEGIN:STANDARD
TZOFFSETFROM:+0000
TZOFFSETTO:+0000
TZNAME:UTC
DTSTART:20220101T000000
END:STANDARD
END:VTIMEZONE
BEGIN:VEVENT
DTSTART;TZID=UTC:20230615T180000
DTEND;TZID=UTC:20230615T200000
DTSTAMP:20260420T225356
CREATED:20230523T001951Z
LAST-MODIFIED:20230523T001951Z
UID:10007284-1686852000-1686859200@www.worksmartpa.com
SUMMARY:Quarterly Networking
DESCRIPTION:
URL:https://www.worksmartpa.com/event/quarterly-networking/
LOCATION:Tavolino Bar & Kitchen\, 2 More London Pl\,\, London\, SE1 2JP\, United Kingdom
CATEGORIES:Events
END:VEVENT
END:VCALENDAR