BEGIN:VCALENDAR
VERSION:2.0
PRODID:-//worksmartpa - ECPv6.15.20//NONSGML v1.0//EN
CALSCALE:GREGORIAN
METHOD:PUBLISH
X-WR-CALNAME:worksmartpa
X-ORIGINAL-URL:https://www.worksmartpa.com
X-WR-CALDESC:Events for worksmartpa
REFRESH-INTERVAL;VALUE=DURATION:PT1H
X-Robots-Tag:noindex
X-PUBLISHED-TTL:PT1H
BEGIN:VTIMEZONE
TZID:UTC
BEGIN:STANDARD
TZOFFSETFROM:+0000
TZOFFSETTO:+0000
TZNAME:UTC
DTSTART:20240101T000000
END:STANDARD
END:VTIMEZONE
BEGIN:VEVENT
DTSTART;TZID=UTC:20250614T080000
DTEND;TZID=UTC:20250614T170000
DTSTAMP:20260420T131333
CREATED:20240303T005330Z
LAST-MODIFIED:20240303T005330Z
UID:10008692-1749888000-1749920400@www.worksmartpa.com
SUMMARY:Flexi-start courses with Hemsley Fraser
DESCRIPTION:Flexi-start – Hemsley Fraser – Team Dynamics\nVenue: Online Self Study\nLink: https://www.hemsleyfraser.com/en-gb/courses/team-development/working-with-others/team-dynamics \nFlexi-start – Hemsley Fraser – High Performing Teams \nVenue: Online Self Study\nLink: https://www.hemsleyfraser.com/en-gb/courses/team-development/driving-performance/high-performing-teams \nFlexi-start – Hemsley Fraser – Working with Others\nVenue: Online Self Study\nLink: https://www.hemsleyfraser.com/en-gb/courses/team-development/working-with-others/working-with-others \nFlexi-start – Hemsley Fraser – Health\nVenue: Online Self Study\nLink: https://www.hemsleyfraser.com/en-gb/courses/wellness-life-skills/health-wellbeing-finances/health \nFlexi-start – Hemsley Fraser – Managing your Finances\nVenue: Online Self Study\nLink: https://www.hemsleyfraser.com/en-gb/courses/wellness-life-skills/health-wellbeing-finances/managing-your-finances \nFlexi-start – Hemsley Fraser – Mental Health\nVenue: Online Self Study\nLink:https://www.hemsleyfraser.com/en-gb/courses/wellness-life-skills/all \nFlexi-start – Hemsley Fraser – Work-Life Balance\nVenue: Online Self Study\nLink: https://www.hemsleyfraser.com/en-gb/courses/wellness-life-skills/health-wellbeing-finances/work-life-balance \nFlexi-start – Hemsley Fraser – Agile Project Management\nVenue: Online Self Study\nLink: https://www.hemsleyfraser.com/en-gb/courses/business-skills/project-management/agile-project-management
URL:https://www.worksmartpa.com/event/flexi-start-courses-with-hemsley-fraser-4/2025-06-14/
LOCATION:Virtual\, On-line\, Virtual\, United Kingdom
CATEGORIES:Courses
END:VEVENT
BEGIN:VEVENT
DTSTART;TZID=UTC:20250614T080000
DTEND;TZID=UTC:20250614T170000
DTSTAMP:20260420T131333
CREATED:20240303T005033Z
LAST-MODIFIED:20240303T005033Z
UID:10008657-1749888000-1749920400@www.worksmartpa.com
SUMMARY:Flexi-start VA Courses with VACT
DESCRIPTION:Flexi-start – VACT – DIY VA Mastery Course\nVenue: Online Self Study\nLink: https://www.vact.co.uk/va-mastery-course/ \nFlexi-start – VACT – DIY VA Mastery Course Enhanced\nVenue: Online Self Study\nLink: https://www.vact.co.uk/va-mastery-course/ \nFlexi-start – VACT – DIY VA Mastery Course Enhanced and Website Builder Course\nVenue: Online Self Study\nLink: https://www.vact.co.uk/training/va-mastery-course/ \nFlexi-start – VACT – Kick Start Your VA Business Course\nVenue: Online\nLink: https://www.vact.co.uk/training/kick-start-va-business/ \nFlexi-start – VACT – Luminary One to One Private Coaching and Mentoring\nVenue: TBC (Flexible)\nLink: https://www.vact.co.uk/training/coaching/ \nFlexi-start – VACT – One Day VA Mastermind\nVenue: Luxury Hotel in Hampshire\nLink: https://www.vact.co.uk/training/one-day-va-mastermind/ \nFlexi-start – VACT – Be Awesome Club\nVenue: Members Online Club\nLink: https://www.vact.co.uk/training/va-be-awesome-club/
URL:https://www.worksmartpa.com/event/flexi-start-va-courses-with-vact-6/2025-06-14/
LOCATION:Virtual\, On-line\, Virtual\, United Kingdom
CATEGORIES:Courses
END:VEVENT
BEGIN:VEVENT
DTSTART;TZID=UTC:20250614T080000
DTEND;TZID=UTC:20250614T170000
DTSTAMP:20260420T131333
CREATED:20240302T190251Z
LAST-MODIFIED:20240303T004443Z
UID:10008464-1749888000-1749920400@www.worksmartpa.com
SUMMARY:Flexi-start ILSPA's Legal Secretary Courses
DESCRIPTION:The Institute of Legal Secretaries and PAs \nDistance Learning Option – Online
URL:https://www.worksmartpa.com/event/flexi-start-ilspas-legal-secretary-courses-3/2025-06-14/
LOCATION:Virtual\, On-line\, Virtual\, United Kingdom
CATEGORIES:Courses
END:VEVENT
BEGIN:VEVENT
DTSTART;TZID=UTC:20250613T100000
DTEND;TZID=UTC:20250613T130000
DTSTAMP:20260420T131333
CREATED:20241203T201127Z
LAST-MODIFIED:20241203T201127Z
UID:10010825-1749808800-1749819600@www.worksmartpa.com
SUMMARY:Goal-Focused Project Delivery
DESCRIPTION:
URL:https://www.worksmartpa.com/event/goal-focused-project-delivery-6/2025-06-13/
LOCATION:Virtual\, On-line\, Virtual\, United Kingdom
CATEGORIES:Courses
END:VEVENT
BEGIN:VEVENT
DTSTART;TZID=UTC:20250612T120000
DTEND;TZID=UTC:20250612T130000
DTSTAMP:20260420T131333
CREATED:20250411T235801Z
LAST-MODIFIED:20250411T235801Z
UID:10011502-1749729600-1749733200@www.worksmartpa.com
SUMMARY:PA Forum Roundtable Discussions
DESCRIPTION:
URL:https://www.worksmartpa.com/event/pa-forum-roundtable-discussions/2025-06-12/
LOCATION:Virtual\, On-line\, Virtual\, United Kingdom
CATEGORIES:Events
END:VEVENT
BEGIN:VEVENT
DTSTART;TZID=UTC:20250612T103000
DTEND;TZID=UTC:20250612T163000
DTSTAMP:20260420T131333
CREATED:20250318T144830Z
LAST-MODIFIED:20250318T144830Z
UID:10011412-1749724200-1749745800@www.worksmartpa.com
SUMMARY:Introduction to Human Resource Management – 2 Days
DESCRIPTION:
URL:https://www.worksmartpa.com/event/introduction-to-human-resource-management-2-days-5/2025-06-12/
LOCATION:Virtual\, On-line\, Virtual\, United Kingdom
CATEGORIES:Courses
END:VEVENT
BEGIN:VEVENT
DTSTART;TZID=UTC:20250612T103000
DTEND;TZID=UTC:20250612T163000
DTSTAMP:20260420T131333
CREATED:20250318T144823Z
LAST-MODIFIED:20250318T144823Z
UID:10011414-1749724200-1749745800@www.worksmartpa.com
SUMMARY:Human Resources Assistant Course - 2 days
DESCRIPTION:
URL:https://www.worksmartpa.com/event/human-resources-assistant-course-2-days-6/2025-06-12/
LOCATION:Virtual\, On-line\, Virtual\, United Kingdom
CATEGORIES:Courses
END:VEVENT
BEGIN:VEVENT
DTSTART;TZID=UTC:20250612T100000
DTEND;TZID=UTC:20250612T130000
DTSTAMP:20260420T131333
CREATED:20250314T015013Z
LAST-MODIFIED:20250314T015013Z
UID:10011362-1749722400-1749733200@www.worksmartpa.com
SUMMARY:Introduction to Management - 2 days
DESCRIPTION:
URL:https://www.worksmartpa.com/event/introduction-to-management-2-days-5/2025-06-12/
LOCATION:Virtual\, On-line\, Virtual\, United Kingdom
CATEGORIES:Courses
END:VEVENT
BEGIN:VEVENT
DTSTART;TZID=UTC:20250612T093000
DTEND;TZID=UTC:20250612T130000
DTSTAMP:20260420T131333
CREATED:20250514T123133Z
LAST-MODIFIED:20250514T123133Z
UID:10011703-1749720600-1749733200@www.worksmartpa.com
SUMMARY:Farm Livestock Record Keeping Requirements
DESCRIPTION:Course 4\, Module 4.1
URL:https://www.worksmartpa.com/event/farm-livestock-record-keeping-requirements-2/
LOCATION:Virtual\, On-line\, Virtual\, United Kingdom
CATEGORIES:Courses
END:VEVENT
BEGIN:VEVENT
DTSTART;TZID=UTC:20250611T170000
DTEND;TZID=UTC:20250611T173000
DTSTAMP:20260420T131333
CREATED:20250603T081326Z
LAST-MODIFIED:20250603T081326Z
UID:10011749-1749661200-1749663000@www.worksmartpa.com
SUMMARY:ChatGPT Isn’t a Tool — It’s a Strategy!
DESCRIPTION:Free Session
URL:https://www.worksmartpa.com/event/chatgpt-isnt-a-tool-its-a-strategy/
LOCATION:Virtual\, On-line\, Virtual\, United Kingdom
CATEGORIES:Courses
END:VEVENT
BEGIN:VEVENT
DTSTART;TZID=UTC:20250610T130000
DTEND;TZID=UTC:20250610T163000
DTSTAMP:20260420T131333
CREATED:20250311T100236Z
LAST-MODIFIED:20250311T100236Z
UID:10011327-1749560400-1749573000@www.worksmartpa.com
SUMMARY:Microsoft Masterclass – 2 Days
DESCRIPTION:This 2 Day Course is delivered online and is split into 4 half days. \n10\, 11\, 18\, 18 June 2025\, 1.00-4.30pm
URL:https://www.worksmartpa.com/event/microsoft-masterclass-2-days-17/
LOCATION:Virtual\, On-line\, Virtual\, United Kingdom
CATEGORIES:Courses
END:VEVENT
BEGIN:VEVENT
DTSTART;TZID=UTC:20250610T130000
DTEND;TZID=UTC:20250610T163000
DTSTAMP:20260420T131333
CREATED:20250311T100234Z
LAST-MODIFIED:20250311T100234Z
UID:10011328-1749560400-1749573000@www.worksmartpa.com
SUMMARY:Outlook Training Course
DESCRIPTION:This 1 day course is delivered online and is split into 2 half days. \n10-11 June 2025\, 1.00-4.30pm
URL:https://www.worksmartpa.com/event/outlook-training-course-6/
LOCATION:Virtual\, On-line\, Virtual\, United Kingdom
CATEGORIES:Courses
END:VEVENT
BEGIN:VEVENT
DTSTART;TZID=UTC:20250610T120000
DTEND;TZID=UTC:20250610T130000
DTSTAMP:20260420T131333
CREATED:20250411T235722Z
LAST-MODIFIED:20250411T235722Z
UID:10011530-1749556800-1749560400@www.worksmartpa.com
SUMMARY:Mental Health & Wellbeing: Building Resilience & Support Systems
DESCRIPTION:
URL:https://www.worksmartpa.com/event/mental-health-wellbeing-building-resilience-support-systems/
LOCATION:Virtual\, On-line\, Virtual\, United Kingdom
CATEGORIES:Courses
END:VEVENT
BEGIN:VEVENT
DTSTART;TZID=UTC:20250608T090000
DTEND;TZID=UTC:20250608T170000
DTSTAMP:20260420T131333
CREATED:20240303T005720Z
LAST-MODIFIED:20240303T005808Z
UID:10008743-1749373200-1749402000@www.worksmartpa.com
SUMMARY:Flexi-start courses with C & C Academy
DESCRIPTION:Learning and Development content includes: \nBuilding Rock Solid Confidence\nMarketing Skills for Support Staff\nCV Workshop\nTaming the Inner Critic
URL:https://www.worksmartpa.com/event/flexi-start-courses-with-c-c-academy-3/2025-06-08/
LOCATION:Virtual\, On-line\, Virtual\, United Kingdom
CATEGORIES:Courses
END:VEVENT
BEGIN:VEVENT
DTSTART;TZID=UTC:20250608T080000
DTEND;TZID=UTC:20250608T170000
DTSTAMP:20260420T131333
CREATED:20240303T005951Z
LAST-MODIFIED:20240303T010052Z
UID:10008777-1749369600-1749402000@www.worksmartpa.com
SUMMARY:Flexi-courses with The Officials
DESCRIPTION:Flexi-Start Courses and Learning and Development Webinars includes: \nCreate the Latest Trends in Social Media with Canva\nProject Management for the Agile Assistant\nEmotional Intelligence in the Workplace\nKick Overwhelm to the Curb\nSuccess Planning for Career Growth\nEmotional Intelligence in the Workplace\nRemote Assistant Success\nGoal Setting & Performance Reviews\nBuilding a Strong Relationship with Your Principal\nEvent Planning & Management 101\nDigital Declutter: Creating Systems to keep you on top of your Game
URL:https://www.worksmartpa.com/event/flexi-courses-with-the-officials-3/2025-06-08/
LOCATION:Virtual\, On-line\, Virtual\, United Kingdom
CATEGORIES:Courses
END:VEVENT
BEGIN:VEVENT
DTSTART;TZID=UTC:20250608T080000
DTEND;TZID=UTC:20250608T170000
DTSTAMP:20260420T131333
CREATED:20240302T185910Z
LAST-MODIFIED:20240303T004626Z
UID:10008567-1749369600-1749402000@www.worksmartpa.com
SUMMARY:Flexi-start courses with AMSPAR
DESCRIPTION:Medical Secretary/Personal Assistant; Receptionist; Clerk; \nHealth Records Staff; Secretary/typist; Telephonist/switchboard operator\nFind your right entry level and progress your career by using AMSPAR qualifications to aspire to whatever level you want to achieve\nFlexi-start – Award in Health Service Administration \nAMSPAR: AMSPAR Certificate in Health Service Administration (amspareducation.org.uk) \nFlexi-start – AMSPAR Approved Basic Med Terminology \nAMSPAR: AMSPAR Approved – Medical Terminology – Basic Introduction (amspareducation.org.uk) \nFlexi-start – AMSPAR Award Level 2 Terminology \nAMSPAR: AMSPAR Award – Medical Terminology – Level 2 (amspareducation.org.uk) \nFlexi-start – AMSPAR Certificate Level 3 Terminology \nAMSPAR: AMSPAR Certificate – Medical Terminology – Level 3 (amspareducation.org.uk) \nFlexi-start – AMSPAR (city & guilds) CQF Level 5 in Primary Care and Health Management \nAMSPAR: AMSPAR DPCHM ~ CQF Level 5 (amspareducation.org.uk) \nFlexi-start courses available – see https://www.amspar.org/
URL:https://www.worksmartpa.com/event/flexi-start-courses-with-amspar-5/2025-06-08/
LOCATION:Virtual\, On-line\, Virtual\, United Kingdom
CATEGORIES:Courses
END:VEVENT
BEGIN:VEVENT
DTSTART;TZID=UTC:20250607T080000
DTEND;TZID=UTC:20250607T170000
DTSTAMP:20260420T131333
CREATED:20240303T010452Z
LAST-MODIFIED:20240303T010452Z
UID:10008845-1749283200-1749315600@www.worksmartpa.com
SUMMARY:Flexi-start course with Souters of London
DESCRIPTION:Flexi-start – Online Microsoft Office Training Courses – Souters Training\nWord/ Excel / PowerPoint / Outlook and Access\nCPD Accredited Microsoft Office Trainer with live interactive trainer\nLink: http://www.souterstraining.com/online-courses\nFlexi-start – CPD Accredited Legal Secretary Course – Souters Training\nThis course is delivered by a live tutor\, who is a barrister with practical experience.\nLink: http://www.souterstraining.com/legal-secretary-courses\nFlexi-start – AAT Level 1 Computerised Accounting with Sage – Souters Training\nVenue: Virtual – 6 weeks\nLink: http://www.souterstraining.com/aat-training/comp-aat\nFlexi-start – Bookkeeping Diploma for Virtual Assistants – Souters Training\nThis is all of the ICB Level II and Level III\, which will take you through to becoming an Associate of the Institute of Certified Bookkeepers.\nThis means that you gain the letter AICB after your name.\nLink: http://www.souterstraining.com/va-course/va-bookkeeping\nFlexi-start – Legal Secretary Course – CPD Accredited – Souters Training\nhttp://www.souterstraining.com/legal-secretary-courses/legal-secretary-course-cpd\nFlexi-start – ICB Bookkeeping Diploma for VAs – Souters Training\nLink: http://www.souterstraining.com/va-course/va-bookkeeping\nFlexi-start – Microsoft Office Diploma – CPD Accredited – Souters Training\nLink: http://www.souterstraining.com/online-courses/mos-training-course\nFlexi-start – Microsoft Word for a PA – CPD Accredited – Souters Training\nLink: http://www.souterstraining.com/microsoft-office-training/microsoft-for-pa\nFlexi-start – Microsoft Excel for a PA – CPD Accredited – Souters Training\nLink: http://www.souterstraining.com/microsoft-office-training/microsoft-for-pa\nFlexi-start – Microsoft Outlook for a PA – CPD Accredited – Souters Training\nLink: http://www.souterstraining.com/microsoft-office-training/microsoft-for-pa\nFlexi-start – Microsoft PowerPoint for a PA – CPD Accredited – Souters Training\nLink: http://www.souterstraining.com/microsoft-office-training/microsoft-for-pa\nFlexi-start – Access – Microsoft Certified – Souters Training\n3 months – Flexible\nLink: http://www.souterstraining.com/microsoft-office-training/microsoft-access-course\nFlexi-start – Audio Course – Souters Training\n1 month  – Flexible\nLink: http://www.souterstraining.com/Secretary_and_PA_Courses/audio-typing-course\nFlexi-start – Beginner Office Skills – Souters Training\n1 month – Flexible\nLink: http://www.souterstraining.com/secretary-course/office-skills-for-beginners\nFlexi-start – Bespoke Excel Training – Souters Training\n1 day – Flexible\nLink: http://www.souterstraining.com/microsoft-office-training/bespoke-excel-training-courses\nFlexi-start – Bespoke Word Training – Souters Training\n1 day  – Flexible\nLink: http://www.souterstraining.com/microsoft-office-training/bespoke-word-courses\nFlexi-start – Excel – Beginner and Proficient Levels – Souters Training\n3 months  -Flexible\nLink: http://www.souterstraining.com/microsoft-office-training/excel-course\nFlexi-start – Excel for Human Resources Professionals – Souters Training\n3 months – Flexible\nLink: http://www.souterstraining.com/microsoft-office-training/excel-human-resource-training\nFlexi-start – Excel Training Course – for a PA – Souters Training\n3 months – Flexible\nLink: http://www.souterstraining.com/microsoft-office-training/advanced-excel-course\nFlexi-start – Microsoft Office Diploma – Souters Training\n3 months – Flexible\nLink: http://www.souterstraining.com/microsoft-office-training/mos-training-course\nFlexi-start – Outlook – Microsoft Certified – Souters Training\n3 months – Flexible\nLink: Link: http://www.souterstraining.com/microsoft-office-training/outlook-course\nFlexi-start – Word – Beginner to Proficient – Souters Training\n3 months – Flexible\nLink: http://www.souterstraining.com/microsoft-office-training/word-course\nFlexi-start – Touch Typing Course Online – Souters Training\n1 month – Flexible\nLink: https://www.souterstraining.com/typing-course\nFlexi-start – Legal Admin Course – Souters Training\n2 months – Flexible\nLink: https://www.souterstraining.com/course-schedule\nFlexi-start – Legal PA Diploma – ACLS Accredited – Souters Training\nVenue: Flexible\nLink https://www.souterstraining.com/course-schedule\nFlexi-start – Data Entry Clerk Course – Souters Training\nLink: https://www.souterstraining.com/online-courses/data-entry-course\nFlexi-start – Excel for Sales and Marketing – Souters Training\n3 months – Flexible\nLink: https://www.souterstraining.com/online-courses/excel-sales\nFlexi-start – PowerPoint Training Course Advanced Level – Souters Training\n3 months – Flexible\nLink: https://www.souterstraining.com/online-courses/powerpoint-training-specialist\nFlexi-start – Legal Secretary Course – ACLS Accredited (Level 3) – Souters Training\n3 months – Flexible\nLink: https://www.souterstraining.com/course-schedule
URL:https://www.worksmartpa.com/event/flexi-start-course-with-souters-of-london-4/2025-06-07/
LOCATION:Virtual\, On-line\, Virtual\, United Kingdom
CATEGORIES:Courses
END:VEVENT
BEGIN:VEVENT
DTSTART;TZID=UTC:20250607T080000
DTEND;TZID=UTC:20250607T170000
DTSTAMP:20260420T131333
CREATED:20240302T190251Z
LAST-MODIFIED:20240303T004443Z
UID:10008463-1749283200-1749315600@www.worksmartpa.com
SUMMARY:Flexi-start ILSPA's Legal Secretary Courses
DESCRIPTION:The Institute of Legal Secretaries and PAs \nDistance Learning Option – Online
URL:https://www.worksmartpa.com/event/flexi-start-ilspas-legal-secretary-courses-3/2025-06-07/
LOCATION:Virtual\, On-line\, Virtual\, United Kingdom
CATEGORIES:Courses
END:VEVENT
BEGIN:VEVENT
DTSTART;TZID=UTC:20250606T093000
DTEND;TZID=UTC:20250606T150000
DTSTAMP:20260420T131333
CREATED:20250514T123133Z
LAST-MODIFIED:20250514T123133Z
UID:10011702-1749202200-1749222000@www.worksmartpa.com
SUMMARY:Managing the Farm Financial Business Performance
DESCRIPTION:Course 3
URL:https://www.worksmartpa.com/event/managing-the-farm-financial-business-performance-2/
LOCATION:Virtual\, On-line\, Virtual\, United Kingdom
CATEGORIES:Courses
END:VEVENT
BEGIN:VEVENT
DTSTART;TZID=UTC:20250606T090000
DTEND;TZID=UTC:20250606T170000
DTSTAMP:20260420T131333
CREATED:20250301T021154Z
LAST-MODIFIED:20250301T021154Z
UID:10011280-1749200400-1749229200@www.worksmartpa.com
SUMMARY:Professional Receptionist Course
DESCRIPTION:
URL:https://www.worksmartpa.com/event/professional-receptionist-course-11/
LOCATION:Virtual\, On-line\, Virtual\, United Kingdom
CATEGORIES:Courses
END:VEVENT
BEGIN:VEVENT
DTSTART;TZID=UTC:20250605T170000
DTEND;TZID=UTC:20250605T180000
DTSTAMP:20260420T131333
CREATED:20250328T090127Z
LAST-MODIFIED:20250328T090127Z
UID:10011447-1749142800-1749146400@www.worksmartpa.com
SUMMARY:Tech Hack
DESCRIPTION:
URL:https://www.worksmartpa.com/event/tech-hack-2/2025-06-05/
LOCATION:Virtual\, On-line\, Virtual\, United Kingdom
CATEGORIES:Courses
END:VEVENT
BEGIN:VEVENT
DTSTART;TZID=UTC:20250605T103000
DTEND;TZID=UTC:20250605T163000
DTSTAMP:20260420T131333
CREATED:20250318T144738Z
LAST-MODIFIED:20250318T144738Z
UID:10011428-1749119400-1749141000@www.worksmartpa.com
SUMMARY:Minute Taking
DESCRIPTION:
URL:https://www.worksmartpa.com/event/minute-taking-27/2025-06-05/
LOCATION:Virtual\, On-line\, Virtual\, United Kingdom
CATEGORIES:Courses
END:VEVENT
BEGIN:VEVENT
DTSTART;TZID=UTC:20250604T100000
DTEND;TZID=UTC:20250604T130000
DTSTAMP:20260420T131333
CREATED:20241201T173434Z
LAST-MODIFIED:20241201T173434Z
UID:10010795-1749031200-1749042000@www.worksmartpa.com
SUMMARY:Leading hybrid teams
DESCRIPTION:
URL:https://www.worksmartpa.com/event/leading-hybrid-teams-4/2025-06-04/
LOCATION:Virtual\, On-line\, Virtual\, United Kingdom
CATEGORIES:Courses
END:VEVENT
BEGIN:VEVENT
DTSTART;TZID=UTC:20250604T090000
DTEND;TZID=UTC:20250604T170000
DTSTAMP:20260420T131334
CREATED:20250301T021148Z
LAST-MODIFIED:20250301T021148Z
UID:10011284-1749027600-1749056400@www.worksmartpa.com
SUMMARY:Introduction to Social Media
DESCRIPTION:
URL:https://www.worksmartpa.com/event/introduction-to-social-media-4/2025-06-04/
LOCATION:Virtual\, On-line\, Virtual\, United Kingdom
CATEGORIES:Courses
END:VEVENT
BEGIN:VEVENT
DTSTART;TZID=UTC:20250603T130000
DTEND;TZID=UTC:20250603T163000
DTSTAMP:20260420T131334
CREATED:20250311T100242Z
LAST-MODIFIED:20250311T100242Z
UID:10011323-1748955600-1748968200@www.worksmartpa.com
SUMMARY:Endorsed PA Course – 2 Days
DESCRIPTION:This 2 day course is delivered online and is split into 4 half days. \nDay 1 – The Assertive Assistant –  3-4 June\, 1.00-4.30pm\nDay 2 – Microsoft Outlook Masterclass – 10-11 June\, 1.00-4.30pm \n 
URL:https://www.worksmartpa.com/event/endorsed-pa-course-2-days-12/
LOCATION:Virtual\, On-line\, Virtual\, United Kingdom
CATEGORIES:Courses
END:VEVENT
BEGIN:VEVENT
DTSTART;TZID=UTC:20250603T130000
DTEND;TZID=UTC:20250603T163000
DTSTAMP:20260420T131334
CREATED:20250311T100240Z
LAST-MODIFIED:20250311T100240Z
UID:10011324-1748955600-1748968200@www.worksmartpa.com
SUMMARY:Endorsed PA Course – 3 Days
DESCRIPTION:This 3 day course is delivered online and is split into 6 half days \nDay 1 – The Assertive Assistant –  3-4 June\, 1.00-4.30pm\nDay 2 –Microsoft Outlook Masterclass – 10-11 June\, 1.00-4.30pm\nDay 3 – Microsoft Word\, PowerPoint and Excel Masterclass – 18-19 June\, 1.00-4.30pm
URL:https://www.worksmartpa.com/event/endorsed-pa-course-3-days-8/
LOCATION:Virtual\, On-line\, Virtual\, United Kingdom
CATEGORIES:Courses
END:VEVENT
BEGIN:VEVENT
DTSTART;TZID=UTC:20250603T130000
DTEND;TZID=UTC:20250603T163000
DTSTAMP:20260420T131334
CREATED:20250311T100239Z
LAST-MODIFIED:20250311T100239Z
UID:10011325-1748955600-1748968200@www.worksmartpa.com
SUMMARY:Endorsed PA Course – 5 Days
DESCRIPTION:Day 1 – The Assertive Assistant –  3-4 June\, 1.00-4.30pm\nDay 2 – Microsoft Outlook Masterclass – 10-11 June\, 1.00-4.30pm\nDay 3 – Microsoft Word\, PowerPoint and Excel Masterclass – 18-19 June\, 1.00-4.30pm\nDay 4 – Intelligent Workflows: The power of ChatGPT\, Copilot\, Forms and Planner – 24-25 June\, 1.00-4.30pm\nDay 5 – Minute Writing made Simple– 1-2 July\, 1.00-4.30pm
URL:https://www.worksmartpa.com/event/endorsed-pa-course-5-days-2/
LOCATION:Virtual\, On-line\, Virtual\, United Kingdom
CATEGORIES:Courses
END:VEVENT
BEGIN:VEVENT
DTSTART;TZID=UTC:20250603T130000
DTEND;TZID=UTC:20250603T163000
DTSTAMP:20260420T131334
CREATED:20250311T100237Z
LAST-MODIFIED:20250311T100237Z
UID:10011326-1748955600-1748968200@www.worksmartpa.com
SUMMARY:The Assertive Assistant
DESCRIPTION:This 1 day course is delivered online and is split into 2 half days. \n3-4 June 2025\, 1.00-4.30pm
URL:https://www.worksmartpa.com/event/the-assertive-assistant-17/
LOCATION:Virtual\, On-line\, Virtual\, United Kingdom
CATEGORIES:Courses
END:VEVENT
BEGIN:VEVENT
DTSTART;TZID=UTC:20250603T120000
DTEND;TZID=UTC:20250603T130000
DTSTAMP:20260420T131334
CREATED:20250411T235623Z
LAST-MODIFIED:20250411T235623Z
UID:10011537-1748952000-1748955600@www.worksmartpa.com
SUMMARY:Internal PA Network Leaders Meeting
DESCRIPTION:
URL:https://www.worksmartpa.com/event/internal-pa-network-leaders-meeting-2/2025-06-03/
LOCATION:Virtual\, On-line\, Virtual\, United Kingdom
CATEGORIES:Courses
END:VEVENT
BEGIN:VEVENT
DTSTART;TZID=UTC:20250602T103000
DTEND;TZID=UTC:20250602T163000
DTSTAMP:20260420T131334
CREATED:20250318T144816Z
LAST-MODIFIED:20250318T144816Z
UID:10011417-1748860200-1748881800@www.worksmartpa.com
SUMMARY:Company Secretary for Assistants Course
DESCRIPTION:
URL:https://www.worksmartpa.com/event/company-secretary-for-assistants-course/2025-06-02/
LOCATION:Virtual\, On-line\, Virtual\, United Kingdom
CATEGORIES:Courses
END:VEVENT
END:VCALENDAR