BEGIN:VCALENDAR
VERSION:2.0
PRODID:-//worksmartpa - ECPv6.15.20//NONSGML v1.0//EN
CALSCALE:GREGORIAN
METHOD:PUBLISH
X-ORIGINAL-URL:https://www.worksmartpa.com
X-WR-CALDESC:Events for worksmartpa
REFRESH-INTERVAL;VALUE=DURATION:PT1H
X-Robots-Tag:noindex
X-PUBLISHED-TTL:PT1H
BEGIN:VTIMEZONE
TZID:UTC
BEGIN:STANDARD
TZOFFSETFROM:+0000
TZOFFSETTO:+0000
TZNAME:UTC
DTSTART:20240101T000000
END:STANDARD
END:VTIMEZONE
BEGIN:VEVENT
DTSTART;TZID=UTC:20250621T080000
DTEND;TZID=UTC:20250621T170000
DTSTAMP:20260419T235458
CREATED:20240303T011506Z
LAST-MODIFIED:20240303T011506Z
UID:10008985-1750492800-1750525200@www.worksmartpa.com
SUMMARY:Flexi-start courses with BSMSA
DESCRIPTION:Flexi-Start Courses with BSMSA \nBritish Society of Medical Secretaries & Administrators (BSMSA) \nVirtual Online Self Study – Short Courses:\nMedical Terminology for Beginners\nBenefitting from an Appraisal\nCustomer Care\nHuman Resources\nSafeguarding Adults\nhttps://www.bsmsa.co.uk/short-courses \nMedical Terminology Courses:\nMedical Terminology for Beginners\nLevel 2 Certificate in Medical Terminology\nLevel 3 Certificate in Medical Terminology\nCity & Guilds Level 3 AMSPAR Certificate in Medical Terminology\nhttps://www.bsmsa.co.uk/medical-terminology-courses \nMedical Receptionist Courses:\nLevel 2 Certificate in Medical Administration\nLevel 3 Certificate in Medical Administration\nLevel 2 Medical Secretary Diploma\nCity & Guilds Level 2 AMSPAR Diploma in Medical Administration\nhttps://www.bsmsa.co.uk/medical-receptionist-courses \nMedical Secretary Courses:\nMedical Secretary Level 3 Diploma\nCity & Guilds Level 2 AMSPAR Diploma in Medical Administration 5528-22\nCity & Guilds Level 2 AMSPAR Diploma in Medical Administration Route 1 5528-23\nhttps://www.bsmsa.co.uk/medical-secretary-courses \nMedical Transcription Courses:\nLevel 2 Certificate in Audio Transcription\nLevel 3 in Audio Transcription\nLevel 2 Certificate in Word Processing\nLevel 3 Certificate in Word Processing\nLevel 2 Audio and Word Processing Pack\nLevel 3 Audio and Word Processing Pack\nFull Level 2 Transcription Pack\nFull Level 3 Transcription Pack\nhttps://www.bsmsa.co.uk/medical-transcription-courses \nManagement Courses:\nLevel 5 Certificate Healthcare Management\nLevel 5 Diploma in Healthcare Management\nCity & Guilds Level 5 Certificate in Primary Care and Healthcare Management 4419-06\nCity & Guilds Level 5 Diploma in Primary Care and Healthcare Management 4419-06\nhttps://www.bsmsa.co.uk/management-courses
URL:https://www.worksmartpa.com/event/flexi-start-courses-with-bsmsa-5/2025-06-21/
LOCATION:Virtual\, On-line\, Virtual\, United Kingdom
CATEGORIES:Courses
END:VEVENT
BEGIN:VEVENT
DTSTART;TZID=UTC:20250621T080000
DTEND;TZID=UTC:20250621T170000
DTSTAMP:20260419T235458
CREATED:20240303T011253Z
LAST-MODIFIED:20240303T011253Z
UID:10008950-1750492800-1750525200@www.worksmartpa.com
SUMMARY:Flexi-Start courses with Your Excellency
DESCRIPTION:Flexi-start – SFJ Awards Level 4 Certificate in Office and Administration Management (4 units) – IAM – Your Excellency \nVenue: On-line\nLink: https://www.yourexcellency.co.uk/training-and-development/ea-pa-qualification/sfj-awards-level-4-certificate/ \nFlexi-start – Unit 1: Management Skills for Senior Administration Staff – IAM – Your Excellency\nVenue: On-line\nLink: https://www.yourexcellency.co.uk/training-and-development/ea-pa-qualification/sfj-awards-level-4-certificate/ \nFlexi-start – Unit 2: Commercial and Business Awareness for Senior Administration Staff – IAM – Your Excellency\nVenue: On-line\nLink: https://www.yourexcellency.co.uk/training-and-development/ea-pa-qualification/sfj-awards-level-4-certificate/ \nFlexi-start – Unit 3: The Role of the Executive Personal Assistant – IAM – Your Excellency\nVenue: On-line\nLink: https://www.yourexcellency.co.uk/training-and-development/ea-pa-qualification/sfj-awards-level-4-certificate/ \nFlexi-start – Unit 4: Effective Office Management – IAM – Your Excellency\nVenue: On-line\nLink: https://www.yourexcellency.co.uk/training-and-development/ea-pa-qualification/sfj-awards-level-4-certificate/ \nFlexi-start – Level 3 Award in Professional PA & Administration Skills (12 units) – IAM – Your Excellency \nVenue: On-line\nLink: https://www.yourexcellency.co.uk/training-and-development/ea-pa-qualification/iq-iam-level-3-award/ \nFlexi-start – Unit 1: Principles of Writing for Business – IAM – Your Excellency \nVenue: On-line\nLink: https://www.yourexcellency.co.uk/training-and-development/ea-pa-qualification/iq-iam-level-3-award/ \nFlexi-start – Unit 2: Principles of Managing Workload – IAM – Your Excellency\nVenue: On-line\nLink: https://www.yourexcellency.co.uk/training-and-development/ea-pa-qualification/iq-iam-level-3-award \nFlexi-start – Unit 3: Principles of Business Event Management – IAM – Your Excellency \nVenue: On-line\nLink: https://www.yourexcellency.co.uk/training-and-development/ea-pa-qualification/iq-iam-level-3-award/ \nFlexi-start – Unit 4: Introduction to Marketing for Administrative Managers – IAM – Your Excellency\nVenue: On-line\nLink: https://www.yourexcellency.co.uk/training-and-development/ea-pa-qualification/iq-iam-level-3-award \nFlexi-start – Unit 5: Introduction to Project Management for Administrative Managers – IAM – Your Excellency \nVenue: On-line\nLink: https://www.yourexcellency.co.uk/training-and-development/ea-pa-qualification/iq-iam-level-3-award/ \nFlexi-start – Unit 6: Principles of the use of NLP to Enhance Communication – IAM – Your Excellency \nVenue: On-line\nLink: https://www.yourexcellency.co.uk/training-and-development/ea-pa-qualification/iq-iam-level-3-award \nFlexi-start – Unit 7: Principles of Persuasion and Influencing Skills for Administrative Managers – IAM – Your Excellency\nVenue: On-line\nLink: https://www.yourexcellency.co.uk/training-and-development/ea-pa-qualification/iq-iam-level-3-award \nFlexi-start – Unit 8: Principles of Human Resources for Administrative Managers – IAM – Your Excellency \nVenue: On-line\nLink: https://www.yourexcellency.co.uk/training-and-development/ea-pa-qualification/iq-iam-level-3-award/ \nFlexi-start – Unit 9: Principles of Finance for Administrative Managers – IAM – Your Excellency \nVenue: On-line\nLink: https://www.yourexcellency.co.uk/training-and-development/ea-pa-qualification/iq-iam-level-3-award/ \nFlexi-start – Unit 10: Produce Minutes of Meetings – IAM – Your Excellency \nVenue: On-line\nLink: https://www.yourexcellency.co.uk/training-and-development/ea-pa-qualification/iq-iam-level-3-award \nFlexi-start – Unit 11: Principles of Self Development – IAM – Your Excellency \nVenue: On-line\nLink: https://www.yourexcellency.co.uk/training-and-development/ea-pa-qualification/iq-iam-level-3-award \nFlexi-start – Unit 12: The Role of the Personal Assistant – IAM – Your Excellency\nVenue: On-line\nLink: https://www.yourexcellency.co.uk/training-and-development/ea-pa-qualification/iq-iam-level-3-award/
URL:https://www.worksmartpa.com/event/flexi-start-courses-with-your-excellency-6/2025-06-21/
LOCATION:Virtual\, On-line\, Virtual\, United Kingdom
CATEGORIES:Courses
END:VEVENT
BEGIN:VEVENT
DTSTART;TZID=UTC:20250621T080000
DTEND;TZID=UTC:20250621T170000
DTSTAMP:20260419T235458
CREATED:20240302T190251Z
LAST-MODIFIED:20240303T004443Z
UID:10008465-1750492800-1750525200@www.worksmartpa.com
SUMMARY:Flexi-start ILSPA's Legal Secretary Courses
DESCRIPTION:The Institute of Legal Secretaries and PAs \nDistance Learning Option – Online
URL:https://www.worksmartpa.com/event/flexi-start-ilspas-legal-secretary-courses-3/2025-06-21/
LOCATION:Virtual\, On-line\, Virtual\, United Kingdom
CATEGORIES:Courses
END:VEVENT
BEGIN:VEVENT
DTSTART;TZID=UTC:20250620T123000
DTEND;TZID=UTC:20250620T133000
DTSTAMP:20260419T235458
CREATED:20250306T020123Z
LAST-MODIFIED:20250306T020123Z
UID:10011289-1750422600-1750426200@www.worksmartpa.com
SUMMARY:The Hormone Cycle
DESCRIPTION:
URL:https://www.worksmartpa.com/event/the-hormone-cycle/
LOCATION:Virtual\, On-line\, Virtual\, United Kingdom
CATEGORIES:Courses
END:VEVENT
BEGIN:VEVENT
DTSTART;TZID=UTC:20250619T100000
DTEND;TZID=UTC:20250619T130000
DTSTAMP:20260419T235458
CREATED:20241201T173418Z
LAST-MODIFIED:20241201T173418Z
UID:10010807-1750327200-1750338000@www.worksmartpa.com
SUMMARY:Understanding Key Financial Statements and Concepts
DESCRIPTION:
URL:https://www.worksmartpa.com/event/understanding-key-financial-statements-and-concepts-5/2025-06-19/
LOCATION:Virtual\, On-line\, Virtual\, United Kingdom
CATEGORIES:Courses
END:VEVENT
BEGIN:VEVENT
DTSTART;TZID=UTC:20250618T130000
DTEND;TZID=UTC:20250618T163000
DTSTAMP:20260419T235458
CREATED:20250311T100232Z
LAST-MODIFIED:20250311T100232Z
UID:10011329-1750251600-1750264200@www.worksmartpa.com
SUMMARY:Word\, PowerPoint and Excel Masterclass
DESCRIPTION:
URL:https://www.worksmartpa.com/event/word-powerpoint-and-excel-masterclass-17/
LOCATION:Virtual\, On-line\, Virtual\, United Kingdom
CATEGORIES:Courses
END:VEVENT
BEGIN:VEVENT
DTSTART;TZID=UTC:20250618T120000
DTEND;TZID=UTC:20250618T123000
DTSTAMP:20260419T235458
CREATED:20250411T235743Z
LAST-MODIFIED:20250411T235743Z
UID:10011512-1750248000-1750249800@www.worksmartpa.com
SUMMARY:Macildowie Monthly CV Writing Workshop
DESCRIPTION:
URL:https://www.worksmartpa.com/event/macildowie-monthly-cv-writing-workshop/2025-06-18/
LOCATION:Virtual\, On-line\, Virtual\, United Kingdom
CATEGORIES:Courses
END:VEVENT
BEGIN:VEVENT
DTSTART;TZID=UTC:20250618T100000
DTEND;TZID=UTC:20250618T130000
DTSTAMP:20260419T235458
CREATED:20241201T173429Z
LAST-MODIFIED:20241201T173429Z
UID:10010799-1750240800-1750251600@www.worksmartpa.com
SUMMARY:Building Resilience in Self and Others
DESCRIPTION:
URL:https://www.worksmartpa.com/event/building-resilience-in-self-and-others-7/2025-06-18/
LOCATION:Virtual\, On-line\, Virtual\, United Kingdom
CATEGORIES:Courses
END:VEVENT
BEGIN:VEVENT
DTSTART;TZID=UTC:20250616T140000
DTEND;TZID=UTC:20250616T170000
DTSTAMP:20260419T235458
CREATED:20241201T173431Z
LAST-MODIFIED:20241201T173431Z
UID:10010797-1750082400-1750093200@www.worksmartpa.com
SUMMARY:Advanced Management Skills - 2 days
DESCRIPTION:
URL:https://www.worksmartpa.com/event/advanced-management-skills-2-days-2/2025-06-16/
LOCATION:Virtual\, On-line\, Virtual\, United Kingdom
CATEGORIES:Courses
END:VEVENT
BEGIN:VEVENT
DTSTART;TZID=UTC:20250616T090000
DTEND;TZID=UTC:20250616T170000
DTSTAMP:20260419T235458
CREATED:20250402T015744Z
LAST-MODIFIED:20250402T015744Z
UID:10011486-1750064400-1750093200@www.worksmartpa.com
SUMMARY:PA Diploma – Level 3
DESCRIPTION:
URL:https://www.worksmartpa.com/event/pa-diploma-level-3-5/2025-06-16/
LOCATION:Virtual\, On-line\, Virtual\, United Kingdom
CATEGORIES:Courses
END:VEVENT
BEGIN:VEVENT
DTSTART;TZID=UTC:20250616T090000
DTEND;TZID=UTC:20250616T170000
DTSTAMP:20260419T235458
CREATED:20250402T015743Z
LAST-MODIFIED:20250402T015743Z
UID:10011479-1750064400-1750093200@www.worksmartpa.com
SUMMARY:PA Certificate Course – Level 3 (5 days)
DESCRIPTION:
URL:https://www.worksmartpa.com/event/pa-certificate-course-level-3-5-days-6/2025-06-16/
LOCATION:Virtual\, On-line\, Virtual\, United Kingdom
CATEGORIES:Courses
END:VEVENT
BEGIN:VEVENT
DTSTART;TZID=UTC:20250616T090000
DTEND;TZID=UTC:20250616T170000
DTSTAMP:20260419T235458
CREATED:20250402T015743Z
LAST-MODIFIED:20250402T015743Z
UID:10011484-1750064400-1750093200@www.worksmartpa.com
SUMMARY:PA Course (3 days)
DESCRIPTION:
URL:https://www.worksmartpa.com/event/pa-course-3-days-11/2025-06-16/
LOCATION:Virtual\, On-line\, Virtual\, United Kingdom
CATEGORIES:Courses
END:VEVENT
BEGIN:VEVENT
DTSTART;TZID=UTC:20250616T090000
DTEND;TZID=UTC:20250616T170000
DTSTAMP:20260419T235458
CREATED:20250402T015741Z
LAST-MODIFIED:20250402T015741Z
UID:10011491-1750064400-1750093200@www.worksmartpa.com
SUMMARY:Executive PA Diploma- Level 4
DESCRIPTION:
URL:https://www.worksmartpa.com/event/executive-pa-diploma-level-4-7/2025-06-16/
LOCATION:Virtual\, On-line\, Virtual\, United Kingdom
CATEGORIES:Courses
END:VEVENT
BEGIN:VEVENT
DTSTART;TZID=UTC:20250615T080000
DTEND;TZID=UTC:20250615T170000
DTSTAMP:20260419T235458
CREATED:20240303T004804Z
LAST-MODIFIED:20240303T004804Z
UID:10008622-1749974400-1750006800@www.worksmartpa.com
SUMMARY:Flexi-start courses with Practically Perfect PA
DESCRIPTION:Flexi – start – Assistant Essentials – Practically Perfect PA\nVenue: On-line\nLink: https://practicallyperfectpa.teachable.com/p/assistant-essentials \nFlexi – start – The Assistant Mindset – Practically Perfect PA\nVenue: On-line\nLink: https://practicallyperfectpa.teachable.com/p/the-assistant-mindset \nFlexi – start – The Assistant Mindset – Level 2 – Practically Perfect PA\nVenue: On-line\nLink: https://courses.practicallyperfectpa.com/p/the-assistant-mindset-level-two \nFlexi – start – Productivity and Time Management for Assistants – Practically Perfect PA\nVenue: On-line\nLink: https://practicallyperfectpa.teachable.com/p/productivityforassistants \nFlexi – start – The Unrivalled Assistant – Practically Perfect PA\nVenue: On-line\nLink: https://practicallyperfectpa.teachable.com/p/the-unrivalled-assistant-online-course \nFlexi – start – The Strategic Assistant – Practically Perfect PA\nVenue: On-line\nLink: https://practicallyperfectpa.teachable.com/p/the-strategic-assistant-course
URL:https://www.worksmartpa.com/event/flexi-start-courses-with-practically-perfect-pa-5/2025-06-15/
LOCATION:Virtual\, On-line\, Virtual\, United Kingdom
CATEGORIES:Courses
END:VEVENT
BEGIN:VEVENT
DTSTART;TZID=UTC:20250615T080000
DTEND;TZID=UTC:20250615T170000
DTSTAMP:20260419T235458
CREATED:20240303T003735Z
LAST-MODIFIED:20240303T004236Z
UID:10008536-1749974400-1750006800@www.worksmartpa.com
SUMMARY:Flexi-start courses with Lewis College
DESCRIPTION:On-line Courses – choose from: \nEA & PA Courses \nMedical Secretarial Courses \nAdministration Courses \nIndividual Diplomas: Business\, IT\, Teeline Shorthand etc.
URL:https://www.worksmartpa.com/event/flexi-start-courses-with-lewis-college/2025-06-15/
LOCATION:Virtual\, On-line\, Virtual\, United Kingdom
CATEGORIES:Courses
END:VEVENT
BEGIN:VEVENT
DTSTART;TZID=UTC:20250615T080000
DTEND;TZID=UTC:20250615T170000
DTSTAMP:20260419T235458
CREATED:20240302T185910Z
LAST-MODIFIED:20240303T004626Z
UID:10008568-1749974400-1750006800@www.worksmartpa.com
SUMMARY:Flexi-start courses with AMSPAR
DESCRIPTION:Medical Secretary/Personal Assistant; Receptionist; Clerk; \nHealth Records Staff; Secretary/typist; Telephonist/switchboard operator\nFind your right entry level and progress your career by using AMSPAR qualifications to aspire to whatever level you want to achieve\nFlexi-start – Award in Health Service Administration \nAMSPAR: AMSPAR Certificate in Health Service Administration (amspareducation.org.uk) \nFlexi-start – AMSPAR Approved Basic Med Terminology \nAMSPAR: AMSPAR Approved – Medical Terminology – Basic Introduction (amspareducation.org.uk) \nFlexi-start – AMSPAR Award Level 2 Terminology \nAMSPAR: AMSPAR Award – Medical Terminology – Level 2 (amspareducation.org.uk) \nFlexi-start – AMSPAR Certificate Level 3 Terminology \nAMSPAR: AMSPAR Certificate – Medical Terminology – Level 3 (amspareducation.org.uk) \nFlexi-start – AMSPAR (city & guilds) CQF Level 5 in Primary Care and Health Management \nAMSPAR: AMSPAR DPCHM ~ CQF Level 5 (amspareducation.org.uk) \nFlexi-start courses available – see https://www.amspar.org/
URL:https://www.worksmartpa.com/event/flexi-start-courses-with-amspar-5/2025-06-15/
LOCATION:Virtual\, On-line\, Virtual\, United Kingdom
CATEGORIES:Courses
END:VEVENT
BEGIN:VEVENT
DTSTART;TZID=UTC:20250614T080000
DTEND;TZID=UTC:20250614T170000
DTSTAMP:20260419T235458
CREATED:20240303T005330Z
LAST-MODIFIED:20240303T005330Z
UID:10008692-1749888000-1749920400@www.worksmartpa.com
SUMMARY:Flexi-start courses with Hemsley Fraser
DESCRIPTION:Flexi-start – Hemsley Fraser – Team Dynamics\nVenue: Online Self Study\nLink: https://www.hemsleyfraser.com/en-gb/courses/team-development/working-with-others/team-dynamics \nFlexi-start – Hemsley Fraser – High Performing Teams \nVenue: Online Self Study\nLink: https://www.hemsleyfraser.com/en-gb/courses/team-development/driving-performance/high-performing-teams \nFlexi-start – Hemsley Fraser – Working with Others\nVenue: Online Self Study\nLink: https://www.hemsleyfraser.com/en-gb/courses/team-development/working-with-others/working-with-others \nFlexi-start – Hemsley Fraser – Health\nVenue: Online Self Study\nLink: https://www.hemsleyfraser.com/en-gb/courses/wellness-life-skills/health-wellbeing-finances/health \nFlexi-start – Hemsley Fraser – Managing your Finances\nVenue: Online Self Study\nLink: https://www.hemsleyfraser.com/en-gb/courses/wellness-life-skills/health-wellbeing-finances/managing-your-finances \nFlexi-start – Hemsley Fraser – Mental Health\nVenue: Online Self Study\nLink:https://www.hemsleyfraser.com/en-gb/courses/wellness-life-skills/all \nFlexi-start – Hemsley Fraser – Work-Life Balance\nVenue: Online Self Study\nLink: https://www.hemsleyfraser.com/en-gb/courses/wellness-life-skills/health-wellbeing-finances/work-life-balance \nFlexi-start – Hemsley Fraser – Agile Project Management\nVenue: Online Self Study\nLink: https://www.hemsleyfraser.com/en-gb/courses/business-skills/project-management/agile-project-management
URL:https://www.worksmartpa.com/event/flexi-start-courses-with-hemsley-fraser-4/2025-06-14/
LOCATION:Virtual\, On-line\, Virtual\, United Kingdom
CATEGORIES:Courses
END:VEVENT
BEGIN:VEVENT
DTSTART;TZID=UTC:20250614T080000
DTEND;TZID=UTC:20250614T170000
DTSTAMP:20260419T235458
CREATED:20240303T005033Z
LAST-MODIFIED:20240303T005033Z
UID:10008657-1749888000-1749920400@www.worksmartpa.com
SUMMARY:Flexi-start VA Courses with VACT
DESCRIPTION:Flexi-start – VACT – DIY VA Mastery Course\nVenue: Online Self Study\nLink: https://www.vact.co.uk/va-mastery-course/ \nFlexi-start – VACT – DIY VA Mastery Course Enhanced\nVenue: Online Self Study\nLink: https://www.vact.co.uk/va-mastery-course/ \nFlexi-start – VACT – DIY VA Mastery Course Enhanced and Website Builder Course\nVenue: Online Self Study\nLink: https://www.vact.co.uk/training/va-mastery-course/ \nFlexi-start – VACT – Kick Start Your VA Business Course\nVenue: Online\nLink: https://www.vact.co.uk/training/kick-start-va-business/ \nFlexi-start – VACT – Luminary One to One Private Coaching and Mentoring\nVenue: TBC (Flexible)\nLink: https://www.vact.co.uk/training/coaching/ \nFlexi-start – VACT – One Day VA Mastermind\nVenue: Luxury Hotel in Hampshire\nLink: https://www.vact.co.uk/training/one-day-va-mastermind/ \nFlexi-start – VACT – Be Awesome Club\nVenue: Members Online Club\nLink: https://www.vact.co.uk/training/va-be-awesome-club/
URL:https://www.worksmartpa.com/event/flexi-start-va-courses-with-vact-6/2025-06-14/
LOCATION:Virtual\, On-line\, Virtual\, United Kingdom
CATEGORIES:Courses
END:VEVENT
BEGIN:VEVENT
DTSTART;TZID=UTC:20250614T080000
DTEND;TZID=UTC:20250614T170000
DTSTAMP:20260419T235458
CREATED:20240302T190251Z
LAST-MODIFIED:20240303T004443Z
UID:10008464-1749888000-1749920400@www.worksmartpa.com
SUMMARY:Flexi-start ILSPA's Legal Secretary Courses
DESCRIPTION:The Institute of Legal Secretaries and PAs \nDistance Learning Option – Online
URL:https://www.worksmartpa.com/event/flexi-start-ilspas-legal-secretary-courses-3/2025-06-14/
LOCATION:Virtual\, On-line\, Virtual\, United Kingdom
CATEGORIES:Courses
END:VEVENT
BEGIN:VEVENT
DTSTART;TZID=UTC:20250613T100000
DTEND;TZID=UTC:20250613T130000
DTSTAMP:20260419T235458
CREATED:20241203T201127Z
LAST-MODIFIED:20241203T201127Z
UID:10010825-1749808800-1749819600@www.worksmartpa.com
SUMMARY:Goal-Focused Project Delivery
DESCRIPTION:
URL:https://www.worksmartpa.com/event/goal-focused-project-delivery-6/2025-06-13/
LOCATION:Virtual\, On-line\, Virtual\, United Kingdom
CATEGORIES:Courses
END:VEVENT
BEGIN:VEVENT
DTSTART;TZID=UTC:20250612T120000
DTEND;TZID=UTC:20250612T130000
DTSTAMP:20260419T235458
CREATED:20250411T235801Z
LAST-MODIFIED:20250411T235801Z
UID:10011502-1749729600-1749733200@www.worksmartpa.com
SUMMARY:PA Forum Roundtable Discussions
DESCRIPTION:
URL:https://www.worksmartpa.com/event/pa-forum-roundtable-discussions/2025-06-12/
LOCATION:Virtual\, On-line\, Virtual\, United Kingdom
CATEGORIES:Events
END:VEVENT
BEGIN:VEVENT
DTSTART;TZID=UTC:20250612T103000
DTEND;TZID=UTC:20250612T163000
DTSTAMP:20260419T235459
CREATED:20250318T144830Z
LAST-MODIFIED:20250318T144830Z
UID:10011412-1749724200-1749745800@www.worksmartpa.com
SUMMARY:Introduction to Human Resource Management – 2 Days
DESCRIPTION:
URL:https://www.worksmartpa.com/event/introduction-to-human-resource-management-2-days-5/2025-06-12/
LOCATION:Virtual\, On-line\, Virtual\, United Kingdom
CATEGORIES:Courses
END:VEVENT
BEGIN:VEVENT
DTSTART;TZID=UTC:20250612T103000
DTEND;TZID=UTC:20250612T163000
DTSTAMP:20260419T235459
CREATED:20250318T144823Z
LAST-MODIFIED:20250318T144823Z
UID:10011414-1749724200-1749745800@www.worksmartpa.com
SUMMARY:Human Resources Assistant Course - 2 days
DESCRIPTION:
URL:https://www.worksmartpa.com/event/human-resources-assistant-course-2-days-6/2025-06-12/
LOCATION:Virtual\, On-line\, Virtual\, United Kingdom
CATEGORIES:Courses
END:VEVENT
BEGIN:VEVENT
DTSTART;TZID=UTC:20250612T100000
DTEND;TZID=UTC:20250612T130000
DTSTAMP:20260419T235459
CREATED:20250314T015013Z
LAST-MODIFIED:20250314T015013Z
UID:10011362-1749722400-1749733200@www.worksmartpa.com
SUMMARY:Introduction to Management - 2 days
DESCRIPTION:
URL:https://www.worksmartpa.com/event/introduction-to-management-2-days-5/2025-06-12/
LOCATION:Virtual\, On-line\, Virtual\, United Kingdom
CATEGORIES:Courses
END:VEVENT
BEGIN:VEVENT
DTSTART;TZID=UTC:20250612T093000
DTEND;TZID=UTC:20250612T130000
DTSTAMP:20260419T235459
CREATED:20250514T123133Z
LAST-MODIFIED:20250514T123133Z
UID:10011703-1749720600-1749733200@www.worksmartpa.com
SUMMARY:Farm Livestock Record Keeping Requirements
DESCRIPTION:Course 4\, Module 4.1
URL:https://www.worksmartpa.com/event/farm-livestock-record-keeping-requirements-2/
LOCATION:Virtual\, On-line\, Virtual\, United Kingdom
CATEGORIES:Courses
END:VEVENT
BEGIN:VEVENT
DTSTART;TZID=UTC:20250611T170000
DTEND;TZID=UTC:20250611T173000
DTSTAMP:20260419T235459
CREATED:20250603T081326Z
LAST-MODIFIED:20250603T081326Z
UID:10011749-1749661200-1749663000@www.worksmartpa.com
SUMMARY:ChatGPT Isn’t a Tool — It’s a Strategy!
DESCRIPTION:Free Session
URL:https://www.worksmartpa.com/event/chatgpt-isnt-a-tool-its-a-strategy/
LOCATION:Virtual\, On-line\, Virtual\, United Kingdom
CATEGORIES:Courses
END:VEVENT
BEGIN:VEVENT
DTSTART;TZID=UTC:20250610T130000
DTEND;TZID=UTC:20250610T163000
DTSTAMP:20260419T235459
CREATED:20250311T100236Z
LAST-MODIFIED:20250311T100236Z
UID:10011327-1749560400-1749573000@www.worksmartpa.com
SUMMARY:Microsoft Masterclass – 2 Days
DESCRIPTION:This 2 Day Course is delivered online and is split into 4 half days. \n10\, 11\, 18\, 18 June 2025\, 1.00-4.30pm
URL:https://www.worksmartpa.com/event/microsoft-masterclass-2-days-17/
LOCATION:Virtual\, On-line\, Virtual\, United Kingdom
CATEGORIES:Courses
END:VEVENT
BEGIN:VEVENT
DTSTART;TZID=UTC:20250610T130000
DTEND;TZID=UTC:20250610T163000
DTSTAMP:20260419T235459
CREATED:20250311T100234Z
LAST-MODIFIED:20250311T100234Z
UID:10011328-1749560400-1749573000@www.worksmartpa.com
SUMMARY:Outlook Training Course
DESCRIPTION:This 1 day course is delivered online and is split into 2 half days. \n10-11 June 2025\, 1.00-4.30pm
URL:https://www.worksmartpa.com/event/outlook-training-course-6/
LOCATION:Virtual\, On-line\, Virtual\, United Kingdom
CATEGORIES:Courses
END:VEVENT
BEGIN:VEVENT
DTSTART;TZID=UTC:20250610T120000
DTEND;TZID=UTC:20250610T130000
DTSTAMP:20260419T235459
CREATED:20250411T235722Z
LAST-MODIFIED:20250411T235722Z
UID:10011530-1749556800-1749560400@www.worksmartpa.com
SUMMARY:Mental Health & Wellbeing: Building Resilience & Support Systems
DESCRIPTION:
URL:https://www.worksmartpa.com/event/mental-health-wellbeing-building-resilience-support-systems/
LOCATION:Virtual\, On-line\, Virtual\, United Kingdom
CATEGORIES:Courses
END:VEVENT
BEGIN:VEVENT
DTSTART;TZID=UTC:20250608T090000
DTEND;TZID=UTC:20250608T170000
DTSTAMP:20260419T235459
CREATED:20240303T005720Z
LAST-MODIFIED:20240303T005808Z
UID:10008743-1749373200-1749402000@www.worksmartpa.com
SUMMARY:Flexi-start courses with C & C Academy
DESCRIPTION:Learning and Development content includes: \nBuilding Rock Solid Confidence\nMarketing Skills for Support Staff\nCV Workshop\nTaming the Inner Critic
URL:https://www.worksmartpa.com/event/flexi-start-courses-with-c-c-academy-3/2025-06-08/
LOCATION:Virtual\, On-line\, Virtual\, United Kingdom
CATEGORIES:Courses
END:VEVENT
END:VCALENDAR