BEGIN:VCALENDAR
VERSION:2.0
PRODID:-//worksmartpa - ECPv6.15.20//NONSGML v1.0//EN
CALSCALE:GREGORIAN
METHOD:PUBLISH
X-ORIGINAL-URL:https://www.worksmartpa.com
X-WR-CALDESC:Events for worksmartpa
REFRESH-INTERVAL;VALUE=DURATION:PT1H
X-Robots-Tag:noindex
X-PUBLISHED-TTL:PT1H
BEGIN:VTIMEZONE
TZID:UTC
BEGIN:STANDARD
TZOFFSETFROM:+0000
TZOFFSETTO:+0000
TZNAME:UTC
DTSTART:20240101T000000
END:STANDARD
END:VTIMEZONE
BEGIN:VEVENT
DTSTART;TZID=UTC:20250705T080000
DTEND;TZID=UTC:20250705T170000
DTSTAMP:20260420T035313
CREATED:20240302T190251Z
LAST-MODIFIED:20240303T004443Z
UID:10008467-1751702400-1751734800@www.worksmartpa.com
SUMMARY:Flexi-start ILSPA's Legal Secretary Courses
DESCRIPTION:The Institute of Legal Secretaries and PAs \nDistance Learning Option – Online
URL:https://www.worksmartpa.com/event/flexi-start-ilspas-legal-secretary-courses-3/2025-07-05/
LOCATION:Virtual\, On-line\, Virtual\, United Kingdom
CATEGORIES:Courses
END:VEVENT
BEGIN:VEVENT
DTSTART;TZID=UTC:20250704T123000
DTEND;TZID=UTC:20250704T133000
DTSTAMP:20260420T035313
CREATED:20250514T123136Z
LAST-MODIFIED:20250514T123136Z
UID:10011690-1751632200-1751635800@www.worksmartpa.com
SUMMARY:CV Interview and Brand Awareness
DESCRIPTION:Complimentary Power Hour
URL:https://www.worksmartpa.com/event/cv-interview-and-brand-awareness/
LOCATION:Virtual\, On-line\, Virtual\, United Kingdom
CATEGORIES:Courses
END:VEVENT
BEGIN:VEVENT
DTSTART;TZID=UTC:20250703T170000
DTEND;TZID=UTC:20250703T180000
DTSTAMP:20260420T035313
CREATED:20250328T090127Z
LAST-MODIFIED:20250328T090127Z
UID:10011448-1751562000-1751565600@www.worksmartpa.com
SUMMARY:Tech Hack
DESCRIPTION:
URL:https://www.worksmartpa.com/event/tech-hack-2/2025-07-03/
LOCATION:Virtual\, On-line\, Virtual\, United Kingdom
CATEGORIES:Courses
END:VEVENT
BEGIN:VEVENT
DTSTART;TZID=UTC:20250703T120000
DTEND;TZID=UTC:20250703T130000
DTSTAMP:20260420T035313
CREATED:20250411T235719Z
LAST-MODIFIED:20250411T235719Z
UID:10011531-1751544000-1751547600@www.worksmartpa.com
SUMMARY:Difficult Conversations & Skills for Success
DESCRIPTION:Members Only
URL:https://www.worksmartpa.com/event/difficult-conversations-skills-for-success/
LOCATION:Virtual\, On-line\, Virtual\, United Kingdom
CATEGORIES:Courses
END:VEVENT
BEGIN:VEVENT
DTSTART;TZID=UTC:20250703T100000
DTEND;TZID=UTC:20250703T130000
DTSTAMP:20260420T035313
CREATED:20250314T015000Z
LAST-MODIFIED:20250314T015000Z
UID:10011370-1751536800-1751547600@www.worksmartpa.com
SUMMARY:Building Resilience in Self and Others
DESCRIPTION:
URL:https://www.worksmartpa.com/event/building-resilience-in-self-and-others-8/2025-07-03/
LOCATION:Virtual\, On-line\, Virtual\, United Kingdom
CATEGORIES:Courses
END:VEVENT
BEGIN:VEVENT
DTSTART;TZID=UTC:20250703T090000
DTEND;TZID=UTC:20250703T170000
DTSTAMP:20260420T035313
CREATED:20250603T081331Z
LAST-MODIFIED:20250603T081331Z
UID:10011730-1751533200-1751562000@www.worksmartpa.com
SUMMARY:Office Manager Health & Safety Course
DESCRIPTION:
URL:https://www.worksmartpa.com/event/office-manager-health-safety-course/2025-07-03/
LOCATION:Virtual\, On-line\, Virtual\, United Kingdom
CATEGORIES:Courses
END:VEVENT
BEGIN:VEVENT
DTSTART;TZID=UTC:20250702T140000
DTEND;TZID=UTC:20250702T170000
DTSTAMP:20260420T035313
CREATED:20250314T015013Z
LAST-MODIFIED:20250314T015013Z
UID:10011363-1751464800-1751475600@www.worksmartpa.com
SUMMARY:Introduction to Management - 2 days
DESCRIPTION:
URL:https://www.worksmartpa.com/event/introduction-to-management-2-days-5/2025-07-02/
LOCATION:Virtual\, On-line\, Virtual\, United Kingdom
CATEGORIES:Courses
END:VEVENT
BEGIN:VEVENT
DTSTART;TZID=UTC:20250702T123000
DTEND;TZID=UTC:20250702T133000
DTSTAMP:20260420T035313
CREATED:20250706T095322Z
LAST-MODIFIED:20250706T095322Z
UID:10011780-1751459400-1751463000@www.worksmartpa.com
SUMMARY:Imposter Phenomenon
DESCRIPTION:
URL:https://www.worksmartpa.com/event/imposter-phenomenon/
LOCATION:Virtual\, On-line\, Virtual\, United Kingdom
CATEGORIES:Courses
END:VEVENT
BEGIN:VEVENT
DTSTART;TZID=UTC:20250702T090000
DTEND;TZID=UTC:20250702T170000
DTSTAMP:20260420T035313
CREATED:20250402T015742Z
LAST-MODIFIED:20250402T015742Z
UID:10011494-1751446800-1751475600@www.worksmartpa.com
SUMMARY:Office Manager Course (3 days)
DESCRIPTION:
URL:https://www.worksmartpa.com/event/office-manager-course-3-days-5/2025-07-02/
LOCATION:Virtual\, On-line\, Virtual\, United Kingdom
CATEGORIES:Courses
END:VEVENT
BEGIN:VEVENT
DTSTART;TZID=UTC:20250701T130000
DTEND;TZID=UTC:20250701T163000
DTSTAMP:20260420T035313
CREATED:20250311T100229Z
LAST-MODIFIED:20250311T100229Z
UID:10011331-1751374800-1751387400@www.worksmartpa.com
SUMMARY:Minute Taking Course
DESCRIPTION:Delivered over 2 half days: \n1-2 July\, 1.00-4.30pm
URL:https://www.worksmartpa.com/event/minute-taking-course-13/
LOCATION:Virtual\, On-line\, Virtual\, United Kingdom
CATEGORIES:Courses
END:VEVENT
BEGIN:VEVENT
DTSTART;TZID=UTC:20250701T123000
DTEND;TZID=UTC:20250701T133000
DTSTAMP:20260420T035313
CREATED:20250706T095324Z
LAST-MODIFIED:20250706T095324Z
UID:10011779-1751373000-1751376600@www.worksmartpa.com
SUMMARY:Conducting a Personal S.W.O.T. analysis
DESCRIPTION:
URL:https://www.worksmartpa.com/event/conducting-a-personal-s-w-o-t-analysis-4/
LOCATION:Virtual\, On-line\, Virtual\, United Kingdom
CATEGORIES:Courses
END:VEVENT
BEGIN:VEVENT
DTSTART;TZID=UTC:20250629T090000
DTEND;TZID=UTC:20250629T170000
DTSTAMP:20260420T035313
CREATED:20240303T005720Z
LAST-MODIFIED:20240303T005808Z
UID:10008744-1751187600-1751216400@www.worksmartpa.com
SUMMARY:Flexi-start courses with C & C Academy
DESCRIPTION:Learning and Development content includes: \nBuilding Rock Solid Confidence\nMarketing Skills for Support Staff\nCV Workshop\nTaming the Inner Critic
URL:https://www.worksmartpa.com/event/flexi-start-courses-with-c-c-academy-3/2025-06-29/
LOCATION:Virtual\, On-line\, Virtual\, United Kingdom
CATEGORIES:Courses
END:VEVENT
BEGIN:VEVENT
DTSTART;TZID=UTC:20250629T080000
DTEND;TZID=UTC:20250629T170000
DTSTAMP:20260420T035313
CREATED:20240303T005951Z
LAST-MODIFIED:20240303T010052Z
UID:10008778-1751184000-1751216400@www.worksmartpa.com
SUMMARY:Flexi-courses with The Officials
DESCRIPTION:Flexi-Start Courses and Learning and Development Webinars includes: \nCreate the Latest Trends in Social Media with Canva\nProject Management for the Agile Assistant\nEmotional Intelligence in the Workplace\nKick Overwhelm to the Curb\nSuccess Planning for Career Growth\nEmotional Intelligence in the Workplace\nRemote Assistant Success\nGoal Setting & Performance Reviews\nBuilding a Strong Relationship with Your Principal\nEvent Planning & Management 101\nDigital Declutter: Creating Systems to keep you on top of your Game
URL:https://www.worksmartpa.com/event/flexi-courses-with-the-officials-3/2025-06-29/
LOCATION:Virtual\, On-line\, Virtual\, United Kingdom
CATEGORIES:Courses
END:VEVENT
BEGIN:VEVENT
DTSTART;TZID=UTC:20250629T080000
DTEND;TZID=UTC:20250629T170000
DTSTAMP:20260420T035313
CREATED:20240302T185910Z
LAST-MODIFIED:20240303T004626Z
UID:10008570-1751184000-1751216400@www.worksmartpa.com
SUMMARY:Flexi-start courses with AMSPAR
DESCRIPTION:Medical Secretary/Personal Assistant; Receptionist; Clerk; \nHealth Records Staff; Secretary/typist; Telephonist/switchboard operator\nFind your right entry level and progress your career by using AMSPAR qualifications to aspire to whatever level you want to achieve\nFlexi-start – Award in Health Service Administration \nAMSPAR: AMSPAR Certificate in Health Service Administration (amspareducation.org.uk) \nFlexi-start – AMSPAR Approved Basic Med Terminology \nAMSPAR: AMSPAR Approved – Medical Terminology – Basic Introduction (amspareducation.org.uk) \nFlexi-start – AMSPAR Award Level 2 Terminology \nAMSPAR: AMSPAR Award – Medical Terminology – Level 2 (amspareducation.org.uk) \nFlexi-start – AMSPAR Certificate Level 3 Terminology \nAMSPAR: AMSPAR Certificate – Medical Terminology – Level 3 (amspareducation.org.uk) \nFlexi-start – AMSPAR (city & guilds) CQF Level 5 in Primary Care and Health Management \nAMSPAR: AMSPAR DPCHM ~ CQF Level 5 (amspareducation.org.uk) \nFlexi-start courses available – see https://www.amspar.org/
URL:https://www.worksmartpa.com/event/flexi-start-courses-with-amspar-5/2025-06-29/
LOCATION:Virtual\, On-line\, Virtual\, United Kingdom
CATEGORIES:Courses
END:VEVENT
BEGIN:VEVENT
DTSTART;TZID=UTC:20250628T080000
DTEND;TZID=UTC:20250628T170000
DTSTAMP:20260420T035313
CREATED:20240303T010452Z
LAST-MODIFIED:20240303T010452Z
UID:10008846-1751097600-1751130000@www.worksmartpa.com
SUMMARY:Flexi-start course with Souters of London
DESCRIPTION:Flexi-start – Online Microsoft Office Training Courses – Souters Training\nWord/ Excel / PowerPoint / Outlook and Access\nCPD Accredited Microsoft Office Trainer with live interactive trainer\nLink: http://www.souterstraining.com/online-courses\nFlexi-start – CPD Accredited Legal Secretary Course – Souters Training\nThis course is delivered by a live tutor\, who is a barrister with practical experience.\nLink: http://www.souterstraining.com/legal-secretary-courses\nFlexi-start – AAT Level 1 Computerised Accounting with Sage – Souters Training\nVenue: Virtual – 6 weeks\nLink: http://www.souterstraining.com/aat-training/comp-aat\nFlexi-start – Bookkeeping Diploma for Virtual Assistants – Souters Training\nThis is all of the ICB Level II and Level III\, which will take you through to becoming an Associate of the Institute of Certified Bookkeepers.\nThis means that you gain the letter AICB after your name.\nLink: http://www.souterstraining.com/va-course/va-bookkeeping\nFlexi-start – Legal Secretary Course – CPD Accredited – Souters Training\nhttp://www.souterstraining.com/legal-secretary-courses/legal-secretary-course-cpd\nFlexi-start – ICB Bookkeeping Diploma for VAs – Souters Training\nLink: http://www.souterstraining.com/va-course/va-bookkeeping\nFlexi-start – Microsoft Office Diploma – CPD Accredited – Souters Training\nLink: http://www.souterstraining.com/online-courses/mos-training-course\nFlexi-start – Microsoft Word for a PA – CPD Accredited – Souters Training\nLink: http://www.souterstraining.com/microsoft-office-training/microsoft-for-pa\nFlexi-start – Microsoft Excel for a PA – CPD Accredited – Souters Training\nLink: http://www.souterstraining.com/microsoft-office-training/microsoft-for-pa\nFlexi-start – Microsoft Outlook for a PA – CPD Accredited – Souters Training\nLink: http://www.souterstraining.com/microsoft-office-training/microsoft-for-pa\nFlexi-start – Microsoft PowerPoint for a PA – CPD Accredited – Souters Training\nLink: http://www.souterstraining.com/microsoft-office-training/microsoft-for-pa\nFlexi-start – Access – Microsoft Certified – Souters Training\n3 months – Flexible\nLink: http://www.souterstraining.com/microsoft-office-training/microsoft-access-course\nFlexi-start – Audio Course – Souters Training\n1 month  – Flexible\nLink: http://www.souterstraining.com/Secretary_and_PA_Courses/audio-typing-course\nFlexi-start – Beginner Office Skills – Souters Training\n1 month – Flexible\nLink: http://www.souterstraining.com/secretary-course/office-skills-for-beginners\nFlexi-start – Bespoke Excel Training – Souters Training\n1 day – Flexible\nLink: http://www.souterstraining.com/microsoft-office-training/bespoke-excel-training-courses\nFlexi-start – Bespoke Word Training – Souters Training\n1 day  – Flexible\nLink: http://www.souterstraining.com/microsoft-office-training/bespoke-word-courses\nFlexi-start – Excel – Beginner and Proficient Levels – Souters Training\n3 months  -Flexible\nLink: http://www.souterstraining.com/microsoft-office-training/excel-course\nFlexi-start – Excel for Human Resources Professionals – Souters Training\n3 months – Flexible\nLink: http://www.souterstraining.com/microsoft-office-training/excel-human-resource-training\nFlexi-start – Excel Training Course – for a PA – Souters Training\n3 months – Flexible\nLink: http://www.souterstraining.com/microsoft-office-training/advanced-excel-course\nFlexi-start – Microsoft Office Diploma – Souters Training\n3 months – Flexible\nLink: http://www.souterstraining.com/microsoft-office-training/mos-training-course\nFlexi-start – Outlook – Microsoft Certified – Souters Training\n3 months – Flexible\nLink: Link: http://www.souterstraining.com/microsoft-office-training/outlook-course\nFlexi-start – Word – Beginner to Proficient – Souters Training\n3 months – Flexible\nLink: http://www.souterstraining.com/microsoft-office-training/word-course\nFlexi-start – Touch Typing Course Online – Souters Training\n1 month – Flexible\nLink: https://www.souterstraining.com/typing-course\nFlexi-start – Legal Admin Course – Souters Training\n2 months – Flexible\nLink: https://www.souterstraining.com/course-schedule\nFlexi-start – Legal PA Diploma – ACLS Accredited – Souters Training\nVenue: Flexible\nLink https://www.souterstraining.com/course-schedule\nFlexi-start – Data Entry Clerk Course – Souters Training\nLink: https://www.souterstraining.com/online-courses/data-entry-course\nFlexi-start – Excel for Sales and Marketing – Souters Training\n3 months – Flexible\nLink: https://www.souterstraining.com/online-courses/excel-sales\nFlexi-start – PowerPoint Training Course Advanced Level – Souters Training\n3 months – Flexible\nLink: https://www.souterstraining.com/online-courses/powerpoint-training-specialist\nFlexi-start – Legal Secretary Course – ACLS Accredited (Level 3) – Souters Training\n3 months – Flexible\nLink: https://www.souterstraining.com/course-schedule
URL:https://www.worksmartpa.com/event/flexi-start-course-with-souters-of-london-4/2025-06-28/
LOCATION:Virtual\, On-line\, Virtual\, United Kingdom
CATEGORIES:Courses
END:VEVENT
BEGIN:VEVENT
DTSTART;TZID=UTC:20250628T080000
DTEND;TZID=UTC:20250628T170000
DTSTAMP:20260420T035313
CREATED:20240302T190251Z
LAST-MODIFIED:20240303T004443Z
UID:10008466-1751097600-1751130000@www.worksmartpa.com
SUMMARY:Flexi-start ILSPA's Legal Secretary Courses
DESCRIPTION:The Institute of Legal Secretaries and PAs \nDistance Learning Option – Online
URL:https://www.worksmartpa.com/event/flexi-start-ilspas-legal-secretary-courses-3/2025-06-28/
LOCATION:Virtual\, On-line\, Virtual\, United Kingdom
CATEGORIES:Courses
END:VEVENT
BEGIN:VEVENT
DTSTART;TZID=UTC:20250627T123000
DTEND;TZID=UTC:20250627T133000
DTSTAMP:20260420T035313
CREATED:20250411T235344Z
LAST-MODIFIED:20250411T235344Z
UID:10011563-1751027400-1751031000@www.worksmartpa.com
SUMMARY:Behind the Chief of Staff Title
DESCRIPTION:
URL:https://www.worksmartpa.com/event/behind-the-chief-of-staff-title/
LOCATION:Virtual\, On-line\, Virtual\, United Kingdom
CATEGORIES:Courses
END:VEVENT
BEGIN:VEVENT
DTSTART;TZID=UTC:20250627T093000
DTEND;TZID=UTC:20250627T130000
DTSTAMP:20260420T035313
CREATED:20250514T123132Z
LAST-MODIFIED:20250514T123132Z
UID:10011704-1751016600-1751029200@www.worksmartpa.com
SUMMARY:Farm Cropping Record Keeping Requirements
DESCRIPTION:Course 5\, Module 5.1
URL:https://www.worksmartpa.com/event/farm-cropping-record-keeping-requirements/
LOCATION:Virtual\, On-line\, Virtual\, United Kingdom
CATEGORIES:Courses
END:VEVENT
BEGIN:VEVENT
DTSTART;TZID=UTC:20250627T093000
DTEND;TZID=UTC:20250627T113000
DTSTAMP:20260420T035313
CREATED:20250411T235733Z
LAST-MODIFIED:20250411T235733Z
UID:10011522-1751016600-1751023800@www.worksmartpa.com
SUMMARY:Career Advice & Growth Hub
DESCRIPTION:
URL:https://www.worksmartpa.com/event/career-advice-growth-hub-4/2025-06-27/
LOCATION:Virtual\, On-line\, Virtual\, United Kingdom
CATEGORIES:Courses
END:VEVENT
BEGIN:VEVENT
DTSTART;TZID=UTC:20250626T120000
DTEND;TZID=UTC:20250626T130000
DTSTAMP:20260420T035313
CREATED:20250706T095325Z
LAST-MODIFIED:20250706T095325Z
UID:10011778-1750939200-1750942800@www.worksmartpa.com
SUMMARY:The BIG AI Conversation
DESCRIPTION:
URL:https://www.worksmartpa.com/event/the-big-ai-conversation/
LOCATION:Virtual\, On-line\, Virtual\, United Kingdom
CATEGORIES:Courses
END:VEVENT
BEGIN:VEVENT
DTSTART;TZID=UTC:20250626T090000
DTEND;TZID=UTC:20250626T170000
DTSTAMP:20260420T035313
CREATED:20250402T015741Z
LAST-MODIFIED:20250402T015741Z
UID:10011496-1750928400-1750957200@www.worksmartpa.com
SUMMARY:Executive PA Advanced Course – Communicating and Negotiating
DESCRIPTION:
URL:https://www.worksmartpa.com/event/executive-pa-advanced-course-communicating-and-negotiating-9/2025-06-26/
LOCATION:Virtual\, On-line\, Virtual\, United Kingdom
CATEGORIES:Courses
END:VEVENT
BEGIN:VEVENT
DTSTART;TZID=UTC:20250625T123000
DTEND;TZID=UTC:20250625T133000
DTSTAMP:20260420T035313
CREATED:20250224T022905Z
LAST-MODIFIED:20250224T022905Z
UID:10011198-1750854600-1750858200@www.worksmartpa.com
SUMMARY:Conquering Your Inner Saboteur
DESCRIPTION:
URL:https://www.worksmartpa.com/event/conquering-your-inner-saboteur/
LOCATION:Virtual\, On-line\, Virtual\, United Kingdom
CATEGORIES:Courses
END:VEVENT
BEGIN:VEVENT
DTSTART;TZID=UTC:20250624T170000
DTEND;TZID=UTC:20250624T220000
DTSTAMP:20260420T035313
CREATED:20250402T015745Z
LAST-MODIFIED:20250402T015745Z
UID:10011465-1750784400-1750802400@www.worksmartpa.com
SUMMARY:Project Management Masterclass
DESCRIPTION:
URL:https://www.worksmartpa.com/event/project-management-masterclass-3/2025-06-24/
LOCATION:Virtual\, On-line\, Virtual\, United Kingdom
CATEGORIES:Courses
END:VEVENT
BEGIN:VEVENT
DTSTART;TZID=UTC:20250624T130000
DTEND;TZID=UTC:20250624T163000
DTSTAMP:20260420T035313
CREATED:20250311T100231Z
LAST-MODIFIED:20250311T100231Z
UID:10011330-1750770000-1750782600@www.worksmartpa.com
SUMMARY:The Power of ChatGPT\, Copilot\, Forms\, and Planner
DESCRIPTION:
URL:https://www.worksmartpa.com/event/the-power-of-chatgpt-copilot-forms-and-planner-3/
LOCATION:Virtual\, On-line\, Virtual\, United Kingdom
CATEGORIES:Courses
END:VEVENT
BEGIN:VEVENT
DTSTART;TZID=UTC:20250624T120000
DTEND;TZID=UTC:20250624T130000
DTSTAMP:20260420T035313
CREATED:20250411T235728Z
LAST-MODIFIED:20250411T235728Z
UID:10011528-1750766400-1750770000@www.worksmartpa.com
SUMMARY:CSR Supporters Group - Spotlight on Volunteering Roles
DESCRIPTION:
URL:https://www.worksmartpa.com/event/csr-supporters-group-spotlight-on-volunteering-roles/
LOCATION:Virtual\, On-line\, Virtual\, United Kingdom
CATEGORIES:Events
END:VEVENT
BEGIN:VEVENT
DTSTART;TZID=UTC:20250624T100000
DTEND;TZID=UTC:20250624T130000
DTSTAMP:20260420T035313
CREATED:20241201T173415Z
LAST-MODIFIED:20241201T173415Z
UID:10010809-1750759200-1750770000@www.worksmartpa.com
SUMMARY:Fundamentals of Workplace Training
DESCRIPTION:
URL:https://www.worksmartpa.com/event/fundamentals-of-workplace-training-4/2025-06-24/
LOCATION:Virtual\, On-line\, Virtual\, United Kingdom
CATEGORIES:Courses
END:VEVENT
BEGIN:VEVENT
DTSTART;TZID=UTC:20250624T090000
DTEND;TZID=UTC:20250624T170000
DTSTAMP:20260420T035313
CREATED:20250706T095327Z
LAST-MODIFIED:20250706T095327Z
UID:10011775-1750755600-1750784400@www.worksmartpa.com
SUMMARY:The Mini MBA
DESCRIPTION:5 month programme
URL:https://www.worksmartpa.com/event/the-mini-mba-3/2025-06-24/
LOCATION:Virtual\, On-line\, Virtual\, United Kingdom
CATEGORIES:Courses
END:VEVENT
BEGIN:VEVENT
DTSTART;TZID=UTC:20250624T090000
DTEND;TZID=UTC:20250624T170000
DTSTAMP:20260420T035313
CREATED:20241108T003005Z
LAST-MODIFIED:20241108T003005Z
UID:10010105-1750755600-1750784400@www.worksmartpa.com
SUMMARY:Executive Support Professional Roadshow
DESCRIPTION:
URL:https://www.worksmartpa.com/event/executive-support-professional-roadshow-3/
LOCATION:Virtual\, On-line\, Virtual\, United Kingdom
CATEGORIES:Courses
END:VEVENT
BEGIN:VEVENT
DTSTART;TZID=UTC:20250623T093000
DTEND;TZID=UTC:20250623T163000
DTSTAMP:20260420T035313
CREATED:20241203T201123Z
LAST-MODIFIED:20241203T201123Z
UID:10010836-1750671000-1750696200@www.worksmartpa.com
SUMMARY:PRINCE2® 7th Edition - 3 days
DESCRIPTION:
URL:https://www.worksmartpa.com/event/prince2-7th-edition-3-days/2025-06-23/
LOCATION:Virtual\, On-line\, Virtual\, United Kingdom
CATEGORIES:Courses
END:VEVENT
BEGIN:VEVENT
DTSTART;TZID=UTC:20250622T080000
DTEND;TZID=UTC:20250622T170000
DTSTAMP:20260420T035313
CREATED:20240303T011045Z
LAST-MODIFIED:20240303T011045Z
UID:10008915-1750579200-1750611600@www.worksmartpa.com
SUMMARY:Flexi-start course with Baker Thompson Associates
DESCRIPTION:Flexi – start – Successful Minute Taking – Baker Thompson Associates\nVenue: On-line\nLink: https://www.bakerthompsonassoc.co.uk/training-consultancy/available-training-packages/the-exceptional-pa \nFlexi – start – The Exceptional PA – Baker Thompson Associates\nVenue: On-line\nLink: https://www.bakerthompsonassoc.co.uk/training-consultancy/available-training-packages/the-exceptional-pa \nFlexi – start – Meetings and Minute Taking – Baker Thompson Associates\nVenue: On-line\nLink: https://www.bakerthompsonassoc.co.uk/training-consultancy/available-training-packages/the-exceptional-pa \nFlexi – start – Chair Brilliant Meetings – Baker Thompson Associates\nVenue: On-line\nLink: https://www.bakerthompsonassoc.co.uk/training-consultancy/available-training-packages/the-exceptional-pa \nFlexi – start – Secretaries Workshop – Baker Thompson Associates\nVenue: On-line\nLink: https://www.bakerthompsonassoc.co.uk/training-consultancy/available-training-packages/the-exceptional-pa \nFlexi – start – Speedwriting – Baker Thompson Associates\nVenue: On-line\nLink: https://www.bakerthompsonassoc.co.uk/training-consultancy/available-training-packages/the-exceptional-pa \nFlexi – start – Business Writing Skills – Baker Thompson Associates\nVenue: On-line\nLink: https://www.bakerthompsonassoc.co.uk/training-consultancy/available-training-packages/the-exceptional-pa \nFlexi – start – Proofreading – Baker Thompson Associates\nVenue: On-line\nLink: https://www.bakerthompsonassoc.co.uk/training-consultancy/available-training-packages/the-exceptional-pa \nFlexi – start – 21st Century PA’s and Administrators – Baker Thompson Associates\nVenue: On-line\nLink: https://www.bakerthompsonassoc.co.uk/training-consultancy/available-training-packages/the-exceptional-pa \nFlexi – start – Assertiveness – Baker Thompson Associates\nVenue: On-line\nLink: https://www.bakerthompsonassoc.co.uk/training-consultancy/available-training-packages/the-exceptional-pa \nFlexi – start – Benefitting From Change – Baker Thompson Associates\nVenue: On-line\nLink: https://www.bakerthompsonassoc.co.uk/training-consultancy/available-training-packages/the-exceptional-pa \nFlexi – start – Confidence Building – Baker Thompson Associates\nVenue: On-line\nLink: https://www.bakerthompsonassoc.co.uk/training-consultancy/available-training-packages/the-exceptional-pa \nFlexi – start – English Grammar – Baker Thompson Associates\nVenue: On-line\nLink: https://www.bakerthompsonassoc.co.uk/training-consultancy/available-training-packages/the-exceptional-pa \nFlexi – start – Image and Presentation – Baker Thompson Associates\nVenue: On-line\nLink: https://www.bakerthompsonassoc.co.uk/training-consultancy/available-training-packages/the-exceptional-pa \nFlexi – start – Productive Partnerships – Baker Thompson Associates\nVenue: On-line\nLink: https://www.bakerthompsonassoc.co.uk/training-consultancy/available-training-packages/the-exceptional-pa \nFlexi – start – Presentation skills – Baker Thompson Associates\nVenue: On-line\nLink: https://www.bakerthompsonassoc.co.uk/training-consultancy/available-training-packages/the-exceptional-pa \nFlexi – start – Reception Skills – Baker Thompson Associates\nVenue: On-line\nLink: https://www.bakerthompsonassoc.co.uk/training-consultancy/available-training-packages/the-exceptional-pa \nFlexi – start – Shorthand – Baker Thompson Associates\nVenue: On-line\nLink: https://www.bakerthompsonassoc.co.uk/training-consultancy/available-training-packages/the-exceptional-pa \nFlexi – start – Skills for the New Administrator – Baker Thompson Associates\nVenue: On-line\nLink: https://www.bakerthompsonassoc.co.uk/training-consultancy/available-training-packages/the-exceptional-pa \nFlexi – start – Telephone Techniques – Baker Thompson Associates\nVenue: On-line\nLink: https://www.bakerthompsonassoc.co.uk/training-consultancy/available-training-packages/the-exceptional-pa \nFlexi – start – Time Management – Baker Thompson Associates\nVenue: On-line\nLink: https://www.bakerthompsonassoc.co.uk/training-consultancy/available-training-packages/the-exceptional-pa \nFlexi – start – Touch typing – Baker Thompson Associates\nVenue: On-line\nLink: https://www.bakerthompsonassoc.co.uk/training-consultancy/available-training-packages/the-exceptional-pa \nFlexi – start – One to One Coaching – Baker Thompson Associates\nVenue: On-line\nLink: https://www.bakerthompsonassoc.co.uk/training-consultancy/available-training-packages/the-exceptional-pa \nFlexi – start – Open Sessions – Baker Thompson Associates\nVenue: On-line\nLink: https://www.bakerthompsonassoc.co.uk/training-consultancy/available-training-packages/the-exceptional-pa \nFlexi – start – E-learning – Baker Thompson Associates\nVenue: On-line\nLink: https://www.bakerthompsonassoc.co.uk/training-consultancy/available-training-packages/the-exceptional-pa
URL:https://www.worksmartpa.com/event/flexi-start-course-with-baker-thompson-associates-3/2025-06-22/
LOCATION:Virtual\, On-line\, Virtual\, United Kingdom
CATEGORIES:Courses
END:VEVENT
END:VCALENDAR