BEGIN:VCALENDAR
VERSION:2.0
PRODID:-//worksmartpa - ECPv6.15.20//NONSGML v1.0//EN
CALSCALE:GREGORIAN
METHOD:PUBLISH
X-WR-CALNAME:worksmartpa
X-ORIGINAL-URL:https://www.worksmartpa.com
X-WR-CALDESC:Events for worksmartpa
REFRESH-INTERVAL;VALUE=DURATION:PT1H
X-Robots-Tag:noindex
X-PUBLISHED-TTL:PT1H
BEGIN:VTIMEZONE
TZID:UTC
BEGIN:STANDARD
TZOFFSETFROM:+0000
TZOFFSETTO:+0000
TZNAME:UTC
DTSTART:20240101T000000
END:STANDARD
END:VTIMEZONE
BEGIN:VEVENT
DTSTART;TZID=UTC:20250711T123000
DTEND;TZID=UTC:20250711T133000
DTSTAMP:20260419T234633
CREATED:20250603T081328Z
LAST-MODIFIED:20250603T081328Z
UID:10011744-1752237000-1752240600@www.worksmartpa.com
SUMMARY:The EAs Role in Sustainability & Wellness
DESCRIPTION:
URL:https://www.worksmartpa.com/event/the-eas-role-in-sustainability-wellness/
LOCATION:Virtual\, On-line\, Virtual\, United Kingdom
CATEGORIES:Courses
END:VEVENT
BEGIN:VEVENT
DTSTART;TZID=UTC:20250711T103000
DTEND;TZID=UTC:20250711T163000
DTSTAMP:20260419T234633
CREATED:20250318T144738Z
LAST-MODIFIED:20250318T144738Z
UID:10011429-1752229800-1752251400@www.worksmartpa.com
SUMMARY:Minute Taking
DESCRIPTION:
URL:https://www.worksmartpa.com/event/minute-taking-27/2025-07-11/
LOCATION:Virtual\, On-line\, Virtual\, United Kingdom
CATEGORIES:Courses
END:VEVENT
BEGIN:VEVENT
DTSTART;TZID=UTC:20250711T090000
DTEND;TZID=UTC:20250711T130000
DTSTAMP:20260419T234633
CREATED:20250109T011348Z
LAST-MODIFIED:20250109T011348Z
UID:10011002-1752224400-1752238800@www.worksmartpa.com
SUMMARY:Innovate Virtual Summit
DESCRIPTION:
URL:https://www.worksmartpa.com/event/innovate-virtual-summit/
LOCATION:Virtual\, On-line\, Virtual\, United Kingdom
CATEGORIES:Courses
END:VEVENT
BEGIN:VEVENT
DTSTART;TZID=UTC:20250710T170000
DTEND;TZID=UTC:20250710T220000
DTSTAMP:20260419T234633
CREATED:20250402T015808Z
LAST-MODIFIED:20250402T015808Z
UID:10011458-1752166800-1752184800@www.worksmartpa.com
SUMMARY:Top Skills
DESCRIPTION:
URL:https://www.worksmartpa.com/event/top-skills/2025-07-10/
LOCATION:Virtual\, On-line\, Virtual\, United Kingdom
CATEGORIES:Courses
END:VEVENT
BEGIN:VEVENT
DTSTART;TZID=UTC:20250710T170000
DTEND;TZID=UTC:20250710T220000
DTSTAMP:20260419T234633
CREATED:20250402T015807Z
LAST-MODIFIED:20250402T015807Z
UID:10011463-1752166800-1752184800@www.worksmartpa.com
SUMMARY:The EA Masterclass
DESCRIPTION:
URL:https://www.worksmartpa.com/event/the-ea-masterclass/2025-07-10/
LOCATION:Virtual\, On-line\, Virtual\, United Kingdom
CATEGORIES:Courses
END:VEVENT
BEGIN:VEVENT
DTSTART;TZID=UTC:20250710T103000
DTEND;TZID=UTC:20250710T163000
DTSTAMP:20260419T234633
CREATED:20250318T144834Z
LAST-MODIFIED:20250318T144834Z
UID:10011411-1752143400-1752165000@www.worksmartpa.com
SUMMARY:Budgeting Course
DESCRIPTION:
URL:https://www.worksmartpa.com/event/budgeting-course-7/2025-07-10/
LOCATION:Virtual\, On-line\, Virtual\, United Kingdom
CATEGORIES:Courses
END:VEVENT
BEGIN:VEVENT
DTSTART;TZID=UTC:20250710T090000
DTEND;TZID=UTC:20250710T170000
DTSTAMP:20260419T234633
CREATED:20250603T081331Z
LAST-MODIFIED:20250603T081331Z
UID:10011731-1752138000-1752166800@www.worksmartpa.com
SUMMARY:Office Manager Health & Safety Course
DESCRIPTION:
URL:https://www.worksmartpa.com/event/office-manager-health-safety-course/2025-07-10/
LOCATION:Virtual\, On-line\, Virtual\, United Kingdom
CATEGORIES:Courses
END:VEVENT
BEGIN:VEVENT
DTSTART;TZID=UTC:20250709T170000
DTEND;TZID=UTC:20250709T220000
DTSTAMP:20260419T234633
CREATED:20250402T015742Z
LAST-MODIFIED:20250402T015742Z
UID:10011467-1752080400-1752098400@www.worksmartpa.com
SUMMARY:Microsoft Masterclass
DESCRIPTION:
URL:https://www.worksmartpa.com/event/microsoft-masterclass-6/2025-07-09/
LOCATION:Virtual\, On-line\, Virtual\, United Kingdom
CATEGORIES:Courses
END:VEVENT
BEGIN:VEVENT
DTSTART;TZID=UTC:20250708T120000
DTEND;TZID=UTC:20250708T130000
DTSTAMP:20260419T234633
CREATED:20250706T095320Z
LAST-MODIFIED:20250706T095320Z
UID:10011781-1751976000-1751979600@www.worksmartpa.com
SUMMARY:Advanced security with Microsoft 365
DESCRIPTION:
URL:https://www.worksmartpa.com/event/advanced-security-with-microsoft-365/
LOCATION:Virtual\, On-line\, Virtual\, United Kingdom
CATEGORIES:Courses
END:VEVENT
BEGIN:VEVENT
DTSTART;TZID=UTC:20250707T103000
DTEND;TZID=UTC:20250707T163000
DTSTAMP:20260419T234633
CREATED:20250318T145259Z
LAST-MODIFIED:20250318T145259Z
UID:10011405-1751884200-1751905800@www.worksmartpa.com
SUMMARY:Finance for Non-Financial Managers Course
DESCRIPTION:
URL:https://www.worksmartpa.com/event/finance-for-non-financial-managers-course-3/2025-07-07/
LOCATION:Virtual\, On-line\, Virtual\, United Kingdom
CATEGORIES:Courses
END:VEVENT
BEGIN:VEVENT
DTSTART;TZID=UTC:20250707T103000
DTEND;TZID=UTC:20250707T163000
DTSTAMP:20260419T234633
CREATED:20250318T144838Z
LAST-MODIFIED:20250318T144838Z
UID:10011408-1751884200-1751905800@www.worksmartpa.com
SUMMARY:Finance for Non-Financial Managers Course – 2 days
DESCRIPTION:
URL:https://www.worksmartpa.com/event/finance-for-non-financial-managers-course-2-days-2/2025-07-07/
LOCATION:Virtual\, On-line\, Virtual\, United Kingdom
CATEGORIES:Courses
END:VEVENT
BEGIN:VEVENT
DTSTART;TZID=UTC:20250706T080000
DTEND;TZID=UTC:20250706T170000
DTSTAMP:20260419T234633
CREATED:20240303T004804Z
LAST-MODIFIED:20240303T004804Z
UID:10008623-1751788800-1751821200@www.worksmartpa.com
SUMMARY:Flexi-start courses with Practically Perfect PA
DESCRIPTION:Flexi – start – Assistant Essentials – Practically Perfect PA\nVenue: On-line\nLink: https://practicallyperfectpa.teachable.com/p/assistant-essentials \nFlexi – start – The Assistant Mindset – Practically Perfect PA\nVenue: On-line\nLink: https://practicallyperfectpa.teachable.com/p/the-assistant-mindset \nFlexi – start – The Assistant Mindset – Level 2 – Practically Perfect PA\nVenue: On-line\nLink: https://courses.practicallyperfectpa.com/p/the-assistant-mindset-level-two \nFlexi – start – Productivity and Time Management for Assistants – Practically Perfect PA\nVenue: On-line\nLink: https://practicallyperfectpa.teachable.com/p/productivityforassistants \nFlexi – start – The Unrivalled Assistant – Practically Perfect PA\nVenue: On-line\nLink: https://practicallyperfectpa.teachable.com/p/the-unrivalled-assistant-online-course \nFlexi – start – The Strategic Assistant – Practically Perfect PA\nVenue: On-line\nLink: https://practicallyperfectpa.teachable.com/p/the-strategic-assistant-course
URL:https://www.worksmartpa.com/event/flexi-start-courses-with-practically-perfect-pa-5/2025-07-06/
LOCATION:Virtual\, On-line\, Virtual\, United Kingdom
CATEGORIES:Courses
END:VEVENT
BEGIN:VEVENT
DTSTART;TZID=UTC:20250706T080000
DTEND;TZID=UTC:20250706T170000
DTSTAMP:20260419T234633
CREATED:20240303T003735Z
LAST-MODIFIED:20240303T004236Z
UID:10008537-1751788800-1751821200@www.worksmartpa.com
SUMMARY:Flexi-start courses with Lewis College
DESCRIPTION:On-line Courses – choose from: \nEA & PA Courses \nMedical Secretarial Courses \nAdministration Courses \nIndividual Diplomas: Business\, IT\, Teeline Shorthand etc.
URL:https://www.worksmartpa.com/event/flexi-start-courses-with-lewis-college/2025-07-06/
LOCATION:Virtual\, On-line\, Virtual\, United Kingdom
CATEGORIES:Courses
END:VEVENT
BEGIN:VEVENT
DTSTART;TZID=UTC:20250706T080000
DTEND;TZID=UTC:20250706T170000
DTSTAMP:20260419T234633
CREATED:20240302T185910Z
LAST-MODIFIED:20240303T004626Z
UID:10008571-1751788800-1751821200@www.worksmartpa.com
SUMMARY:Flexi-start courses with AMSPAR
DESCRIPTION:Medical Secretary/Personal Assistant; Receptionist; Clerk; \nHealth Records Staff; Secretary/typist; Telephonist/switchboard operator\nFind your right entry level and progress your career by using AMSPAR qualifications to aspire to whatever level you want to achieve\nFlexi-start – Award in Health Service Administration \nAMSPAR: AMSPAR Certificate in Health Service Administration (amspareducation.org.uk) \nFlexi-start – AMSPAR Approved Basic Med Terminology \nAMSPAR: AMSPAR Approved – Medical Terminology – Basic Introduction (amspareducation.org.uk) \nFlexi-start – AMSPAR Award Level 2 Terminology \nAMSPAR: AMSPAR Award – Medical Terminology – Level 2 (amspareducation.org.uk) \nFlexi-start – AMSPAR Certificate Level 3 Terminology \nAMSPAR: AMSPAR Certificate – Medical Terminology – Level 3 (amspareducation.org.uk) \nFlexi-start – AMSPAR (city & guilds) CQF Level 5 in Primary Care and Health Management \nAMSPAR: AMSPAR DPCHM ~ CQF Level 5 (amspareducation.org.uk) \nFlexi-start courses available – see https://www.amspar.org/
URL:https://www.worksmartpa.com/event/flexi-start-courses-with-amspar-5/2025-07-06/
LOCATION:Virtual\, On-line\, Virtual\, United Kingdom
CATEGORIES:Courses
END:VEVENT
BEGIN:VEVENT
DTSTART;TZID=UTC:20250705T080000
DTEND;TZID=UTC:20250705T170000
DTSTAMP:20260419T234633
CREATED:20240303T005330Z
LAST-MODIFIED:20240303T005330Z
UID:10008693-1751702400-1751734800@www.worksmartpa.com
SUMMARY:Flexi-start courses with Hemsley Fraser
DESCRIPTION:Flexi-start – Hemsley Fraser – Team Dynamics\nVenue: Online Self Study\nLink: https://www.hemsleyfraser.com/en-gb/courses/team-development/working-with-others/team-dynamics \nFlexi-start – Hemsley Fraser – High Performing Teams \nVenue: Online Self Study\nLink: https://www.hemsleyfraser.com/en-gb/courses/team-development/driving-performance/high-performing-teams \nFlexi-start – Hemsley Fraser – Working with Others\nVenue: Online Self Study\nLink: https://www.hemsleyfraser.com/en-gb/courses/team-development/working-with-others/working-with-others \nFlexi-start – Hemsley Fraser – Health\nVenue: Online Self Study\nLink: https://www.hemsleyfraser.com/en-gb/courses/wellness-life-skills/health-wellbeing-finances/health \nFlexi-start – Hemsley Fraser – Managing your Finances\nVenue: Online Self Study\nLink: https://www.hemsleyfraser.com/en-gb/courses/wellness-life-skills/health-wellbeing-finances/managing-your-finances \nFlexi-start – Hemsley Fraser – Mental Health\nVenue: Online Self Study\nLink:https://www.hemsleyfraser.com/en-gb/courses/wellness-life-skills/all \nFlexi-start – Hemsley Fraser – Work-Life Balance\nVenue: Online Self Study\nLink: https://www.hemsleyfraser.com/en-gb/courses/wellness-life-skills/health-wellbeing-finances/work-life-balance \nFlexi-start – Hemsley Fraser – Agile Project Management\nVenue: Online Self Study\nLink: https://www.hemsleyfraser.com/en-gb/courses/business-skills/project-management/agile-project-management
URL:https://www.worksmartpa.com/event/flexi-start-courses-with-hemsley-fraser-4/2025-07-05/
LOCATION:Virtual\, On-line\, Virtual\, United Kingdom
CATEGORIES:Courses
END:VEVENT
BEGIN:VEVENT
DTSTART;TZID=UTC:20250705T080000
DTEND;TZID=UTC:20250705T170000
DTSTAMP:20260419T234633
CREATED:20240303T005033Z
LAST-MODIFIED:20240303T005033Z
UID:10008658-1751702400-1751734800@www.worksmartpa.com
SUMMARY:Flexi-start VA Courses with VACT
DESCRIPTION:Flexi-start – VACT – DIY VA Mastery Course\nVenue: Online Self Study\nLink: https://www.vact.co.uk/va-mastery-course/ \nFlexi-start – VACT – DIY VA Mastery Course Enhanced\nVenue: Online Self Study\nLink: https://www.vact.co.uk/va-mastery-course/ \nFlexi-start – VACT – DIY VA Mastery Course Enhanced and Website Builder Course\nVenue: Online Self Study\nLink: https://www.vact.co.uk/training/va-mastery-course/ \nFlexi-start – VACT – Kick Start Your VA Business Course\nVenue: Online\nLink: https://www.vact.co.uk/training/kick-start-va-business/ \nFlexi-start – VACT – Luminary One to One Private Coaching and Mentoring\nVenue: TBC (Flexible)\nLink: https://www.vact.co.uk/training/coaching/ \nFlexi-start – VACT – One Day VA Mastermind\nVenue: Luxury Hotel in Hampshire\nLink: https://www.vact.co.uk/training/one-day-va-mastermind/ \nFlexi-start – VACT – Be Awesome Club\nVenue: Members Online Club\nLink: https://www.vact.co.uk/training/va-be-awesome-club/
URL:https://www.worksmartpa.com/event/flexi-start-va-courses-with-vact-6/2025-07-05/
LOCATION:Virtual\, On-line\, Virtual\, United Kingdom
CATEGORIES:Courses
END:VEVENT
BEGIN:VEVENT
DTSTART;TZID=UTC:20250705T080000
DTEND;TZID=UTC:20250705T170000
DTSTAMP:20260419T234633
CREATED:20240302T190251Z
LAST-MODIFIED:20240303T004443Z
UID:10008467-1751702400-1751734800@www.worksmartpa.com
SUMMARY:Flexi-start ILSPA's Legal Secretary Courses
DESCRIPTION:The Institute of Legal Secretaries and PAs \nDistance Learning Option – Online
URL:https://www.worksmartpa.com/event/flexi-start-ilspas-legal-secretary-courses-3/2025-07-05/
LOCATION:Virtual\, On-line\, Virtual\, United Kingdom
CATEGORIES:Courses
END:VEVENT
BEGIN:VEVENT
DTSTART;TZID=UTC:20250704T123000
DTEND;TZID=UTC:20250704T133000
DTSTAMP:20260419T234633
CREATED:20250514T123136Z
LAST-MODIFIED:20250514T123136Z
UID:10011690-1751632200-1751635800@www.worksmartpa.com
SUMMARY:CV Interview and Brand Awareness
DESCRIPTION:Complimentary Power Hour
URL:https://www.worksmartpa.com/event/cv-interview-and-brand-awareness/
LOCATION:Virtual\, On-line\, Virtual\, United Kingdom
CATEGORIES:Courses
END:VEVENT
BEGIN:VEVENT
DTSTART;TZID=UTC:20250703T170000
DTEND;TZID=UTC:20250703T180000
DTSTAMP:20260419T234633
CREATED:20250328T090127Z
LAST-MODIFIED:20250328T090127Z
UID:10011448-1751562000-1751565600@www.worksmartpa.com
SUMMARY:Tech Hack
DESCRIPTION:
URL:https://www.worksmartpa.com/event/tech-hack-2/2025-07-03/
LOCATION:Virtual\, On-line\, Virtual\, United Kingdom
CATEGORIES:Courses
END:VEVENT
BEGIN:VEVENT
DTSTART;TZID=UTC:20250703T120000
DTEND;TZID=UTC:20250703T130000
DTSTAMP:20260419T234633
CREATED:20250411T235719Z
LAST-MODIFIED:20250411T235719Z
UID:10011531-1751544000-1751547600@www.worksmartpa.com
SUMMARY:Difficult Conversations & Skills for Success
DESCRIPTION:Members Only
URL:https://www.worksmartpa.com/event/difficult-conversations-skills-for-success/
LOCATION:Virtual\, On-line\, Virtual\, United Kingdom
CATEGORIES:Courses
END:VEVENT
BEGIN:VEVENT
DTSTART;TZID=UTC:20250703T100000
DTEND;TZID=UTC:20250703T130000
DTSTAMP:20260419T234633
CREATED:20250314T015000Z
LAST-MODIFIED:20250314T015000Z
UID:10011370-1751536800-1751547600@www.worksmartpa.com
SUMMARY:Building Resilience in Self and Others
DESCRIPTION:
URL:https://www.worksmartpa.com/event/building-resilience-in-self-and-others-8/2025-07-03/
LOCATION:Virtual\, On-line\, Virtual\, United Kingdom
CATEGORIES:Courses
END:VEVENT
BEGIN:VEVENT
DTSTART;TZID=UTC:20250703T090000
DTEND;TZID=UTC:20250703T170000
DTSTAMP:20260419T234633
CREATED:20250603T081331Z
LAST-MODIFIED:20250603T081331Z
UID:10011730-1751533200-1751562000@www.worksmartpa.com
SUMMARY:Office Manager Health & Safety Course
DESCRIPTION:
URL:https://www.worksmartpa.com/event/office-manager-health-safety-course/2025-07-03/
LOCATION:Virtual\, On-line\, Virtual\, United Kingdom
CATEGORIES:Courses
END:VEVENT
BEGIN:VEVENT
DTSTART;TZID=UTC:20250702T140000
DTEND;TZID=UTC:20250702T170000
DTSTAMP:20260419T234633
CREATED:20250314T015013Z
LAST-MODIFIED:20250314T015013Z
UID:10011363-1751464800-1751475600@www.worksmartpa.com
SUMMARY:Introduction to Management - 2 days
DESCRIPTION:
URL:https://www.worksmartpa.com/event/introduction-to-management-2-days-5/2025-07-02/
LOCATION:Virtual\, On-line\, Virtual\, United Kingdom
CATEGORIES:Courses
END:VEVENT
BEGIN:VEVENT
DTSTART;TZID=UTC:20250702T123000
DTEND;TZID=UTC:20250702T133000
DTSTAMP:20260419T234633
CREATED:20250706T095322Z
LAST-MODIFIED:20250706T095322Z
UID:10011780-1751459400-1751463000@www.worksmartpa.com
SUMMARY:Imposter Phenomenon
DESCRIPTION:
URL:https://www.worksmartpa.com/event/imposter-phenomenon/
LOCATION:Virtual\, On-line\, Virtual\, United Kingdom
CATEGORIES:Courses
END:VEVENT
BEGIN:VEVENT
DTSTART;TZID=UTC:20250702T090000
DTEND;TZID=UTC:20250702T170000
DTSTAMP:20260419T234633
CREATED:20250402T015742Z
LAST-MODIFIED:20250402T015742Z
UID:10011494-1751446800-1751475600@www.worksmartpa.com
SUMMARY:Office Manager Course (3 days)
DESCRIPTION:
URL:https://www.worksmartpa.com/event/office-manager-course-3-days-5/2025-07-02/
LOCATION:Virtual\, On-line\, Virtual\, United Kingdom
CATEGORIES:Courses
END:VEVENT
BEGIN:VEVENT
DTSTART;TZID=UTC:20250701T130000
DTEND;TZID=UTC:20250701T163000
DTSTAMP:20260419T234634
CREATED:20250311T100229Z
LAST-MODIFIED:20250311T100229Z
UID:10011331-1751374800-1751387400@www.worksmartpa.com
SUMMARY:Minute Taking Course
DESCRIPTION:Delivered over 2 half days: \n1-2 July\, 1.00-4.30pm
URL:https://www.worksmartpa.com/event/minute-taking-course-13/
LOCATION:Virtual\, On-line\, Virtual\, United Kingdom
CATEGORIES:Courses
END:VEVENT
BEGIN:VEVENT
DTSTART;TZID=UTC:20250701T123000
DTEND;TZID=UTC:20250701T133000
DTSTAMP:20260419T234634
CREATED:20250706T095324Z
LAST-MODIFIED:20250706T095324Z
UID:10011779-1751373000-1751376600@www.worksmartpa.com
SUMMARY:Conducting a Personal S.W.O.T. analysis
DESCRIPTION:
URL:https://www.worksmartpa.com/event/conducting-a-personal-s-w-o-t-analysis-4/
LOCATION:Virtual\, On-line\, Virtual\, United Kingdom
CATEGORIES:Courses
END:VEVENT
BEGIN:VEVENT
DTSTART;TZID=UTC:20250629T090000
DTEND;TZID=UTC:20250629T170000
DTSTAMP:20260419T234634
CREATED:20240303T005720Z
LAST-MODIFIED:20240303T005808Z
UID:10008744-1751187600-1751216400@www.worksmartpa.com
SUMMARY:Flexi-start courses with C & C Academy
DESCRIPTION:Learning and Development content includes: \nBuilding Rock Solid Confidence\nMarketing Skills for Support Staff\nCV Workshop\nTaming the Inner Critic
URL:https://www.worksmartpa.com/event/flexi-start-courses-with-c-c-academy-3/2025-06-29/
LOCATION:Virtual\, On-line\, Virtual\, United Kingdom
CATEGORIES:Courses
END:VEVENT
BEGIN:VEVENT
DTSTART;TZID=UTC:20250629T080000
DTEND;TZID=UTC:20250629T170000
DTSTAMP:20260419T234634
CREATED:20240303T005951Z
LAST-MODIFIED:20240303T010052Z
UID:10008778-1751184000-1751216400@www.worksmartpa.com
SUMMARY:Flexi-courses with The Officials
DESCRIPTION:Flexi-Start Courses and Learning and Development Webinars includes: \nCreate the Latest Trends in Social Media with Canva\nProject Management for the Agile Assistant\nEmotional Intelligence in the Workplace\nKick Overwhelm to the Curb\nSuccess Planning for Career Growth\nEmotional Intelligence in the Workplace\nRemote Assistant Success\nGoal Setting & Performance Reviews\nBuilding a Strong Relationship with Your Principal\nEvent Planning & Management 101\nDigital Declutter: Creating Systems to keep you on top of your Game
URL:https://www.worksmartpa.com/event/flexi-courses-with-the-officials-3/2025-06-29/
LOCATION:Virtual\, On-line\, Virtual\, United Kingdom
CATEGORIES:Courses
END:VEVENT
BEGIN:VEVENT
DTSTART;TZID=UTC:20250629T080000
DTEND;TZID=UTC:20250629T170000
DTSTAMP:20260419T234634
CREATED:20240302T185910Z
LAST-MODIFIED:20240303T004626Z
UID:10008570-1751184000-1751216400@www.worksmartpa.com
SUMMARY:Flexi-start courses with AMSPAR
DESCRIPTION:Medical Secretary/Personal Assistant; Receptionist; Clerk; \nHealth Records Staff; Secretary/typist; Telephonist/switchboard operator\nFind your right entry level and progress your career by using AMSPAR qualifications to aspire to whatever level you want to achieve\nFlexi-start – Award in Health Service Administration \nAMSPAR: AMSPAR Certificate in Health Service Administration (amspareducation.org.uk) \nFlexi-start – AMSPAR Approved Basic Med Terminology \nAMSPAR: AMSPAR Approved – Medical Terminology – Basic Introduction (amspareducation.org.uk) \nFlexi-start – AMSPAR Award Level 2 Terminology \nAMSPAR: AMSPAR Award – Medical Terminology – Level 2 (amspareducation.org.uk) \nFlexi-start – AMSPAR Certificate Level 3 Terminology \nAMSPAR: AMSPAR Certificate – Medical Terminology – Level 3 (amspareducation.org.uk) \nFlexi-start – AMSPAR (city & guilds) CQF Level 5 in Primary Care and Health Management \nAMSPAR: AMSPAR DPCHM ~ CQF Level 5 (amspareducation.org.uk) \nFlexi-start courses available – see https://www.amspar.org/
URL:https://www.worksmartpa.com/event/flexi-start-courses-with-amspar-5/2025-06-29/
LOCATION:Virtual\, On-line\, Virtual\, United Kingdom
CATEGORIES:Courses
END:VEVENT
END:VCALENDAR