BEGIN:VCALENDAR
VERSION:2.0
PRODID:-//worksmartpa - ECPv6.15.20//NONSGML v1.0//EN
CALSCALE:GREGORIAN
METHOD:PUBLISH
X-WR-CALNAME:worksmartpa
X-ORIGINAL-URL:https://www.worksmartpa.com
X-WR-CALDESC:Events for worksmartpa
REFRESH-INTERVAL;VALUE=DURATION:PT1H
X-Robots-Tag:noindex
X-PUBLISHED-TTL:PT1H
BEGIN:VTIMEZONE
TZID:UTC
BEGIN:STANDARD
TZOFFSETFROM:+0000
TZOFFSETTO:+0000
TZNAME:UTC
DTSTART:20240101T000000
END:STANDARD
END:VTIMEZONE
BEGIN:VEVENT
DTSTART;TZID=UTC:20250703T080000
DTEND;TZID=UTC:20250703T170000
DTSTAMP:20260420T101723
CREATED:20250514T123135Z
LAST-MODIFIED:20250514T123135Z
UID:10011692-1751529600-1751562000@www.worksmartpa.com
SUMMARY:Women in Governance\, Risk and Compliance Awards
DESCRIPTION:
URL:https://www.worksmartpa.com/event/women-in-governance-risk-and-compliance-awards-2/
LOCATION:Pullman London St Pancras Hotel\, 100\, 110 Euston Road\, London\, NW1 2AJ
CATEGORIES:Events
END:VEVENT
END:VCALENDAR