BEGIN:VCALENDAR
VERSION:2.0
PRODID:-//worksmartpa - ECPv6.15.20//NONSGML v1.0//EN
CALSCALE:GREGORIAN
METHOD:PUBLISH
X-ORIGINAL-URL:https://www.worksmartpa.com
X-WR-CALDESC:Events for worksmartpa
REFRESH-INTERVAL;VALUE=DURATION:PT1H
X-Robots-Tag:noindex
X-PUBLISHED-TTL:PT1H
BEGIN:VTIMEZONE
TZID:UTC
BEGIN:STANDARD
TZOFFSETFROM:+0000
TZOFFSETTO:+0000
TZNAME:UTC
DTSTART:20230101T000000
END:STANDARD
END:VTIMEZONE
BEGIN:VEVENT
DTSTART;TZID=UTC:20240424T180000
DTEND;TZID=UTC:20240424T200000
DTSTAMP:20260419T180137
CREATED:20240315T004543Z
LAST-MODIFIED:20240315T004559Z
UID:10009034-1713981600-1713988800@www.worksmartpa.com
SUMMARY:Dinner at Theo Randall restaurant
DESCRIPTION:Premium Event
URL:https://www.worksmartpa.com/event/dinner-at-theo-randall-restaurant/
LOCATION:InterContinental London Park Lane\, One Hamilton Place\, Park Ln\,\, London\, W1J 7QY
CATEGORIES:Events
END:VEVENT
END:VCALENDAR