BEGIN:VCALENDAR
VERSION:2.0
PRODID:-//worksmartpa - ECPv6.15.20//NONSGML v1.0//EN
CALSCALE:GREGORIAN
METHOD:PUBLISH
X-ORIGINAL-URL:https://www.worksmartpa.com
X-WR-CALDESC:Events for worksmartpa
REFRESH-INTERVAL;VALUE=DURATION:PT1H
X-Robots-Tag:noindex
X-PUBLISHED-TTL:PT1H
BEGIN:VTIMEZONE
TZID:UTC
BEGIN:STANDARD
TZOFFSETFROM:+0000
TZOFFSETTO:+0000
TZNAME:UTC
DTSTART:20210101T000000
END:STANDARD
END:VTIMEZONE
BEGIN:VEVENT
DTSTART;TZID=UTC:20220526T093000
DTEND;TZID=UTC:20220526T170000
DTSTAMP:20260421T003459
CREATED:20220407T221454Z
LAST-MODIFIED:20220407T221454Z
UID:10004194-1653557400-1653584400@www.worksmartpa.com
SUMMARY:IAgSA Northern Regional Training Day
DESCRIPTION:
URL:https://www.worksmartpa.com/event/iagsa-northern-regional-training-day/
LOCATION:Hetland Hall Hotel\, Hetland Hall Hotel\, Carrutherstown\, Dumfires\, DG1 4JX\, United Kingdom
CATEGORIES:Courses
END:VEVENT
END:VCALENDAR