BEGIN:VCALENDAR
VERSION:2.0
PRODID:-//worksmartpa - ECPv6.15.20//NONSGML v1.0//EN
CALSCALE:GREGORIAN
METHOD:PUBLISH
X-ORIGINAL-URL:https://www.worksmartpa.com
X-WR-CALDESC:Events for worksmartpa
REFRESH-INTERVAL;VALUE=DURATION:PT1H
X-Robots-Tag:noindex
X-PUBLISHED-TTL:PT1H
BEGIN:VTIMEZONE
TZID:UTC
BEGIN:STANDARD
TZOFFSETFROM:+0000
TZOFFSETTO:+0000
TZNAME:UTC
DTSTART:20210101T000000
END:STANDARD
END:VTIMEZONE
BEGIN:VEVENT
DTSTART;TZID=UTC:20230221T180000
DTEND;TZID=UTC:20230221T210000
DTSTAMP:20260419T180230
CREATED:20230118T233948Z
LAST-MODIFIED:20230118T233948Z
UID:10005562-1677002400-1677013200@www.worksmartpa.com
SUMMARY:An Evening at Flight Club
DESCRIPTION:
URL:https://www.worksmartpa.com/event/an-evening-at-flight-club/
LOCATION:Flight Club Victoria\, 6 Simon Milton Square\, London\, SW1E 5DJ\, United Kingdom
CATEGORIES:Events
END:VEVENT
BEGIN:VEVENT
DTSTART;TZID=UTC:20221224T174709
DTEND;TZID=UTC:20221224T174709
DTSTAMP:20260419T180230
CREATED:20221224T174709Z
LAST-MODIFIED:20221224T174709Z
UID:10005382-1671904029-1671904029@www.worksmartpa.com
SUMMARY:An evening at Flight Club Victoria
DESCRIPTION:
URL:https://www.worksmartpa.com/event/an-evening-at-flight-club-victoria/
LOCATION:Flight Club Victoria\, 6 Simon Milton Square\, London\, SW1E 5DJ\, United Kingdom
CATEGORIES:Events
END:VEVENT
END:VCALENDAR