BEGIN:VCALENDAR
VERSION:2.0
PRODID:-//worksmartpa - ECPv6.15.20//NONSGML v1.0//EN
CALSCALE:GREGORIAN
METHOD:PUBLISH
X-ORIGINAL-URL:https://www.worksmartpa.com
X-WR-CALDESC:Events for worksmartpa
REFRESH-INTERVAL;VALUE=DURATION:PT1H
X-Robots-Tag:noindex
X-PUBLISHED-TTL:PT1H
BEGIN:VTIMEZONE
TZID:UTC
BEGIN:STANDARD
TZOFFSETFROM:+0000
TZOFFSETTO:+0000
TZNAME:UTC
DTSTART:20200101T000000
END:STANDARD
END:VTIMEZONE
BEGIN:VEVENT
DTSTART;VALUE=DATE:20230816
DTEND;VALUE=DATE:20230818
DTSTAMP:20260420T102022
CREATED:20221104T013218Z
LAST-MODIFIED:20221104T013218Z
UID:10005329-1692144000-1692316799@www.worksmartpa.com
SUMMARY:Today’s PA Conference 2023
DESCRIPTION:
URL:https://www.worksmartpa.com/event/todays-pa-conference-2023/
LOCATION:Chelsea Harbour Hotel\, 319 Harbour Yard\, London\, SW10 0XG\, United Kingdom
CATEGORIES:Events
END:VEVENT
BEGIN:VEVENT
DTSTART;VALUE=DATE:20211123
DTEND;VALUE=DATE:20211124
DTSTAMP:20260420T102022
CREATED:20211014T230032Z
LAST-MODIFIED:20220705T100113Z
UID:10003211-1637625600-1637711999@www.worksmartpa.com
SUMMARY:Business Travel Tech Talk
DESCRIPTION:
URL:https://www.worksmartpa.com/event/business-travel-tech-talk/
LOCATION:Chelsea Harbour Hotel\, 319 Harbour Yard\, London\, SW10 0XG\, United Kingdom
CATEGORIES:Events
END:VEVENT
END:VCALENDAR