BEGIN:VCALENDAR
VERSION:2.0
PRODID:-//worksmartpa - ECPv6.15.20//NONSGML v1.0//EN
CALSCALE:GREGORIAN
METHOD:PUBLISH
X-WR-CALNAME:worksmartpa
X-ORIGINAL-URL:https://www.worksmartpa.com
X-WR-CALDESC:Events for worksmartpa
REFRESH-INTERVAL;VALUE=DURATION:PT1H
X-Robots-Tag:noindex
X-PUBLISHED-TTL:PT1H
BEGIN:VTIMEZONE
TZID:UTC
BEGIN:STANDARD
TZOFFSETFROM:+0000
TZOFFSETTO:+0000
TZNAME:UTC
DTSTART:20230101T000000
END:STANDARD
END:VTIMEZONE
BEGIN:VEVENT
DTSTART;TZID=UTC:20240709T093000
DTEND;TZID=UTC:20240709T170000
DTSTAMP:20260421T123325
CREATED:20231228T164706Z
LAST-MODIFIED:20240321T084635Z
UID:10007843-1720517400-1720544400@www.worksmartpa.com
SUMMARY:EA/PA Advanced Masterclass - 2 days
DESCRIPTION:
URL:https://www.worksmartpa.com/event/ea-pa-advanced-masterclass-2-days-6/2024-07-09/
LOCATION:Pitman Training London Central and West\, 3rd Floor\, 4/4A Bloomsbury Way\, Bloomsbury Square\,\, London\, WC1A 2RP
CATEGORIES:Courses
END:VEVENT
BEGIN:VEVENT
DTSTART;TZID=UTC:20240708T093000
DTEND;TZID=UTC:20240708T170000
DTSTAMP:20260421T123325
CREATED:20240103T014056Z
LAST-MODIFIED:20240103T014056Z
UID:10007925-1720431000-1720458000@www.worksmartpa.com
SUMMARY:Microsoft Word Level 3
DESCRIPTION:
URL:https://www.worksmartpa.com/event/microsoft-word-level-3-3/2024-07-08/
LOCATION:Pitman Training Glasgow\, First Floor\, 82 Union Street\, Glasgow\, G1 2QS\, United Kingdom
CATEGORIES:Courses
END:VEVENT
BEGIN:VEVENT
DTSTART;TZID=UTC:20240708T090000
DTEND;TZID=UTC:20240708T170000
DTSTAMP:20260421T123325
CREATED:20240623T010756Z
LAST-MODIFIED:20240623T010756Z
UID:10009541-1720429200-1720458000@www.worksmartpa.com
SUMMARY:Adobe Photoshop
DESCRIPTION:
URL:https://www.worksmartpa.com/event/adobe-photoshop-2/2024-07-08/
LOCATION:Pitman Training Glasgow\, First Floor\, 82 Union Street\, Glasgow\, G1 2QS\, United Kingdom
CATEGORIES:Courses
END:VEVENT
BEGIN:VEVENT
DTSTART;TZID=UTC:20240708T090000
DTEND;TZID=UTC:20240708T170000
DTSTAMP:20260421T123325
CREATED:20231228T164835Z
LAST-MODIFIED:20231228T164835Z
UID:10007818-1720429200-1720458000@www.worksmartpa.com
SUMMARY:Professional Receptionist Seminar
DESCRIPTION:
URL:https://www.worksmartpa.com/event/professional-receptionist-seminar-5/2024-07-08/
LOCATION:Pitman Training Edinburgh\, 4 Queen St.\, First Floor\, Buzzer 12\, Edinburgh\, EH2 1JE\, United Kingdom
CATEGORIES:Courses
END:VEVENT
BEGIN:VEVENT
DTSTART;TZID=UTC:20240705T093000
DTEND;TZID=UTC:20240705T170000
DTSTAMP:20260421T123325
CREATED:20231102T120439Z
LAST-MODIFIED:20231102T120439Z
UID:10007685-1720171800-1720198800@www.worksmartpa.com
SUMMARY:Conflict Management
DESCRIPTION:
URL:https://www.worksmartpa.com/event/conflict-management-2/2024-07-05/
LOCATION:Pitman Training Aberdeen\, 469 Union Street\, Aberdeen\, AB11 6DB\, United Kingdom
CATEGORIES:Courses
END:VEVENT
BEGIN:VEVENT
DTSTART;TZID=UTC:20240704T093000
DTEND;TZID=UTC:20240704T170000
DTSTAMP:20260421T123325
CREATED:20240315T004518Z
LAST-MODIFIED:20240315T004551Z
UID:10009048-1720085400-1720112400@www.worksmartpa.com
SUMMARY:Leadership Skills
DESCRIPTION:
URL:https://www.worksmartpa.com/event/leadership-skills-6/2024-07-04/
LOCATION:Pitman Training Edinburgh\, 4 Queen St.\, First Floor\, Buzzer 12\, Edinburgh\, EH2 1JE\, United Kingdom
CATEGORIES:Courses
END:VEVENT
BEGIN:VEVENT
DTSTART;TZID=UTC:20240704T093000
DTEND;TZID=UTC:20240704T163000
DTSTAMP:20260421T123325
CREATED:20240623T010757Z
LAST-MODIFIED:20240623T010757Z
UID:10009539-1720085400-1720110600@www.worksmartpa.com
SUMMARY:Word Advanced
DESCRIPTION:
URL:https://www.worksmartpa.com/event/word-advanced-6/2024-07-04/
LOCATION:Pitman Training Glasgow\, First Floor\, 82 Union Street\, Glasgow\, G1 2QS\, United Kingdom
CATEGORIES:Courses
END:VEVENT
BEGIN:VEVENT
DTSTART;TZID=UTC:20240703T093000
DTEND;TZID=UTC:20240703T170000
DTSTAMP:20260421T123325
CREATED:20240315T004525Z
LAST-MODIFIED:20240315T004554Z
UID:10009042-1719999000-1720026000@www.worksmartpa.com
SUMMARY:Influencing Skills Seminar
DESCRIPTION:
URL:https://www.worksmartpa.com/event/influencing-skills-seminar-2/2024-07-03/
LOCATION:Pitman Training Edinburgh\, 4 Queen St.\, First Floor\, Buzzer 12\, Edinburgh\, EH2 1JE\, United Kingdom
CATEGORIES:Courses
END:VEVENT
BEGIN:VEVENT
DTSTART;TZID=UTC:20240703T093000
DTEND;TZID=UTC:20240703T170000
DTSTAMP:20260421T123325
CREATED:20231109T095801Z
LAST-MODIFIED:20231109T095801Z
UID:10007727-1719999000-1720026000@www.worksmartpa.com
SUMMARY:Time Management Seminar
DESCRIPTION:
URL:https://www.worksmartpa.com/event/time-management-seminar-5/2024-07-03/
LOCATION:Pitman Training London Central and West\, 3rd Floor\, 4/4A Bloomsbury Way\, Bloomsbury Square\,\, London\, WC1A 2RP
CATEGORIES:Courses
END:VEVENT
BEGIN:VEVENT
DTSTART;TZID=UTC:20240703T093000
DTEND;TZID=UTC:20240703T163000
DTSTAMP:20260421T123325
CREATED:20240623T010758Z
LAST-MODIFIED:20240623T010758Z
UID:10009537-1719999000-1720024200@www.worksmartpa.com
SUMMARY:Meetings and Minutes
DESCRIPTION:
URL:https://www.worksmartpa.com/event/meetings-and-minutes-6/2024-07-03/
LOCATION:Virtual\, On-line\, Virtual\, United Kingdom
CATEGORIES:Courses
END:VEVENT
BEGIN:VEVENT
DTSTART;TZID=UTC:20240702T093000
DTEND;TZID=UTC:20240702T170000
DTSTAMP:20260421T123325
CREATED:20240103T014023Z
LAST-MODIFIED:20240103T014023Z
UID:10007996-1719912600-1719939600@www.worksmartpa.com
SUMMARY:Microsoft Excel Level 2
DESCRIPTION:
URL:https://www.worksmartpa.com/event/microsoft-excel-level-2/2024-07-02/
LOCATION:Pitman Training Glasgow\, First Floor\, 82 Union Street\, Glasgow\, G1 2QS\, United Kingdom
CATEGORIES:Courses
END:VEVENT
BEGIN:VEVENT
DTSTART;TZID=UTC:20240702T093000
DTEND;TZID=UTC:20240702T170000
DTSTAMP:20260421T123325
CREATED:20231228T164656Z
LAST-MODIFIED:20231228T164656Z
UID:10007860-1719912600-1719939600@www.worksmartpa.com
SUMMARY:Meetings and Minutes Seminar
DESCRIPTION:
URL:https://www.worksmartpa.com/event/meetings-and-minutes-seminar-7/2024-07-02/
LOCATION:Pitman Training London Central and West\, 3rd Floor\, 4/4A Bloomsbury Way\, Bloomsbury Square\,\, London\, WC1A 2RP
CATEGORIES:Courses
END:VEVENT
BEGIN:VEVENT
DTSTART;TZID=UTC:20240702T093000
DTEND;TZID=UTC:20240702T163000
DTSTAMP:20260421T123325
CREATED:20240623T010800Z
LAST-MODIFIED:20240623T010800Z
UID:10009534-1719912600-1719937800@www.worksmartpa.com
SUMMARY:Time Management
DESCRIPTION:
URL:https://www.worksmartpa.com/event/time-management-12/2024-07-02/
LOCATION:Pitman Training Edinburgh\, 4 Queen St.\, First Floor\, Buzzer 12\, Edinburgh\, EH2 1JE\, United Kingdom
CATEGORIES:Courses
END:VEVENT
BEGIN:VEVENT
DTSTART;TZID=UTC:20240701T093000
DTEND;TZID=UTC:20240701T170000
DTSTAMP:20260421T123325
CREATED:20231228T164700Z
LAST-MODIFIED:20231228T164700Z
UID:10007847-1719826200-1719853200@www.worksmartpa.com
SUMMARY:EA/PA Advanced Masterclass - 2 days
DESCRIPTION:
URL:https://www.worksmartpa.com/event/ea-pa-advanced-masterclass-2-days-2/
LOCATION:Pitman Training Chelmsford\, 2 St Johns Court\, Moulsham Street\,\, Chelmsford\, CM2 0JD
CATEGORIES:Courses
END:VEVENT
BEGIN:VEVENT
DTSTART;TZID=UTC:20240630T080000
DTEND;TZID=UTC:20240630T170000
DTSTAMP:20260421T123325
CREATED:20230128T022905Z
LAST-MODIFIED:20230128T022905Z
UID:10005842-1719734400-1719766800@www.worksmartpa.com
SUMMARY:Flexi-start courses with Pitman Training
DESCRIPTION:Flexi-start courses available – \nDistance learning: \nhttps://www.pitman-training.com/types-of-training/distance-learning/ \nOn-line Learning \nhttps://www.pitman-training.com/types-of-training/online-courses/ \nAll other courses and learning channels: \nhttps://www.pitman-training.com
URL:https://www.worksmartpa.com/event/flexi-start-courses-with-pitman-training-5/2024-06-30/
LOCATION:Virtual\, On-line\, Virtual\, United Kingdom
CATEGORIES:Courses
END:VEVENT
BEGIN:VEVENT
DTSTART;TZID=UTC:20240626T093000
DTEND;TZID=UTC:20240626T123000
DTSTAMP:20260421T123325
CREATED:20240623T010805Z
LAST-MODIFIED:20240623T010805Z
UID:10009523-1719394200-1719405000@www.worksmartpa.com
SUMMARY:Excel Intermediate - 2 days
DESCRIPTION:
URL:https://www.worksmartpa.com/event/excel-intermediate-2-days-2/2024-06-26/
LOCATION:Virtual\, On-line\, Virtual\, United Kingdom
CATEGORIES:Courses
END:VEVENT
BEGIN:VEVENT
DTSTART;TZID=UTC:20240626T093000
DTEND;TZID=UTC:20240626T123000
DTSTAMP:20260421T123325
CREATED:20240623T010803Z
LAST-MODIFIED:20240623T010803Z
UID:10009530-1719394200-1719405000@www.worksmartpa.com
SUMMARY:Excel Intermediate - 2 days
DESCRIPTION:
URL:https://www.worksmartpa.com/event/excel-intermediate-2-days/2024-06-26/
LOCATION:Virtual\, On-line\, Virtual\, United Kingdom
CATEGORIES:Courses
END:VEVENT
BEGIN:VEVENT
DTSTART;TZID=UTC:20240626T090000
DTEND;TZID=UTC:20240626T170000
DTSTAMP:20260421T123325
CREATED:20240623T010804Z
LAST-MODIFIED:20240623T010804Z
UID:10009527-1719392400-1719421200@www.worksmartpa.com
SUMMARY:Microsoft Project Complete – 2-days
DESCRIPTION:
URL:https://www.worksmartpa.com/event/microsoft-project-complete-2-days/2024-06-26/
LOCATION:Pitman Training Glasgow\, First Floor\, 82 Union Street\, Glasgow\, G1 2QS\, United Kingdom
CATEGORIES:Courses
END:VEVENT
BEGIN:VEVENT
DTSTART;TZID=UTC:20240625T093000
DTEND;TZID=UTC:20240625T170000
DTSTAMP:20260421T123325
CREATED:20240315T004509Z
LAST-MODIFIED:20240315T004541Z
UID:10009059-1719307800-1719334800@www.worksmartpa.com
SUMMARY:Microsoft Project Level 2
DESCRIPTION:
URL:https://www.worksmartpa.com/event/microsoft-project-level-2/2024-06-25/
LOCATION:Pitman Training Aberdeen\, 469 Union Street\, Aberdeen\, AB11 6DB\, United Kingdom
CATEGORIES:Courses
END:VEVENT
BEGIN:VEVENT
DTSTART;TZID=UTC:20240625T090000
DTEND;TZID=UTC:20240625T170000
DTSTAMP:20260421T123325
CREATED:20231228T164843Z
LAST-MODIFIED:20231228T164843Z
UID:10007804-1719306000-1719334800@www.worksmartpa.com
SUMMARY:Professional Receptionist Seminar
DESCRIPTION:
URL:https://www.worksmartpa.com/event/professional-receptionist-seminar-9/2024-06-25/
LOCATION:Pitman Training London Central and West\, 3rd Floor\, 4/4A Bloomsbury Way\, Bloomsbury Square\,\, London\, WC1A 2RP
CATEGORIES:Courses
END:VEVENT
BEGIN:VEVENT
DTSTART;TZID=UTC:20240624T093000
DTEND;TZID=UTC:20240624T170000
DTSTAMP:20260421T123325
CREATED:20240103T014038Z
LAST-MODIFIED:20240103T014038Z
UID:10007960-1719221400-1719248400@www.worksmartpa.com
SUMMARY:Microsoft PowerPoint Level 2
DESCRIPTION:
URL:https://www.worksmartpa.com/event/microsoft-powerpoint-level-2/2024-06-24/
LOCATION:Pitman Training Edinburgh\, 4 Queen St.\, First Floor\, Buzzer 12\, Edinburgh\, EH2 1JE\, United Kingdom
CATEGORIES:Courses
END:VEVENT
BEGIN:VEVENT
DTSTART;TZID=UTC:20240624T090000
DTEND;TZID=UTC:20240624T170000
DTSTAMP:20260421T123325
CREATED:20240623T010807Z
LAST-MODIFIED:20241205T005942Z
UID:10009520-1719219600-1719248400@www.worksmartpa.com
SUMMARY:Presentation Skills – 2-days
DESCRIPTION:
URL:https://www.worksmartpa.com/event/presentation-skills-2-days-3/2024-06-24/
LOCATION:Pitman Training Glasgow\, First Floor\, 82 Union Street\, Glasgow\, G1 2QS\, United Kingdom
CATEGORIES:Courses
END:VEVENT
BEGIN:VEVENT
DTSTART;TZID=UTC:20240621T093000
DTEND;TZID=UTC:20240621T170000
DTSTAMP:20260421T123325
CREATED:20231109T095756Z
LAST-MODIFIED:20231109T095756Z
UID:10007734-1718962200-1718989200@www.worksmartpa.com
SUMMARY:Time Management Seminar
DESCRIPTION:
URL:https://www.worksmartpa.com/event/time-management-seminar/
LOCATION:Pitman Training Chelmsford\, 2 St Johns Court\, Moulsham Street\,\, Chelmsford\, CM2 0JD
CATEGORIES:Courses
END:VEVENT
BEGIN:VEVENT
DTSTART;TZID=UTC:20240621T093000
DTEND;TZID=UTC:20240621T170000
DTSTAMP:20260421T123325
CREATED:20231102T120428Z
LAST-MODIFIED:20231102T120428Z
UID:10007694-1718962200-1718989200@www.worksmartpa.com
SUMMARY:Presentation Skills
DESCRIPTION:
URL:https://www.worksmartpa.com/event/presentation-skills-12/2024-06-21/
LOCATION:Pitman Training Aberdeen\, 469 Union Street\, Aberdeen\, AB11 6DB\, United Kingdom
CATEGORIES:Courses
END:VEVENT
BEGIN:VEVENT
DTSTART;TZID=UTC:20240620T093000
DTEND;TZID=UTC:20240620T170000
DTSTAMP:20260421T123325
CREATED:20240103T014041Z
LAST-MODIFIED:20240103T014041Z
UID:10007956-1718875800-1718902800@www.worksmartpa.com
SUMMARY:Microsoft PowerPoint Level 2
DESCRIPTION:
URL:https://www.worksmartpa.com/event/microsoft-powerpoint-level-2-2/2024-06-20/
LOCATION:Pitman Training Aberdeen\, 469 Union Street\, Aberdeen\, AB11 6DB\, United Kingdom
CATEGORIES:Courses
END:VEVENT
BEGIN:VEVENT
DTSTART;TZID=UTC:20240619T093000
DTEND;TZID=UTC:20240619T170000
DTSTAMP:20260421T123325
CREATED:20240315T004458Z
LAST-MODIFIED:20240315T004528Z
UID:10009075-1718789400-1718816400@www.worksmartpa.com
SUMMARY:Communication Skills
DESCRIPTION:
URL:https://www.worksmartpa.com/event/communication-skills-11/2024-06-19/
LOCATION:Pitman Training Edinburgh\, 4 Queen St.\, First Floor\, Buzzer 12\, Edinburgh\, EH2 1JE\, United Kingdom
CATEGORIES:Courses
END:VEVENT
BEGIN:VEVENT
DTSTART;TZID=UTC:20240618T093000
DTEND;TZID=UTC:20240618T170000
DTSTAMP:20260421T123325
CREATED:20240103T014051Z
LAST-MODIFIED:20240103T014051Z
UID:10007934-1718703000-1718730000@www.worksmartpa.com
SUMMARY:Microsoft Word Level 3
DESCRIPTION:
URL:https://www.worksmartpa.com/event/microsoft-word-level-3/2024-06-18/
LOCATION:Pitman Training Edinburgh\, 4 Queen St.\, First Floor\, Buzzer 12\, Edinburgh\, EH2 1JE\, United Kingdom
CATEGORIES:Courses
END:VEVENT
BEGIN:VEVENT
DTSTART;TZID=UTC:20240618T093000
DTEND;TZID=UTC:20240618T170000
DTSTAMP:20260421T123325
CREATED:20240103T014023Z
LAST-MODIFIED:20240103T014023Z
UID:10007995-1718703000-1718730000@www.worksmartpa.com
SUMMARY:Microsoft Excel Level 2
DESCRIPTION:
URL:https://www.worksmartpa.com/event/microsoft-excel-level-2/2024-06-18/
LOCATION:Pitman Training Glasgow\, First Floor\, 82 Union Street\, Glasgow\, G1 2QS\, United Kingdom
CATEGORIES:Courses
END:VEVENT
BEGIN:VEVENT
DTSTART;TZID=UTC:20240617T093000
DTEND;TZID=UTC:20240617T170000
DTSTAMP:20260421T123325
CREATED:20240103T014102Z
LAST-MODIFIED:20240103T014102Z
UID:10007909-1718616600-1718643600@www.worksmartpa.com
SUMMARY:Microsoft Word Level 1
DESCRIPTION:
URL:https://www.worksmartpa.com/event/microsoft-word-level-1/2024-06-17/
LOCATION:Pitman Training Glasgow\, First Floor\, 82 Union Street\, Glasgow\, G1 2QS\, United Kingdom
CATEGORIES:Courses
END:VEVENT
BEGIN:VEVENT
DTSTART;TZID=UTC:20240617T093000
DTEND;TZID=UTC:20240617T170000
DTSTAMP:20260421T123325
CREATED:20231109T095757Z
LAST-MODIFIED:20231109T095757Z
UID:10007733-1718616600-1718643600@www.worksmartpa.com
SUMMARY:Time Management Seminar
DESCRIPTION:
URL:https://www.worksmartpa.com/event/time-management-seminar-2/
LOCATION:Pitman Training Croydon\, 2 Lansdowne Road\,\, Croydon\, CR9 2ER
CATEGORIES:Courses
END:VEVENT
END:VCALENDAR