BEGIN:VCALENDAR
VERSION:2.0
PRODID:-//worksmartpa - ECPv6.15.20//NONSGML v1.0//EN
CALSCALE:GREGORIAN
METHOD:PUBLISH
X-WR-CALNAME:worksmartpa
X-ORIGINAL-URL:https://www.worksmartpa.com
X-WR-CALDESC:Events for worksmartpa
REFRESH-INTERVAL;VALUE=DURATION:PT1H
X-Robots-Tag:noindex
X-PUBLISHED-TTL:PT1H
BEGIN:VTIMEZONE
TZID:UTC
BEGIN:STANDARD
TZOFFSETFROM:+0000
TZOFFSETTO:+0000
TZNAME:UTC
DTSTART:20230101T000000
END:STANDARD
END:VTIMEZONE
BEGIN:VEVENT
DTSTART;TZID=UTC:20240823T093000
DTEND;TZID=UTC:20240823T170000
DTSTAMP:20260420T144220
CREATED:20231228T164644Z
LAST-MODIFIED:20231228T164644Z
UID:10007893-1724405400-1724432400@www.worksmartpa.com
SUMMARY:Telephone Techniques
DESCRIPTION:
URL:https://www.worksmartpa.com/event/telephone-techniques-6/2024-08-23/
LOCATION:Pitman Training Aberdeen\, 469 Union Street\, Aberdeen\, AB11 6DB\, United Kingdom
CATEGORIES:Courses
END:VEVENT
BEGIN:VEVENT
DTSTART;TZID=UTC:20240823T093000
DTEND;TZID=UTC:20240823T170000
DTSTAMP:20260420T144220
CREATED:20231102T120443Z
LAST-MODIFIED:20231102T120443Z
UID:10007679-1724405400-1724432400@www.worksmartpa.com
SUMMARY:Communication Skills
DESCRIPTION:
URL:https://www.worksmartpa.com/event/communication-skills-10/2024-08-23/
LOCATION:Pitman Training Aberdeen\, 469 Union Street\, Aberdeen\, AB11 6DB\, United Kingdom
CATEGORIES:Courses
END:VEVENT
BEGIN:VEVENT
DTSTART;TZID=UTC:20240822T093000
DTEND;TZID=UTC:20240822T170000
DTSTAMP:20260420T144220
CREATED:20240103T014047Z
LAST-MODIFIED:20240103T014047Z
UID:10007945-1724319000-1724346000@www.worksmartpa.com
SUMMARY:Microsoft PowerPoint Level 1
DESCRIPTION:
URL:https://www.worksmartpa.com/event/microsoft-powerpoint-level-1-2/2024-08-22/
LOCATION:Pitman Training Edinburgh\, 4 Queen St.\, First Floor\, Buzzer 12\, Edinburgh\, EH2 1JE\, United Kingdom
CATEGORIES:Courses
END:VEVENT
BEGIN:VEVENT
DTSTART;TZID=UTC:20240821T093000
DTEND;TZID=UTC:20240821T170000
DTSTAMP:20260420T144220
CREATED:20240315T004509Z
LAST-MODIFIED:20240315T004541Z
UID:10009060-1724232600-1724259600@www.worksmartpa.com
SUMMARY:Microsoft Project Level 2
DESCRIPTION:
URL:https://www.worksmartpa.com/event/microsoft-project-level-2/2024-08-21/
LOCATION:Pitman Training Aberdeen\, 469 Union Street\, Aberdeen\, AB11 6DB\, United Kingdom
CATEGORIES:Courses
END:VEVENT
BEGIN:VEVENT
DTSTART;TZID=UTC:20240820T113000
DTEND;TZID=UTC:20240820T170000
DTSTAMP:20260420T144220
CREATED:20240315T004529Z
LAST-MODIFIED:20240315T004556Z
UID:10009039-1724153400-1724173200@www.worksmartpa.com
SUMMARY:Executive PA/Secretary Seminar - 2 days
DESCRIPTION:
URL:https://www.worksmartpa.com/event/executive-pa-secretary-seminar-2-days/2024-08-20/
LOCATION:Pitman Training Edinburgh\, 4 Queen St.\, First Floor\, Buzzer 12\, Edinburgh\, EH2 1JE\, United Kingdom
CATEGORIES:Courses
END:VEVENT
BEGIN:VEVENT
DTSTART;TZID=UTC:20240820T093000
DTEND;TZID=UTC:20240820T170000
DTSTAMP:20260420T144220
CREATED:20240315T004503Z
LAST-MODIFIED:20240315T004534Z
UID:10009067-1724146200-1724173200@www.worksmartpa.com
SUMMARY:Train the Trainer – 3 Days
DESCRIPTION:
URL:https://www.worksmartpa.com/event/train-the-trainer-3-days/2024-08-20/
LOCATION:Pitman Training Glasgow\, First Floor\, 82 Union Street\, Glasgow\, G1 2QS\, United Kingdom
CATEGORIES:Courses
END:VEVENT
BEGIN:VEVENT
DTSTART;TZID=UTC:20240820T093000
DTEND;TZID=UTC:20240820T170000
DTSTAMP:20260420T144220
CREATED:20231228T164704Z
LAST-MODIFIED:20231228T164704Z
UID:10007845-1724146200-1724173200@www.worksmartpa.com
SUMMARY:EA/PA Advanced Masterclass - 2 days
DESCRIPTION:
URL:https://www.worksmartpa.com/event/ea-pa-advanced-masterclass-2-days-5/2024-08-20/
LOCATION:Pitman Training Edinburgh\, 4 Queen St.\, First Floor\, Buzzer 12\, Edinburgh\, EH2 1JE\, United Kingdom
CATEGORIES:Courses
END:VEVENT
BEGIN:VEVENT
DTSTART;TZID=UTC:20240820T093000
DTEND;TZID=UTC:20240820T123000
DTSTAMP:20260420T144220
CREATED:20240623T010805Z
LAST-MODIFIED:20240623T010805Z
UID:10009524-1724146200-1724157000@www.worksmartpa.com
SUMMARY:Excel Intermediate - 2 days
DESCRIPTION:
URL:https://www.worksmartpa.com/event/excel-intermediate-2-days-2/2024-08-20/
LOCATION:Virtual\, On-line\, Virtual\, United Kingdom
CATEGORIES:Courses
END:VEVENT
BEGIN:VEVENT
DTSTART;TZID=UTC:20240820T093000
DTEND;TZID=UTC:20240820T123000
DTSTAMP:20260420T144220
CREATED:20240623T010803Z
LAST-MODIFIED:20240623T010803Z
UID:10009531-1724146200-1724157000@www.worksmartpa.com
SUMMARY:Excel Intermediate - 2 days
DESCRIPTION:
URL:https://www.worksmartpa.com/event/excel-intermediate-2-days/2024-08-20/
LOCATION:Virtual\, On-line\, Virtual\, United Kingdom
CATEGORIES:Courses
END:VEVENT
BEGIN:VEVENT
DTSTART;TZID=UTC:20240816T113000
DTEND;TZID=UTC:20240816T170000
DTSTAMP:20260420T144220
CREATED:20240103T014023Z
LAST-MODIFIED:20240103T014023Z
UID:10007997-1723807800-1723827600@www.worksmartpa.com
SUMMARY:Microsoft Excel Level 2
DESCRIPTION:
URL:https://www.worksmartpa.com/event/microsoft-excel-level-2/2024-08-16/
LOCATION:Pitman Training Glasgow\, First Floor\, 82 Union Street\, Glasgow\, G1 2QS\, United Kingdom
CATEGORIES:Courses
END:VEVENT
BEGIN:VEVENT
DTSTART;TZID=UTC:20240815T093000
DTEND;TZID=UTC:20240815T163000
DTSTAMP:20260420T144220
CREATED:20240810T011055Z
LAST-MODIFIED:20240810T011055Z
UID:10009675-1723714200-1723739400@www.worksmartpa.com
SUMMARY:Touch Typing Workshop (2 Days)
DESCRIPTION:
URL:https://www.worksmartpa.com/event/touch-typing-workshop-2-days/2024-08-15/
LOCATION:Pitman Training Stratford E15\, Boardman House\, 64 Broadway\, Stratford\, London\, E15 1NT
CATEGORIES:Courses
END:VEVENT
BEGIN:VEVENT
DTSTART;TZID=UTC:20240815T093000
DTEND;TZID=UTC:20240815T163000
DTSTAMP:20260420T144220
CREATED:20240810T011041Z
LAST-MODIFIED:20240810T011041Z
UID:10009690-1723714200-1723739400@www.worksmartpa.com
SUMMARY:Microsoft Project Level 1
DESCRIPTION:
URL:https://www.worksmartpa.com/event/microsoft-project-level-1-3/2024-08-15/
LOCATION:Pitman Training Glasgow\, First Floor\, 82 Union Street\, Glasgow\, G1 2QS\, United Kingdom
CATEGORIES:Courses
END:VEVENT
BEGIN:VEVENT
DTSTART;TZID=UTC:20240814T093000
DTEND;TZID=UTC:20240814T163000
DTSTAMP:20260420T144220
CREATED:20240810T011048Z
LAST-MODIFIED:20240810T011048Z
UID:10009683-1723627800-1723653000@www.worksmartpa.com
SUMMARY:Presentation Skills - 2 days
DESCRIPTION:
URL:https://www.worksmartpa.com/event/presentation-skills-2-days-4/2024-08-14/
LOCATION:Pitman Training Edinburgh\, 4 Queen St.\, First Floor\, Buzzer 12\, Edinburgh\, EH2 1JE\, United Kingdom
CATEGORIES:Courses
END:VEVENT
BEGIN:VEVENT
DTSTART;TZID=UTC:20240814T093000
DTEND;TZID=UTC:20240814T163000
DTSTAMP:20260420T144220
CREATED:20240810T011046Z
LAST-MODIFIED:20240810T011046Z
UID:10009685-1723627800-1723653000@www.worksmartpa.com
SUMMARY:Microsoft Project Complete - 2 days
DESCRIPTION:
URL:https://www.worksmartpa.com/event/microsoft-project-complete-2-days-4/2024-08-14/
LOCATION:Pitman Training Edinburgh\, 4 Queen St.\, First Floor\, Buzzer 12\, Edinburgh\, EH2 1JE\, United Kingdom
CATEGORIES:Courses
END:VEVENT
BEGIN:VEVENT
DTSTART;TZID=UTC:20240812T093000
DTEND;TZID=UTC:20240812T170000
DTSTAMP:20260420T144220
CREATED:20240103T014041Z
LAST-MODIFIED:20240103T014041Z
UID:10007957-1723455000-1723482000@www.worksmartpa.com
SUMMARY:Microsoft PowerPoint Level 2
DESCRIPTION:
URL:https://www.worksmartpa.com/event/microsoft-powerpoint-level-2-2/2024-08-12/
LOCATION:Pitman Training Aberdeen\, 469 Union Street\, Aberdeen\, AB11 6DB\, United Kingdom
CATEGORIES:Courses
END:VEVENT
BEGIN:VEVENT
DTSTART;TZID=UTC:20240811T080000
DTEND;TZID=UTC:20240811T170000
DTSTAMP:20260420T144220
CREATED:20230128T022905Z
LAST-MODIFIED:20230128T022905Z
UID:10005844-1723363200-1723395600@www.worksmartpa.com
SUMMARY:Flexi-start courses with Pitman Training
DESCRIPTION:Flexi-start courses available – \nDistance learning: \nhttps://www.pitman-training.com/types-of-training/distance-learning/ \nOn-line Learning \nhttps://www.pitman-training.com/types-of-training/online-courses/ \nAll other courses and learning channels: \nhttps://www.pitman-training.com
URL:https://www.worksmartpa.com/event/flexi-start-courses-with-pitman-training-5/2024-08-11/
LOCATION:Virtual\, On-line\, Virtual\, United Kingdom
CATEGORIES:Courses
END:VEVENT
BEGIN:VEVENT
DTSTART;TZID=UTC:20240808T093000
DTEND;TZID=UTC:20240808T170000
DTSTAMP:20260420T144220
CREATED:20240103T014028Z
LAST-MODIFIED:20240103T014028Z
UID:10007985-1723109400-1723136400@www.worksmartpa.com
SUMMARY:Microsoft Excel Level 2
DESCRIPTION:
URL:https://www.worksmartpa.com/event/microsoft-excel-level-2-2/2024-08-08/
LOCATION:Pitman Training Edinburgh\, 4 Queen St.\, First Floor\, Buzzer 12\, Edinburgh\, EH2 1JE\, United Kingdom
CATEGORIES:Courses
END:VEVENT
BEGIN:VEVENT
DTSTART;TZID=UTC:20240807T093000
DTEND;TZID=UTC:20240807T170000
DTSTAMP:20260420T144220
CREATED:20240315T004522Z
LAST-MODIFIED:20240315T004552Z
UID:10009045-1723023000-1723050000@www.worksmartpa.com
SUMMARY:Influencing Skills Seminar
DESCRIPTION:
URL:https://www.worksmartpa.com/event/influencing-skills-seminar/2024-08-07/
LOCATION:Pitman Training Glasgow\, First Floor\, 82 Union Street\, Glasgow\, G1 2QS\, United Kingdom
CATEGORIES:Courses
END:VEVENT
BEGIN:VEVENT
DTSTART;TZID=UTC:20240806T093000
DTEND;TZID=UTC:20240806T170000
DTSTAMP:20260420T144220
CREATED:20240103T014030Z
LAST-MODIFIED:20240103T014030Z
UID:10007975-1722936600-1722963600@www.worksmartpa.com
SUMMARY:Microsoft Excel Level 1
DESCRIPTION:
URL:https://www.worksmartpa.com/event/microsoft-excel-level-1/2024-08-06/
LOCATION:Pitman Training Glasgow\, First Floor\, 82 Union Street\, Glasgow\, G1 2QS\, United Kingdom
CATEGORIES:Courses
END:VEVENT
BEGIN:VEVENT
DTSTART;TZID=UTC:20240806T093000
DTEND;TZID=UTC:20240806T170000
DTSTAMP:20260420T144220
CREATED:20231228T164646Z
LAST-MODIFIED:20231228T164646Z
UID:10007889-1722936600-1722963600@www.worksmartpa.com
SUMMARY:Telephone Techniques
DESCRIPTION:
URL:https://www.worksmartpa.com/event/telephone-techniques-7/2024-08-06/
LOCATION:Pitman Training Edinburgh\, 4 Queen St.\, First Floor\, Buzzer 12\, Edinburgh\, EH2 1JE\, United Kingdom
CATEGORIES:Courses
END:VEVENT
BEGIN:VEVENT
DTSTART;TZID=UTC:20240806T090000
DTEND;TZID=UTC:20240806T170000
DTSTAMP:20260420T144220
CREATED:20240623T010756Z
LAST-MODIFIED:20240623T010756Z
UID:10009542-1722934800-1722963600@www.worksmartpa.com
SUMMARY:Adobe Photoshop
DESCRIPTION:
URL:https://www.worksmartpa.com/event/adobe-photoshop-2/2024-08-06/
LOCATION:Pitman Training Glasgow\, First Floor\, 82 Union Street\, Glasgow\, G1 2QS\, United Kingdom
CATEGORIES:Courses
END:VEVENT
BEGIN:VEVENT
DTSTART;TZID=UTC:20240805T093000
DTEND;TZID=UTC:20240805T170000
DTSTAMP:20260420T144220
CREATED:20240103T014102Z
LAST-MODIFIED:20240103T014102Z
UID:10007910-1722850200-1722877200@www.worksmartpa.com
SUMMARY:Microsoft Word Level 1
DESCRIPTION:
URL:https://www.worksmartpa.com/event/microsoft-word-level-1/2024-08-05/
LOCATION:Pitman Training Glasgow\, First Floor\, 82 Union Street\, Glasgow\, G1 2QS\, United Kingdom
CATEGORIES:Courses
END:VEVENT
BEGIN:VEVENT
DTSTART;TZID=UTC:20240805T093000
DTEND;TZID=UTC:20240805T170000
DTSTAMP:20260420T144220
CREATED:20240103T014033Z
LAST-MODIFIED:20240103T014033Z
UID:10007970-1722850200-1722877200@www.worksmartpa.com
SUMMARY:Microsoft Excel Level 1
DESCRIPTION:
URL:https://www.worksmartpa.com/event/microsoft-excel-level-1-2/2024-08-05/
LOCATION:Pitman Training Edinburgh\, 4 Queen St.\, First Floor\, Buzzer 12\, Edinburgh\, EH2 1JE\, United Kingdom
CATEGORIES:Courses
END:VEVENT
BEGIN:VEVENT
DTSTART;TZID=UTC:20240802T113000
DTEND;TZID=UTC:20240802T170000
DTSTAMP:20260420T144221
CREATED:20231228T164651Z
LAST-MODIFIED:20231228T164651Z
UID:10007875-1722598200-1722618000@www.worksmartpa.com
SUMMARY:Meetings and Minutes Seminar
DESCRIPTION:
URL:https://www.worksmartpa.com/event/meetings-and-minutes-seminar-4/2024-08-02/
LOCATION:Pitman Training Aberdeen\, 469 Union Street\, Aberdeen\, AB11 6DB\, United Kingdom
CATEGORIES:Courses
END:VEVENT
BEGIN:VEVENT
DTSTART;TZID=UTC:20240802T093000
DTEND;TZID=UTC:20240802T170000
DTSTAMP:20260420T144221
CREATED:20231109T095759Z
LAST-MODIFIED:20231109T095759Z
UID:10007730-1722591000-1722618000@www.worksmartpa.com
SUMMARY:Time Management Seminar
DESCRIPTION:
URL:https://www.worksmartpa.com/event/time-management-seminar-4/2024-08-02/
LOCATION:Pitman Training Aberdeen\, 469 Union Street\, Aberdeen\, AB11 6DB\, United Kingdom
CATEGORIES:Courses
END:VEVENT
BEGIN:VEVENT
DTSTART;TZID=UTC:20240802T093000
DTEND;TZID=UTC:20240802T170000
DTSTAMP:20260420T144221
CREATED:20231109T095753Z
LAST-MODIFIED:20231109T095753Z
UID:10007737-1722591000-1722618000@www.worksmartpa.com
SUMMARY:Working with Assertiveness
DESCRIPTION:
URL:https://www.worksmartpa.com/event/working-with-assertiveness/2024-08-02/
LOCATION:Pitman Training Aberdeen\, 469 Union Street\, Aberdeen\, AB11 6DB\, United Kingdom
CATEGORIES:Courses
END:VEVENT
BEGIN:VEVENT
DTSTART;TZID=UTC:20240801T093000
DTEND;TZID=UTC:20240801T170000
DTSTAMP:20260420T144221
CREATED:20240103T014035Z
LAST-MODIFIED:20240103T014035Z
UID:10007965-1722504600-1722531600@www.worksmartpa.com
SUMMARY:Microsoft Excel Level 1
DESCRIPTION:
URL:https://www.worksmartpa.com/event/microsoft-excel-level-1-3/2024-08-01/
LOCATION:Pitman Training Aberdeen\, 469 Union Street\, Aberdeen\, AB11 6DB\, United Kingdom
CATEGORIES:Courses
END:VEVENT
BEGIN:VEVENT
DTSTART;TZID=UTC:20240725T093000
DTEND;TZID=UTC:20240725T170000
DTSTAMP:20260420T144221
CREATED:20240103T014100Z
LAST-MODIFIED:20240103T014100Z
UID:10007916-1721899800-1721926800@www.worksmartpa.com
SUMMARY:Microsoft Word Level 2
DESCRIPTION:
URL:https://www.worksmartpa.com/event/microsoft-word-level-2-2/2024-07-25/
LOCATION:Pitman Training Aberdeen\, 469 Union Street\, Aberdeen\, AB11 6DB\, United Kingdom
CATEGORIES:Courses
END:VEVENT
BEGIN:VEVENT
DTSTART;TZID=UTC:20240724T093000
DTEND;TZID=UTC:20240724T170000
DTSTAMP:20260420T144221
CREATED:20240315T004535Z
LAST-MODIFIED:20240315T004557Z
UID:10009036-1721813400-1721840400@www.worksmartpa.com
SUMMARY:Executive PA/Secretary Seminar - 2 days
DESCRIPTION:
URL:https://www.worksmartpa.com/event/executive-pa-secretary-seminar-2-days-2/2024-07-24/
LOCATION:Pitman Training Glasgow\, First Floor\, 82 Union Street\, Glasgow\, G1 2QS\, United Kingdom
CATEGORIES:Courses
END:VEVENT
BEGIN:VEVENT
DTSTART;TZID=UTC:20240724T093000
DTEND;TZID=UTC:20240724T170000
DTSTAMP:20260420T144221
CREATED:20231228T164701Z
LAST-MODIFIED:20231228T164701Z
UID:10007825-1721813400-1721840400@www.worksmartpa.com
SUMMARY:EA/PA Advanced Masterclass - 2 days
DESCRIPTION:
URL:https://www.worksmartpa.com/event/ea-pa-advanced-masterclass-2-days-3/2024-07-24/
LOCATION:Pitman Training Glasgow\, First Floor\, 82 Union Street\, Glasgow\, G1 2QS\, United Kingdom
CATEGORIES:Courses
END:VEVENT
END:VCALENDAR