BEGIN:VCALENDAR
VERSION:2.0
PRODID:-//worksmartpa - ECPv6.15.20//NONSGML v1.0//EN
CALSCALE:GREGORIAN
METHOD:PUBLISH
X-ORIGINAL-URL:https://www.worksmartpa.com
X-WR-CALDESC:Events for worksmartpa
REFRESH-INTERVAL;VALUE=DURATION:PT1H
X-Robots-Tag:noindex
X-PUBLISHED-TTL:PT1H
BEGIN:VTIMEZONE
TZID:UTC
BEGIN:STANDARD
TZOFFSETFROM:+0000
TZOFFSETTO:+0000
TZNAME:UTC
DTSTART:20230101T000000
END:STANDARD
END:VTIMEZONE
BEGIN:VEVENT
DTSTART;TZID=UTC:20240909T093000
DTEND;TZID=UTC:20240909T163000
DTSTAMP:20260420T083409
CREATED:20240813T015906Z
LAST-MODIFIED:20240813T015906Z
UID:10009705-1725874200-1725899400@www.worksmartpa.com
SUMMARY:Working with Stress
DESCRIPTION:
URL:https://www.worksmartpa.com/event/working-with-stress-2/2024-09-09/
LOCATION:Pitman Training Edinburgh\, 4 Queen St.\, First Floor\, Buzzer 12\, Edinburgh\, EH2 1JE\, United Kingdom
CATEGORIES:Courses
END:VEVENT
BEGIN:VEVENT
DTSTART;TZID=UTC:20240909T090000
DTEND;TZID=UTC:20240909T170000
DTSTAMP:20260420T083409
CREATED:20240623T010756Z
LAST-MODIFIED:20240623T010756Z
UID:10009543-1725872400-1725901200@www.worksmartpa.com
SUMMARY:Adobe Photoshop
DESCRIPTION:
URL:https://www.worksmartpa.com/event/adobe-photoshop-2/2024-09-09/
LOCATION:Pitman Training Glasgow\, First Floor\, 82 Union Street\, Glasgow\, G1 2QS\, United Kingdom
CATEGORIES:Courses
END:VEVENT
BEGIN:VEVENT
DTSTART;TZID=UTC:20240906T093000
DTEND;TZID=UTC:20240906T170000
DTSTAMP:20260420T083409
CREATED:20231109T095806Z
LAST-MODIFIED:20231109T095806Z
UID:10007714-1725615000-1725642000@www.worksmartpa.com
SUMMARY:Better Business Writing Skills
DESCRIPTION:
URL:https://www.worksmartpa.com/event/better-business-writing-skills/2024-09-06/
LOCATION:Pitman Training Aberdeen\, 469 Union Street\, Aberdeen\, AB11 6DB\, United Kingdom
CATEGORIES:Courses
END:VEVENT
BEGIN:VEVENT
DTSTART;TZID=UTC:20240906T090000
DTEND;TZID=UTC:20240906T170000
DTSTAMP:20260420T083409
CREATED:20231228T164837Z
LAST-MODIFIED:20231228T164837Z
UID:10007815-1725613200-1725642000@www.worksmartpa.com
SUMMARY:Professional Receptionist Seminar
DESCRIPTION:
URL:https://www.worksmartpa.com/event/professional-receptionist-seminar-6/2024-09-06/
LOCATION:Pitman Training Aberdeen\, 469 Union Street\, Aberdeen\, AB11 6DB\, United Kingdom
CATEGORIES:Courses
END:VEVENT
BEGIN:VEVENT
DTSTART;TZID=UTC:20240905T093000
DTEND;TZID=UTC:20240905T173000
DTSTAMP:20260420T083409
CREATED:20240623T010753Z
LAST-MODIFIED:20240623T010753Z
UID:10009550-1725528600-1725557400@www.worksmartpa.com
SUMMARY:Personal Development Workshops – Assertiveness
DESCRIPTION:
URL:https://www.worksmartpa.com/event/personal-development-workshops-assertiveness/2024-09-05/
LOCATION:Pitman Training Glasgow\, First Floor\, 82 Union Street\, Glasgow\, G1 2QS\, United Kingdom
CATEGORIES:Courses
END:VEVENT
BEGIN:VEVENT
DTSTART;TZID=UTC:20240905T093000
DTEND;TZID=UTC:20240905T163000
DTSTAMP:20260420T083409
CREATED:20240810T011054Z
LAST-MODIFIED:20240810T011054Z
UID:10009677-1725528600-1725553800@www.worksmartpa.com
SUMMARY:Microsoft Excel Level 3
DESCRIPTION:
URL:https://www.worksmartpa.com/event/microsoft-excel-level-3-4/
LOCATION:Pitman Training Edinburgh\, 4 Queen St.\, First Floor\, Buzzer 12\, Edinburgh\, EH2 1JE\, United Kingdom
CATEGORIES:Courses
END:VEVENT
BEGIN:VEVENT
DTSTART;TZID=UTC:20240904T093000
DTEND;TZID=UTC:20240904T170000
DTSTAMP:20260420T083409
CREATED:20240315T004511Z
LAST-MODIFIED:20240315T004543Z
UID:10009056-1725442200-1725469200@www.worksmartpa.com
SUMMARY:Management Skills
DESCRIPTION:
URL:https://www.worksmartpa.com/event/management-skills-7/2024-09-04/
LOCATION:Pitman Training Edinburgh\, 4 Queen St.\, First Floor\, Buzzer 12\, Edinburgh\, EH2 1JE\, United Kingdom
CATEGORIES:Courses
END:VEVENT
BEGIN:VEVENT
DTSTART;TZID=UTC:20240903T093000
DTEND;TZID=UTC:20240903T170000
DTSTAMP:20260420T083409
CREATED:20240315T004458Z
LAST-MODIFIED:20240315T004528Z
UID:10009076-1725355800-1725382800@www.worksmartpa.com
SUMMARY:Communication Skills
DESCRIPTION:
URL:https://www.worksmartpa.com/event/communication-skills-11/2024-09-03/
LOCATION:Pitman Training Edinburgh\, 4 Queen St.\, First Floor\, Buzzer 12\, Edinburgh\, EH2 1JE\, United Kingdom
CATEGORIES:Courses
END:VEVENT
BEGIN:VEVENT
DTSTART;TZID=UTC:20240901T080000
DTEND;TZID=UTC:20240901T170000
DTSTAMP:20260420T083409
CREATED:20230128T022905Z
LAST-MODIFIED:20230128T022905Z
UID:10005845-1725177600-1725210000@www.worksmartpa.com
SUMMARY:Flexi-start courses with Pitman Training
DESCRIPTION:Flexi-start courses available – \nDistance learning: \nhttps://www.pitman-training.com/types-of-training/distance-learning/ \nOn-line Learning \nhttps://www.pitman-training.com/types-of-training/online-courses/ \nAll other courses and learning channels: \nhttps://www.pitman-training.com
URL:https://www.worksmartpa.com/event/flexi-start-courses-with-pitman-training-5/2024-09-01/
LOCATION:Virtual\, On-line\, Virtual\, United Kingdom
CATEGORIES:Courses
END:VEVENT
BEGIN:VEVENT
DTSTART;TZID=UTC:20240830T093000
DTEND;TZID=UTC:20240830T163000
DTSTAMP:20260420T083409
CREATED:20240810T011100Z
LAST-MODIFIED:20240810T011100Z
UID:10009671-1725010200-1725035400@www.worksmartpa.com
SUMMARY:SpeedWriting Workshop
DESCRIPTION:
URL:https://www.worksmartpa.com/event/speedwriting-workshop-6/2024-08-30/
LOCATION:Pitman Training Glasgow\, First Floor\, 82 Union Street\, Glasgow\, G1 2QS\, United Kingdom
CATEGORIES:Courses
END:VEVENT
BEGIN:VEVENT
DTSTART;TZID=UTC:20240829T090000
DTEND;TZID=UTC:20240829T170000
DTSTAMP:20260420T083409
CREATED:20231228T164841Z
LAST-MODIFIED:20231228T164841Z
UID:10007807-1724922000-1724950800@www.worksmartpa.com
SUMMARY:Professional Receptionist Seminar
DESCRIPTION:
URL:https://www.worksmartpa.com/event/professional-receptionist-seminar-8/2024-08-29/
LOCATION:Pitman Training Stratford E15\, Boardman House\, 64 Broadway\, Stratford\, London\, E15 1NT
CATEGORIES:Courses
END:VEVENT
BEGIN:VEVENT
DTSTART;TZID=UTC:20240828T093000
DTEND;TZID=UTC:20240828T170000
DTSTAMP:20260420T083409
CREATED:20231228T164655Z
LAST-MODIFIED:20231228T164655Z
UID:10007865-1724837400-1724864400@www.worksmartpa.com
SUMMARY:Meetings and Minutes Seminar
DESCRIPTION:
URL:https://www.worksmartpa.com/event/meetings-and-minutes-seminar-6/2024-08-28/
LOCATION:Pitman Training Edinburgh\, 4 Queen St.\, First Floor\, Buzzer 12\, Edinburgh\, EH2 1JE\, United Kingdom
CATEGORIES:Courses
END:VEVENT
BEGIN:VEVENT
DTSTART;TZID=UTC:20240828T093000
DTEND;TZID=UTC:20240828T170000
DTSTAMP:20260420T083409
CREATED:20231228T164653Z
LAST-MODIFIED:20231228T164653Z
UID:10007870-1724837400-1724864400@www.worksmartpa.com
SUMMARY:Meetings and Minutes Seminar
DESCRIPTION:
URL:https://www.worksmartpa.com/event/meetings-and-minutes-seminar-5/2024-08-28/
LOCATION:Pitman Training Stratford E15\, Boardman House\, 64 Broadway\, Stratford\, London\, E15 1NT
CATEGORIES:Courses
END:VEVENT
BEGIN:VEVENT
DTSTART;TZID=UTC:20240828T090000
DTEND;TZID=UTC:20240828T170000
DTSTAMP:20260420T083409
CREATED:20240623T010804Z
LAST-MODIFIED:20240623T010804Z
UID:10009528-1724835600-1724864400@www.worksmartpa.com
SUMMARY:Microsoft Project Complete – 2-days
DESCRIPTION:
URL:https://www.worksmartpa.com/event/microsoft-project-complete-2-days/2024-08-28/
LOCATION:Pitman Training Glasgow\, First Floor\, 82 Union Street\, Glasgow\, G1 2QS\, United Kingdom
CATEGORIES:Courses
END:VEVENT
BEGIN:VEVENT
DTSTART;TZID=UTC:20240827T093000
DTEND;TZID=UTC:20240827T170000
DTSTAMP:20260420T083409
CREATED:20240103T014054Z
LAST-MODIFIED:20240103T014054Z
UID:10007930-1724751000-1724778000@www.worksmartpa.com
SUMMARY:Microsoft Word Level 3
DESCRIPTION:
URL:https://www.worksmartpa.com/event/microsoft-word-level-3-2/2024-08-27/
LOCATION:Pitman Training Aberdeen\, 469 Union Street\, Aberdeen\, AB11 6DB\, United Kingdom
CATEGORIES:Courses
END:VEVENT
BEGIN:VEVENT
DTSTART;TZID=UTC:20240827T093000
DTEND;TZID=UTC:20240827T163000
DTSTAMP:20260420T083410
CREATED:20240623T010800Z
LAST-MODIFIED:20240623T010800Z
UID:10009535-1724751000-1724776200@www.worksmartpa.com
SUMMARY:Time Management
DESCRIPTION:
URL:https://www.worksmartpa.com/event/time-management-12/2024-08-27/
LOCATION:Pitman Training Edinburgh\, 4 Queen St.\, First Floor\, Buzzer 12\, Edinburgh\, EH2 1JE\, United Kingdom
CATEGORIES:Courses
END:VEVENT
BEGIN:VEVENT
DTSTART;TZID=UTC:20240823T093000
DTEND;TZID=UTC:20240823T170000
DTSTAMP:20260420T083410
CREATED:20231228T164644Z
LAST-MODIFIED:20231228T164644Z
UID:10007893-1724405400-1724432400@www.worksmartpa.com
SUMMARY:Telephone Techniques
DESCRIPTION:
URL:https://www.worksmartpa.com/event/telephone-techniques-6/2024-08-23/
LOCATION:Pitman Training Aberdeen\, 469 Union Street\, Aberdeen\, AB11 6DB\, United Kingdom
CATEGORIES:Courses
END:VEVENT
BEGIN:VEVENT
DTSTART;TZID=UTC:20240823T093000
DTEND;TZID=UTC:20240823T170000
DTSTAMP:20260420T083410
CREATED:20231102T120443Z
LAST-MODIFIED:20231102T120443Z
UID:10007679-1724405400-1724432400@www.worksmartpa.com
SUMMARY:Communication Skills
DESCRIPTION:
URL:https://www.worksmartpa.com/event/communication-skills-10/2024-08-23/
LOCATION:Pitman Training Aberdeen\, 469 Union Street\, Aberdeen\, AB11 6DB\, United Kingdom
CATEGORIES:Courses
END:VEVENT
BEGIN:VEVENT
DTSTART;TZID=UTC:20240822T093000
DTEND;TZID=UTC:20240822T170000
DTSTAMP:20260420T083410
CREATED:20240103T014047Z
LAST-MODIFIED:20240103T014047Z
UID:10007945-1724319000-1724346000@www.worksmartpa.com
SUMMARY:Microsoft PowerPoint Level 1
DESCRIPTION:
URL:https://www.worksmartpa.com/event/microsoft-powerpoint-level-1-2/2024-08-22/
LOCATION:Pitman Training Edinburgh\, 4 Queen St.\, First Floor\, Buzzer 12\, Edinburgh\, EH2 1JE\, United Kingdom
CATEGORIES:Courses
END:VEVENT
BEGIN:VEVENT
DTSTART;TZID=UTC:20240821T093000
DTEND;TZID=UTC:20240821T170000
DTSTAMP:20260420T083410
CREATED:20240315T004509Z
LAST-MODIFIED:20240315T004541Z
UID:10009060-1724232600-1724259600@www.worksmartpa.com
SUMMARY:Microsoft Project Level 2
DESCRIPTION:
URL:https://www.worksmartpa.com/event/microsoft-project-level-2/2024-08-21/
LOCATION:Pitman Training Aberdeen\, 469 Union Street\, Aberdeen\, AB11 6DB\, United Kingdom
CATEGORIES:Courses
END:VEVENT
BEGIN:VEVENT
DTSTART;TZID=UTC:20240820T113000
DTEND;TZID=UTC:20240820T170000
DTSTAMP:20260420T083410
CREATED:20240315T004529Z
LAST-MODIFIED:20240315T004556Z
UID:10009039-1724153400-1724173200@www.worksmartpa.com
SUMMARY:Executive PA/Secretary Seminar - 2 days
DESCRIPTION:
URL:https://www.worksmartpa.com/event/executive-pa-secretary-seminar-2-days/2024-08-20/
LOCATION:Pitman Training Edinburgh\, 4 Queen St.\, First Floor\, Buzzer 12\, Edinburgh\, EH2 1JE\, United Kingdom
CATEGORIES:Courses
END:VEVENT
BEGIN:VEVENT
DTSTART;TZID=UTC:20240820T093000
DTEND;TZID=UTC:20240820T170000
DTSTAMP:20260420T083410
CREATED:20240315T004503Z
LAST-MODIFIED:20240315T004534Z
UID:10009067-1724146200-1724173200@www.worksmartpa.com
SUMMARY:Train the Trainer – 3 Days
DESCRIPTION:
URL:https://www.worksmartpa.com/event/train-the-trainer-3-days/2024-08-20/
LOCATION:Pitman Training Glasgow\, First Floor\, 82 Union Street\, Glasgow\, G1 2QS\, United Kingdom
CATEGORIES:Courses
END:VEVENT
BEGIN:VEVENT
DTSTART;TZID=UTC:20240820T093000
DTEND;TZID=UTC:20240820T170000
DTSTAMP:20260420T083410
CREATED:20231228T164704Z
LAST-MODIFIED:20231228T164704Z
UID:10007845-1724146200-1724173200@www.worksmartpa.com
SUMMARY:EA/PA Advanced Masterclass - 2 days
DESCRIPTION:
URL:https://www.worksmartpa.com/event/ea-pa-advanced-masterclass-2-days-5/2024-08-20/
LOCATION:Pitman Training Edinburgh\, 4 Queen St.\, First Floor\, Buzzer 12\, Edinburgh\, EH2 1JE\, United Kingdom
CATEGORIES:Courses
END:VEVENT
BEGIN:VEVENT
DTSTART;TZID=UTC:20240820T093000
DTEND;TZID=UTC:20240820T123000
DTSTAMP:20260420T083410
CREATED:20240623T010805Z
LAST-MODIFIED:20240623T010805Z
UID:10009524-1724146200-1724157000@www.worksmartpa.com
SUMMARY:Excel Intermediate - 2 days
DESCRIPTION:
URL:https://www.worksmartpa.com/event/excel-intermediate-2-days-2/2024-08-20/
LOCATION:Virtual\, On-line\, Virtual\, United Kingdom
CATEGORIES:Courses
END:VEVENT
BEGIN:VEVENT
DTSTART;TZID=UTC:20240820T093000
DTEND;TZID=UTC:20240820T123000
DTSTAMP:20260420T083410
CREATED:20240623T010803Z
LAST-MODIFIED:20240623T010803Z
UID:10009531-1724146200-1724157000@www.worksmartpa.com
SUMMARY:Excel Intermediate - 2 days
DESCRIPTION:
URL:https://www.worksmartpa.com/event/excel-intermediate-2-days/2024-08-20/
LOCATION:Virtual\, On-line\, Virtual\, United Kingdom
CATEGORIES:Courses
END:VEVENT
BEGIN:VEVENT
DTSTART;TZID=UTC:20240816T113000
DTEND;TZID=UTC:20240816T170000
DTSTAMP:20260420T083410
CREATED:20240103T014023Z
LAST-MODIFIED:20240103T014023Z
UID:10007997-1723807800-1723827600@www.worksmartpa.com
SUMMARY:Microsoft Excel Level 2
DESCRIPTION:
URL:https://www.worksmartpa.com/event/microsoft-excel-level-2/2024-08-16/
LOCATION:Pitman Training Glasgow\, First Floor\, 82 Union Street\, Glasgow\, G1 2QS\, United Kingdom
CATEGORIES:Courses
END:VEVENT
BEGIN:VEVENT
DTSTART;TZID=UTC:20240815T093000
DTEND;TZID=UTC:20240815T163000
DTSTAMP:20260420T083410
CREATED:20240810T011055Z
LAST-MODIFIED:20240810T011055Z
UID:10009675-1723714200-1723739400@www.worksmartpa.com
SUMMARY:Touch Typing Workshop (2 Days)
DESCRIPTION:
URL:https://www.worksmartpa.com/event/touch-typing-workshop-2-days/2024-08-15/
LOCATION:Pitman Training Stratford E15\, Boardman House\, 64 Broadway\, Stratford\, London\, E15 1NT
CATEGORIES:Courses
END:VEVENT
BEGIN:VEVENT
DTSTART;TZID=UTC:20240815T093000
DTEND;TZID=UTC:20240815T163000
DTSTAMP:20260420T083410
CREATED:20240810T011041Z
LAST-MODIFIED:20240810T011041Z
UID:10009690-1723714200-1723739400@www.worksmartpa.com
SUMMARY:Microsoft Project Level 1
DESCRIPTION:
URL:https://www.worksmartpa.com/event/microsoft-project-level-1-3/2024-08-15/
LOCATION:Pitman Training Glasgow\, First Floor\, 82 Union Street\, Glasgow\, G1 2QS\, United Kingdom
CATEGORIES:Courses
END:VEVENT
BEGIN:VEVENT
DTSTART;TZID=UTC:20240814T093000
DTEND;TZID=UTC:20240814T163000
DTSTAMP:20260420T083410
CREATED:20240810T011048Z
LAST-MODIFIED:20240810T011048Z
UID:10009683-1723627800-1723653000@www.worksmartpa.com
SUMMARY:Presentation Skills - 2 days
DESCRIPTION:
URL:https://www.worksmartpa.com/event/presentation-skills-2-days-4/2024-08-14/
LOCATION:Pitman Training Edinburgh\, 4 Queen St.\, First Floor\, Buzzer 12\, Edinburgh\, EH2 1JE\, United Kingdom
CATEGORIES:Courses
END:VEVENT
BEGIN:VEVENT
DTSTART;TZID=UTC:20240814T093000
DTEND;TZID=UTC:20240814T163000
DTSTAMP:20260420T083410
CREATED:20240810T011046Z
LAST-MODIFIED:20240810T011046Z
UID:10009685-1723627800-1723653000@www.worksmartpa.com
SUMMARY:Microsoft Project Complete - 2 days
DESCRIPTION:
URL:https://www.worksmartpa.com/event/microsoft-project-complete-2-days-4/2024-08-14/
LOCATION:Pitman Training Edinburgh\, 4 Queen St.\, First Floor\, Buzzer 12\, Edinburgh\, EH2 1JE\, United Kingdom
CATEGORIES:Courses
END:VEVENT
END:VCALENDAR