BEGIN:VCALENDAR
VERSION:2.0
PRODID:-//worksmartpa - ECPv6.15.20//NONSGML v1.0//EN
CALSCALE:GREGORIAN
METHOD:PUBLISH
X-WR-CALNAME:worksmartpa
X-ORIGINAL-URL:https://www.worksmartpa.com
X-WR-CALDESC:Events for worksmartpa
REFRESH-INTERVAL;VALUE=DURATION:PT1H
X-Robots-Tag:noindex
X-PUBLISHED-TTL:PT1H
BEGIN:VTIMEZONE
TZID:UTC
BEGIN:STANDARD
TZOFFSETFROM:+0000
TZOFFSETTO:+0000
TZNAME:UTC
DTSTART:20240101T000000
END:STANDARD
END:VTIMEZONE
BEGIN:VEVENT
DTSTART;TZID=UTC:20250606T090000
DTEND;TZID=UTC:20250606T163000
DTSTAMP:20260421T022429
CREATED:20241108T003134Z
LAST-MODIFIED:20241108T003134Z
UID:10010102-1749200400-1749227400@www.worksmartpa.com
SUMMARY:Executive Support Professional Roadshow
DESCRIPTION:
URL:https://www.worksmartpa.com/event/executive-support-professional-roadshow-6/
LOCATION:Venue to be confirmed – London\, Awaiting update\, London\, United Kingdom
CATEGORIES:Courses
END:VEVENT
BEGIN:VEVENT
DTSTART;TZID=UTC:20250605T180000
DTEND;TZID=UTC:20250605T200000
DTSTAMP:20260421T022429
CREATED:20250514T122657Z
LAST-MODIFIED:20250514T122657Z
UID:10011726-1749146400-1749153600@www.worksmartpa.com
SUMMARY:East Midlands PA Forum event
DESCRIPTION:
URL:https://www.worksmartpa.com/event/east-midlands-pa-forum-event/
LOCATION:National Space Centre\, Exploration Drive\, Leicester\, LE4 5NS
CATEGORIES:Events
END:VEVENT
BEGIN:VEVENT
DTSTART;TZID=UTC:20250605T170000
DTEND;TZID=UTC:20250605T180000
DTSTAMP:20260421T022429
CREATED:20250328T090127Z
LAST-MODIFIED:20250328T090127Z
UID:10011447-1749142800-1749146400@www.worksmartpa.com
SUMMARY:Tech Hack
DESCRIPTION:
URL:https://www.worksmartpa.com/event/tech-hack-2/2025-06-05/
LOCATION:Virtual\, On-line\, Virtual\, United Kingdom
CATEGORIES:Courses
END:VEVENT
BEGIN:VEVENT
DTSTART;TZID=UTC:20250605T103000
DTEND;TZID=UTC:20250605T163000
DTSTAMP:20260421T022429
CREATED:20250318T144738Z
LAST-MODIFIED:20250318T144738Z
UID:10011428-1749119400-1749141000@www.worksmartpa.com
SUMMARY:Minute Taking
DESCRIPTION:
URL:https://www.worksmartpa.com/event/minute-taking-27/2025-06-05/
LOCATION:Virtual\, On-line\, Virtual\, United Kingdom
CATEGORIES:Courses
END:VEVENT
BEGIN:VEVENT
DTSTART;TZID=UTC:20250605T100000
DTEND;TZID=UTC:20250605T150000
DTSTAMP:20260421T022429
CREATED:20241008T134935Z
LAST-MODIFIED:20241008T134935Z
UID:10009901-1749117600-1749135600@www.worksmartpa.com
SUMMARY:South West Expo Bristol
DESCRIPTION:
URL:https://www.worksmartpa.com/event/south-west-expo-bristol-2/
LOCATION:BAWA Conference Centre\, 589 Southmead Road\, Bristol\, BS34 7RG\, United Kingdom
CATEGORIES:Events
END:VEVENT
BEGIN:VEVENT
DTSTART;TZID=UTC:20250605T093000
DTEND;TZID=UTC:20250605T170000
DTSTAMP:20260421T022429
CREATED:20241220T024334Z
LAST-MODIFIED:20241220T024334Z
UID:10010890-1749115800-1749142800@www.worksmartpa.com
SUMMARY:SpeedWriting Workshop
DESCRIPTION:
URL:https://www.worksmartpa.com/event/speedwriting-workshop-8/2025-06-05/
LOCATION:Pitman Training Glasgow\, First Floor\, 82 Union Street\, Glasgow\, G1 2QS\, United Kingdom
CATEGORIES:Courses
END:VEVENT
BEGIN:VEVENT
DTSTART;TZID=UTC:20250605T090000
DTEND;TZID=UTC:20250606T160000
DTSTAMP:20260421T022429
CREATED:20250514T122700Z
LAST-MODIFIED:20250514T122700Z
UID:10011718-1749114000-1749225600@www.worksmartpa.com
SUMMARY:CEFLIVE25
DESCRIPTION:
URL:https://www.worksmartpa.com/event/ceflive25/
LOCATION:NEC
CATEGORIES:Events
END:VEVENT
BEGIN:VEVENT
DTSTART;TZID=UTC:20250605T090000
DTEND;TZID=UTC:20250605T170000
DTSTAMP:20260421T022429
CREATED:20250316T192239Z
LAST-MODIFIED:20250316T192239Z
UID:10011394-1749114000-1749142800@www.worksmartpa.com
SUMMARY:Role of the EA (Level 3/Level 4) - 2 days
DESCRIPTION:
URL:https://www.worksmartpa.com/event/role-of-the-ea-level-3-level-4-2-days/
LOCATION:Adam Fidler Academy\, Suites Jactin House\, 24 Hood Street\, Manchester\, M4 6WX\, United Kingdom
CATEGORIES:Courses
END:VEVENT
BEGIN:VEVENT
DTSTART;TZID=UTC:20250605T090000
DTEND;TZID=UTC:20250605T170000
DTSTAMP:20260421T022429
CREATED:20250228T005018Z
LAST-MODIFIED:20250228T005018Z
UID:10011256-1749114000-1749142800@www.worksmartpa.com
SUMMARY:Microsoft Word Level 3
DESCRIPTION:
URL:https://www.worksmartpa.com/event/microsoft-word-level-3-4/2025-06-05/
LOCATION:Pitman Training Aberdeen\, 469 Union Street\, Aberdeen\, AB11 6DB\, United Kingdom
CATEGORIES:Courses
END:VEVENT
BEGIN:VEVENT
DTSTART;TZID=UTC:20250605T090000
DTEND;TZID=UTC:20250605T170000
DTSTAMP:20260421T022429
CREATED:20240924T010450Z
LAST-MODIFIED:20240924T010450Z
UID:10009832-1749114000-1749142800@www.worksmartpa.com
SUMMARY:Microsoft Excel Level 3
DESCRIPTION:
URL:https://www.worksmartpa.com/event/microsoft-excel-level-3-5/2025-06-05/
LOCATION:Pitman Training Aberdeen\, 469 Union Street\, Aberdeen\, AB11 6DB\, United Kingdom
CATEGORIES:Courses
END:VEVENT
BEGIN:VEVENT
DTSTART;TZID=UTC:20250604T100000
DTEND;TZID=UTC:20250604T130000
DTSTAMP:20260421T022429
CREATED:20241201T173434Z
LAST-MODIFIED:20241201T173434Z
UID:10010795-1749031200-1749042000@www.worksmartpa.com
SUMMARY:Leading hybrid teams
DESCRIPTION:
URL:https://www.worksmartpa.com/event/leading-hybrid-teams-4/2025-06-04/
LOCATION:Virtual\, On-line\, Virtual\, United Kingdom
CATEGORIES:Courses
END:VEVENT
BEGIN:VEVENT
DTSTART;TZID=UTC:20250604T093000
DTEND;TZID=UTC:20250605T163000
DTSTAMP:20260421T022429
CREATED:20250514T122700Z
LAST-MODIFIED:20250514T122700Z
UID:10011717-1749029400-1749141000@www.worksmartpa.com
SUMMARY:TCT 3Sixty
DESCRIPTION:
URL:https://www.worksmartpa.com/event/tct-3sixty/
LOCATION:NEC
CATEGORIES:Events
END:VEVENT
BEGIN:VEVENT
DTSTART;TZID=UTC:20250604T093000
DTEND;TZID=UTC:20250604T170000
DTSTAMP:20260421T022429
CREATED:20250514T123252Z
LAST-MODIFIED:20250514T123252Z
UID:10011608-1749029400-1749056400@www.worksmartpa.com
SUMMARY:Leadership Skills
DESCRIPTION:
URL:https://www.worksmartpa.com/event/leadership-skills-8/2025-06-04/
LOCATION:Pitman Training Glasgow\, First Floor\, 82 Union Street\, Glasgow\, G1 2QS\, United Kingdom
CATEGORIES:Courses
END:VEVENT
BEGIN:VEVENT
DTSTART;TZID=UTC:20250604T093000
DTEND;TZID=UTC:20250604T170000
DTSTAMP:20260421T022429
CREATED:20241220T024312Z
LAST-MODIFIED:20241220T024312Z
UID:10010923-1749029400-1749056400@www.worksmartpa.com
SUMMARY:Microsoft Project Complete – 2 days
DESCRIPTION:
URL:https://www.worksmartpa.com/event/microsoft-project-complete-2-days-6/2025-06-04/
LOCATION:Pitman Training Edinburgh\, 4 Queen St.\, First Floor\, Buzzer 12\, Edinburgh\, EH2 1JE\, United Kingdom
CATEGORIES:Courses
END:VEVENT
BEGIN:VEVENT
DTSTART;TZID=UTC:20250604T090000
DTEND;TZID=UTC:20250604T170000
DTSTAMP:20260421T022429
CREATED:20250301T021148Z
LAST-MODIFIED:20250301T021148Z
UID:10011284-1749027600-1749056400@www.worksmartpa.com
SUMMARY:Introduction to Social Media
DESCRIPTION:
URL:https://www.worksmartpa.com/event/introduction-to-social-media-4/2025-06-04/
LOCATION:Virtual\, On-line\, Virtual\, United Kingdom
CATEGORIES:Courses
END:VEVENT
BEGIN:VEVENT
DTSTART;TZID=UTC:20250604T090000
DTEND;TZID=UTC:20250604T170000
DTSTAMP:20260421T022429
CREATED:20241108T002855Z
LAST-MODIFIED:20241108T002855Z
UID:10010101-1749027600-1749056400@www.worksmartpa.com
SUMMARY:Executive Support Professional Roadshow
DESCRIPTION:
URL:https://www.worksmartpa.com/event/executive-support-professional-roadshow/
LOCATION:Venue to be confirmed – Leeds\, Awaiting update\, Leeds\, United Kingdom
CATEGORIES:Courses
END:VEVENT
BEGIN:VEVENT
DTSTART;TZID=UTC:20250604T080000
DTEND;TZID=UTC:20250605T170000
DTSTAMP:20260421T022429
CREATED:20250514T122701Z
LAST-MODIFIED:20250514T122701Z
UID:10011715-1749024000-1749142800@www.worksmartpa.com
SUMMARY:Med-Tech Innovation Expo 2025
DESCRIPTION:
URL:https://www.worksmartpa.com/event/med-tech-innovation-expo-2025/
LOCATION:NEC
CATEGORIES:Events
END:VEVENT
BEGIN:VEVENT
DTSTART;TZID=UTC:20250604T080000
DTEND;TZID=UTC:20250605T170000
DTSTAMP:20260421T022429
CREATED:20250514T122701Z
LAST-MODIFIED:20250514T122701Z
UID:10011716-1749024000-1749142800@www.worksmartpa.com
SUMMARY:Smart Manufacturing & Engineering week
DESCRIPTION:
URL:https://www.worksmartpa.com/event/smart-manufacturing-engineering-week/
LOCATION:NEC
CATEGORIES:Events
END:VEVENT
BEGIN:VEVENT
DTSTART;TZID=UTC:20250603T160000
DTEND;TZID=UTC:20250603T193000
DTSTAMP:20260421T022429
CREATED:20250603T081329Z
LAST-MODIFIED:20250603T081329Z
UID:10011740-1748966400-1748979000@www.worksmartpa.com
SUMMARY:Summer Event with Royal Shakespeare Company
DESCRIPTION:
URL:https://www.worksmartpa.com/event/summer-event-with-royal-shakespeare-company/
LOCATION:Arden Hotel\, Chapel Ln\, Waterside Stratford-upon-Avon\, West Midlands\, CV37 6BA
CATEGORIES:Events
END:VEVENT
BEGIN:VEVENT
DTSTART;TZID=UTC:20250603T130000
DTEND;TZID=UTC:20250603T163000
DTSTAMP:20260421T022429
CREATED:20250311T100242Z
LAST-MODIFIED:20250311T100242Z
UID:10011323-1748955600-1748968200@www.worksmartpa.com
SUMMARY:Endorsed PA Course – 2 Days
DESCRIPTION:This 2 day course is delivered online and is split into 4 half days. \nDay 1 – The Assertive Assistant –  3-4 June\, 1.00-4.30pm\nDay 2 – Microsoft Outlook Masterclass – 10-11 June\, 1.00-4.30pm \n 
URL:https://www.worksmartpa.com/event/endorsed-pa-course-2-days-12/
LOCATION:Virtual\, On-line\, Virtual\, United Kingdom
CATEGORIES:Courses
END:VEVENT
BEGIN:VEVENT
DTSTART;TZID=UTC:20250603T130000
DTEND;TZID=UTC:20250603T163000
DTSTAMP:20260421T022429
CREATED:20250311T100240Z
LAST-MODIFIED:20250311T100240Z
UID:10011324-1748955600-1748968200@www.worksmartpa.com
SUMMARY:Endorsed PA Course – 3 Days
DESCRIPTION:This 3 day course is delivered online and is split into 6 half days \nDay 1 – The Assertive Assistant –  3-4 June\, 1.00-4.30pm\nDay 2 –Microsoft Outlook Masterclass – 10-11 June\, 1.00-4.30pm\nDay 3 – Microsoft Word\, PowerPoint and Excel Masterclass – 18-19 June\, 1.00-4.30pm
URL:https://www.worksmartpa.com/event/endorsed-pa-course-3-days-8/
LOCATION:Virtual\, On-line\, Virtual\, United Kingdom
CATEGORIES:Courses
END:VEVENT
BEGIN:VEVENT
DTSTART;TZID=UTC:20250603T130000
DTEND;TZID=UTC:20250603T163000
DTSTAMP:20260421T022429
CREATED:20250311T100239Z
LAST-MODIFIED:20250311T100239Z
UID:10011325-1748955600-1748968200@www.worksmartpa.com
SUMMARY:Endorsed PA Course – 5 Days
DESCRIPTION:Day 1 – The Assertive Assistant –  3-4 June\, 1.00-4.30pm\nDay 2 – Microsoft Outlook Masterclass – 10-11 June\, 1.00-4.30pm\nDay 3 – Microsoft Word\, PowerPoint and Excel Masterclass – 18-19 June\, 1.00-4.30pm\nDay 4 – Intelligent Workflows: The power of ChatGPT\, Copilot\, Forms and Planner – 24-25 June\, 1.00-4.30pm\nDay 5 – Minute Writing made Simple– 1-2 July\, 1.00-4.30pm
URL:https://www.worksmartpa.com/event/endorsed-pa-course-5-days-2/
LOCATION:Virtual\, On-line\, Virtual\, United Kingdom
CATEGORIES:Courses
END:VEVENT
BEGIN:VEVENT
DTSTART;TZID=UTC:20250603T130000
DTEND;TZID=UTC:20250603T163000
DTSTAMP:20260421T022429
CREATED:20250311T100237Z
LAST-MODIFIED:20250311T100237Z
UID:10011326-1748955600-1748968200@www.worksmartpa.com
SUMMARY:The Assertive Assistant
DESCRIPTION:This 1 day course is delivered online and is split into 2 half days. \n3-4 June 2025\, 1.00-4.30pm
URL:https://www.worksmartpa.com/event/the-assertive-assistant-17/
LOCATION:Virtual\, On-line\, Virtual\, United Kingdom
CATEGORIES:Courses
END:VEVENT
BEGIN:VEVENT
DTSTART;TZID=UTC:20250603T120000
DTEND;TZID=UTC:20250603T130000
DTSTAMP:20260421T022429
CREATED:20250411T235623Z
LAST-MODIFIED:20250411T235623Z
UID:10011537-1748952000-1748955600@www.worksmartpa.com
SUMMARY:Internal PA Network Leaders Meeting
DESCRIPTION:
URL:https://www.worksmartpa.com/event/internal-pa-network-leaders-meeting-2/2025-06-03/
LOCATION:Virtual\, On-line\, Virtual\, United Kingdom
CATEGORIES:Courses
END:VEVENT
BEGIN:VEVENT
DTSTART;TZID=UTC:20250603T093000
DTEND;TZID=UTC:20250603T170000
DTSTAMP:20260421T022429
CREATED:20241220T024319Z
LAST-MODIFIED:20241220T024319Z
UID:10010907-1748943000-1748970000@www.worksmartpa.com
SUMMARY:Better Business Writing Skills Workshop
DESCRIPTION:
URL:https://www.worksmartpa.com/event/better-business-writing-skills-workshop-4/2025-06-03/
LOCATION:Pitman Training Edinburgh\, 4 Queen St.\, First Floor\, Buzzer 12\, Edinburgh\, EH2 1JE\, United Kingdom
CATEGORIES:Courses
END:VEVENT
BEGIN:VEVENT
DTSTART;TZID=UTC:20250603T093000
DTEND;TZID=UTC:20250603T163000
DTSTAMP:20260421T022429
CREATED:20250306T020115Z
LAST-MODIFIED:20250306T020115Z
UID:10011293-1748943000-1748968200@www.worksmartpa.com
SUMMARY:Chief of Staff Executive Assistant Masterclass - 2 days
DESCRIPTION:
URL:https://www.worksmartpa.com/event/chief-of-staff-executive-assistant-masterclass-2-days-2/2025-06-03/
LOCATION:Venue to be confirmed – London\, Awaiting update\, London\, United Kingdom
CATEGORIES:Courses
END:VEVENT
BEGIN:VEVENT
DTSTART;TZID=UTC:20250603T090000
DTEND;TZID=UTC:20250603T170000
DTSTAMP:20260421T022429
CREATED:20250228T005028Z
LAST-MODIFIED:20250228T005028Z
UID:10011242-1748941200-1748970000@www.worksmartpa.com
SUMMARY:Microsoft Word Level 2
DESCRIPTION:
URL:https://www.worksmartpa.com/event/microsoft-word-level-2-5/2025-06-03/
LOCATION:Pitman Training Glasgow\, First Floor\, 82 Union Street\, Glasgow\, G1 2QS\, United Kingdom
CATEGORIES:Courses
END:VEVENT
BEGIN:VEVENT
DTSTART;TZID=UTC:20250603T090000
DTEND;TZID=UTC:20250603T170000
DTSTAMP:20260421T022429
CREATED:20241220T024359Z
LAST-MODIFIED:20241220T024359Z
UID:10010863-1748941200-1748970000@www.worksmartpa.com
SUMMARY:EA/PA Advanced Masterclass (2-days)
DESCRIPTION:
URL:https://www.worksmartpa.com/event/ea-pa-advanced-masterclass-2-days-8/2025-06-03/
LOCATION:Pitman Training Stratford E15\, Boardman House\, 64 Broadway\, Stratford\, London\, E15 1NT
CATEGORIES:Courses
END:VEVENT
BEGIN:VEVENT
DTSTART;TZID=UTC:20250603T080000
DTEND;TZID=UTC:20250604T170000
DTSTAMP:20260421T022429
CREATED:20250514T123218Z
LAST-MODIFIED:20250514T123218Z
UID:10011676-1748937600-1749056400@www.worksmartpa.com
SUMMARY:Design in Mental Health 2025
DESCRIPTION:
URL:https://www.worksmartpa.com/event/design-in-mental-health-2025/
LOCATION:Manchester Central Convention Complex\, Windmill St.\, Manchester\, M2 3GX\, United Kingdom
CATEGORIES:Events
END:VEVENT
BEGIN:VEVENT
DTSTART;TZID=UTC:20250602T103000
DTEND;TZID=UTC:20250602T163000
DTSTAMP:20260421T022429
CREATED:20250318T144816Z
LAST-MODIFIED:20250318T144816Z
UID:10011417-1748860200-1748881800@www.worksmartpa.com
SUMMARY:Company Secretary for Assistants Course
DESCRIPTION:
URL:https://www.worksmartpa.com/event/company-secretary-for-assistants-course/2025-06-02/
LOCATION:Virtual\, On-line\, Virtual\, United Kingdom
CATEGORIES:Courses
END:VEVENT
END:VCALENDAR