BEGIN:VCALENDAR
VERSION:2.0
PRODID:-//worksmartpa - ECPv6.15.20//NONSGML v1.0//EN
CALSCALE:GREGORIAN
METHOD:PUBLISH
X-WR-CALNAME:worksmartpa
X-ORIGINAL-URL:https://www.worksmartpa.com
X-WR-CALDESC:Events for worksmartpa
REFRESH-INTERVAL;VALUE=DURATION:PT1H
X-Robots-Tag:noindex
X-PUBLISHED-TTL:PT1H
BEGIN:VTIMEZONE
TZID:UTC
BEGIN:STANDARD
TZOFFSETFROM:+0000
TZOFFSETTO:+0000
TZNAME:UTC
DTSTART:20250101T000000
END:STANDARD
END:VTIMEZONE
BEGIN:VEVENT
DTSTART;VALUE=DATE:20260421
DTEND;VALUE=DATE:20260424
DTSTAMP:20260421T091455
CREATED:20260116T033525Z
LAST-MODIFIED:20260116T033525Z
UID:10012529-1776729600-1776988799@www.worksmartpa.com
SUMMARY:Commercial Vehicle Show
DESCRIPTION:
URL:https://www.worksmartpa.com/event/commercial-vehicle-show-2/
LOCATION:NEC
CATEGORIES:Events
END:VEVENT
BEGIN:VEVENT
DTSTART;TZID=UTC:20260421T100000
DTEND;TZID=UTC:20260421T140000
DTSTAMP:20260421T091455
CREATED:20260311T115254Z
LAST-MODIFIED:20260311T115254Z
UID:10012701-1776765600-1776780000@www.worksmartpa.com
SUMMARY:Tottenham Hotspur Stadium
DESCRIPTION:
URL:https://www.worksmartpa.com/event/tottenham-hotspur-stadium-2/
LOCATION:Tottenham Hotspur\, 782 High Rd\, London\, N17 0BX\,
CATEGORIES:Events
END:VEVENT
BEGIN:VEVENT
DTSTART;TZID=UTC:20260421T120000
DTEND;TZID=UTC:20260421T130000
DTSTAMP:20260421T091455
CREATED:20260311T115531Z
LAST-MODIFIED:20260311T115531Z
UID:10012691-1776772800-1776776400@www.worksmartpa.com
SUMMARY:Meet the Members - Construction\, Housing\, Energy & Utilities
DESCRIPTION:
URL:https://www.worksmartpa.com/event/meet-the-members-construction-housing-energy-utilities/
LOCATION:Virtual\, On-line\, Virtual\, United Kingdom
CATEGORIES:Events
END:VEVENT
BEGIN:VEVENT
DTSTART;TZID=UTC:20260421T180000
DTEND;TZID=UTC:20260421T200000
DTSTAMP:20260421T091455
CREATED:20260311T115501Z
LAST-MODIFIED:20260311T115501Z
UID:10012707-1776794400-1776801600@www.worksmartpa.com
SUMMARY:Wellness Evening with Antipodes - Apex City of London
DESCRIPTION:
URL:https://www.worksmartpa.com/event/wellness-evening-with-antipodes-apex-city-of-london/
LOCATION:Apex City of London\, 1 Seething Lane\, London\, EC3N 4AX\, United Kingdom
CATEGORIES:Events
END:VEVENT
END:VCALENDAR