BEGIN:VCALENDAR
VERSION:2.0
PRODID:-//worksmartpa - ECPv6.15.20//NONSGML v1.0//EN
CALSCALE:GREGORIAN
METHOD:PUBLISH
X-WR-CALNAME:worksmartpa
X-ORIGINAL-URL:https://www.worksmartpa.com
X-WR-CALDESC:Events for worksmartpa
REFRESH-INTERVAL;VALUE=DURATION:PT1H
X-Robots-Tag:noindex
X-PUBLISHED-TTL:PT1H
BEGIN:VTIMEZONE
TZID:UTC
BEGIN:STANDARD
TZOFFSETFROM:+0000
TZOFFSETTO:+0000
TZNAME:UTC
DTSTART:20250101T000000
END:STANDARD
END:VTIMEZONE
BEGIN:VEVENT
DTSTART;TZID=UTC:20260416T090000
DTEND;TZID=UTC:20260416T170000
DTSTAMP:20260420T152737
CREATED:20260112T013653Z
LAST-MODIFIED:20260112T013653Z
UID:10012401-1776330000-1776358800@www.worksmartpa.com
SUMMARY:The Strategic Executive Assistant - Level 4 (2 days)
DESCRIPTION:
URL:https://www.worksmartpa.com/event/the-strategic-executive-assistant-level-4-2-days-13/2026-04-16/
LOCATION:Adam Fidler Academy\, Suites Jactin House\, 24 Hood Street\, Manchester\, M4 6WX\, United Kingdom
CATEGORIES:Courses
END:VEVENT
BEGIN:VEVENT
DTSTART;TZID=UTC:20260416T100000
DTEND;TZID=UTC:20260416T130000
DTSTAMP:20260420T152737
CREATED:20260112T013035Z
LAST-MODIFIED:20260112T013035Z
UID:10012438-1776333600-1776344400@www.worksmartpa.com
SUMMARY:Introduction to Management
DESCRIPTION:
URL:https://www.worksmartpa.com/event/introduction-to-management-6/2026-04-16/
LOCATION:Virtual\, On-line\, Virtual\, United Kingdom
CATEGORIES:Courses
END:VEVENT
BEGIN:VEVENT
DTSTART;TZID=UTC:20260416T120000
DTEND;TZID=UTC:20260416T130000
DTSTAMP:20260420T152737
CREATED:20260311T115528Z
LAST-MODIFIED:20260311T115528Z
UID:10012685-1776340800-1776344400@www.worksmartpa.com
SUMMARY:Getting Started with Copilot Chat (Free) version
DESCRIPTION:
URL:https://www.worksmartpa.com/event/getting-started-with-copilot-chat-free-version/
LOCATION:Virtual\, On-line\, Virtual\, United Kingdom
CATEGORIES:Courses
END:VEVENT
BEGIN:VEVENT
DTSTART;TZID=UTC:20260416T120000
DTEND;TZID=UTC:20260416T130000
DTSTAMP:20260420T152737
CREATED:20260311T115620Z
LAST-MODIFIED:20260311T115620Z
UID:10012682-1776340800-1776344400@www.worksmartpa.com
SUMMARY:Getting Started with Copilot Chat
DESCRIPTION:Free session
URL:https://www.worksmartpa.com/event/getting-started-with-copilot-chat/
LOCATION:Virtual\, On-line\, Virtual\, United Kingdom
CATEGORIES:Courses
END:VEVENT
END:VCALENDAR