BEGIN:VCALENDAR
VERSION:2.0
PRODID:-//worksmartpa - ECPv6.15.20//NONSGML v1.0//EN
CALSCALE:GREGORIAN
METHOD:PUBLISH
X-ORIGINAL-URL:https://www.worksmartpa.com
X-WR-CALDESC:Events for worksmartpa
REFRESH-INTERVAL;VALUE=DURATION:PT1H
X-Robots-Tag:noindex
X-PUBLISHED-TTL:PT1H
BEGIN:VTIMEZONE
TZID:UTC
BEGIN:STANDARD
TZOFFSETFROM:+0000
TZOFFSETTO:+0000
TZNAME:UTC
DTSTART:20240101T000000
END:STANDARD
END:VTIMEZONE
BEGIN:VEVENT
DTSTART;TZID=UTC:20251103T090000
DTEND;TZID=UTC:20251103T170000
DTSTAMP:20260419T140755
CREATED:20250813T105941Z
LAST-MODIFIED:20250813T105941Z
UID:10011883-1762160400-1762189200@www.worksmartpa.com
SUMMARY:Get Ahead as an Executive PA (Level 3) - 2 days
DESCRIPTION:
URL:https://www.worksmartpa.com/event/get-ahead-as-an-executive-pa-level-3-2-days-5/2025-11-03/
LOCATION:Adam Fidler Academy\, Suites Jactin House\, 24 Hood Street\, Manchester\, M4 6WX\, United Kingdom
CATEGORIES:Courses
END:VEVENT
BEGIN:VEVENT
DTSTART;TZID=UTC:20251103T100000
DTEND;TZID=UTC:20251109T180000
DTSTAMP:20260419T140755
CREATED:20250906T131113Z
LAST-MODIFIED:20250906T131113Z
UID:10012146-1762164000-1762711200@www.worksmartpa.com
SUMMARY:Spirit of Christmas Fair
DESCRIPTION:
URL:https://www.worksmartpa.com/event/spirit-of-christmas-fair/
LOCATION:Olympia\, Hammersmith Rd\, London\, W14 8UX\, United Kingdom
CATEGORIES:Events
END:VEVENT
BEGIN:VEVENT
DTSTART;TZID=UTC:20251103T140000
DTEND;TZID=UTC:20251103T170000
DTSTAMP:20260419T140755
CREATED:20250314T015003Z
LAST-MODIFIED:20250314T015003Z
UID:10011369-1762178400-1762189200@www.worksmartpa.com
SUMMARY:Advanced Management Skills – 2 days
DESCRIPTION:
URL:https://www.worksmartpa.com/event/advanced-management-skills-2-days-3/2025-11-03/
LOCATION:Virtual\, On-line\, Virtual\, United Kingdom
CATEGORIES:Courses
END:VEVENT
END:VCALENDAR