BEGIN:VCALENDAR
VERSION:2.0
PRODID:-//worksmartpa - ECPv6.15.20//NONSGML v1.0//EN
CALSCALE:GREGORIAN
METHOD:PUBLISH
X-WR-CALNAME:worksmartpa
X-ORIGINAL-URL:https://www.worksmartpa.com
X-WR-CALDESC:Events for worksmartpa
REFRESH-INTERVAL;VALUE=DURATION:PT1H
X-Robots-Tag:noindex
X-PUBLISHED-TTL:PT1H
BEGIN:VTIMEZONE
TZID:UTC
BEGIN:STANDARD
TZOFFSETFROM:+0000
TZOFFSETTO:+0000
TZNAME:UTC
DTSTART:20240101T000000
END:STANDARD
END:VTIMEZONE
BEGIN:VEVENT
DTSTART;TZID=UTC:20251024T090000
DTEND;TZID=UTC:20251024T170000
DTSTAMP:20260420T152737
CREATED:20250228T005015Z
LAST-MODIFIED:20250228T005015Z
UID:10011260-1761296400-1761325200@www.worksmartpa.com
SUMMARY:Conflict Management
DESCRIPTION:
URL:https://www.worksmartpa.com/event/conflict-management-3/2025-10-24/
LOCATION:Pitman Training Aberdeen\, 469 Union Street\, Aberdeen\, AB11 6DB\, United Kingdom
CATEGORIES:Courses
END:VEVENT
BEGIN:VEVENT
DTSTART;TZID=UTC:20251024T093000
DTEND;TZID=UTC:20251024T170000
DTSTAMP:20260420T152738
CREATED:20250514T123249Z
LAST-MODIFIED:20250514T123249Z
UID:10011624-1761298200-1761325200@www.worksmartpa.com
SUMMARY:Microsoft Project Level 2
DESCRIPTION:
URL:https://www.worksmartpa.com/event/microsoft-project-level-2-3/2025-10-24/
LOCATION:Pitman Training Glasgow\, First Floor\, 82 Union Street\, Glasgow\, G1 2QS\, United Kingdom
CATEGORIES:Courses
END:VEVENT
BEGIN:VEVENT
DTSTART;TZID=UTC:20251024T100000
DTEND;TZID=UTC:20251024T130000
DTSTAMP:20260420T152738
CREATED:20250915T221653Z
LAST-MODIFIED:20250915T221653Z
UID:10012175-1761300000-1761310800@www.worksmartpa.com
SUMMARY:ChatGPT Masterclass
DESCRIPTION:
URL:https://www.worksmartpa.com/event/chatgpt-masterclass/
LOCATION:Virtual\, On-line\, Virtual\, United Kingdom
CATEGORIES:Courses
END:VEVENT
BEGIN:VEVENT
DTSTART;TZID=UTC:20251024T123000
DTEND;TZID=UTC:20251024T133000
DTSTAMP:20260420T152738
CREATED:20250813T105945Z
LAST-MODIFIED:20250813T105945Z
UID:10011880-1761309000-1761312600@www.worksmartpa.com
SUMMARY:GDPR & AI Essentials
DESCRIPTION:
URL:https://www.worksmartpa.com/event/gdpr-ai-essentials/
LOCATION:Virtual\, On-line\, Virtual\, United Kingdom
CATEGORIES:Courses
END:VEVENT
END:VCALENDAR